BEGIN:VCALENDAR
VERSION:2.0
PRODID:-//Homer Middle School - ECPv6.8.2//NONSGML v1.0//EN
CALSCALE:GREGORIAN
METHOD:PUBLISH
X-WR-CALNAME:Homer Middle School
X-ORIGINAL-URL:https://kpbsd.org/schools/homer-middle
X-WR-CALDESC:Events for Homer Middle School
REFRESH-INTERVAL;VALUE=DURATION:PT1H
X-Robots-Tag:noindex
X-PUBLISHED-TTL:PT1H
BEGIN:VTIMEZONE
TZID:America/Anchorage
BEGIN:DAYLIGHT
TZOFFSETFROM:-0900
TZOFFSETTO:-0800
TZNAME:AKDT
DTSTART:20240310T110000
END:DAYLIGHT
BEGIN:STANDARD
TZOFFSETFROM:-0800
TZOFFSETTO:-0900
TZNAME:AKST
DTSTART:20241103T100000
END:STANDARD
END:VTIMEZONE
BEGIN:VEVENT
DTSTART;VALUE=DATE:20241219
DTEND;VALUE=DATE:20241220
DTSTAMP:20260423T044035
CREATED:20241127T050757Z
LAST-MODIFIED:20241219T083447Z
UID:10351-1734566400-1734652799@kpbsd.org
SUMMARY:Candy Cane Day (Wear Red and White)
DESCRIPTION:
URL:https://kpbsd.org/schools/homer-middle/event/candy-cane-day-wear-red-and-white/
END:VEVENT
BEGIN:VEVENT
DTSTART;TZID=America/Anchorage:20241219T160000
DTEND;TZID=America/Anchorage:20241219T170000
DTSTAMP:20260423T044035
CREATED:20241008T080611Z
LAST-MODIFIED:20241219T083447Z
UID:7579-1734624000-1734627600@kpbsd.org
SUMMARY:After School Study hall
DESCRIPTION:
URL:https://kpbsd.org/schools/homer-middle/event/after-school-study-hall-39/
END:VEVENT
END:VCALENDAR