BEGIN:VCALENDAR
VERSION:2.0
PRODID:-//Homer Middle School - ECPv6.8.2//NONSGML v1.0//EN
CALSCALE:GREGORIAN
METHOD:PUBLISH
X-WR-CALNAME:Homer Middle School
X-ORIGINAL-URL:https://kpbsd.org/schools/homer-middle
X-WR-CALDESC:Events for Homer Middle School
REFRESH-INTERVAL;VALUE=DURATION:PT1H
X-Robots-Tag:noindex
X-PUBLISHED-TTL:PT1H
BEGIN:VTIMEZONE
TZID:America/Anchorage
BEGIN:DAYLIGHT
TZOFFSETFROM:-0900
TZOFFSETTO:-0800
TZNAME:AKDT
DTSTART:20240310T110000
END:DAYLIGHT
BEGIN:STANDARD
TZOFFSETFROM:-0800
TZOFFSETTO:-0900
TZNAME:AKST
DTSTART:20241103T100000
END:STANDARD
END:VTIMEZONE
BEGIN:VEVENT
DTSTART;VALUE=DATE:20241223
DTEND;VALUE=DATE:20241228
DTSTAMP:20260420T144314
CREATED:20240530T172329Z
LAST-MODIFIED:20241227T104539Z
UID:6272-1734912000-1735343999@kpbsd.org
SUMMARY:Winter Holiday Break- No School
DESCRIPTION:
URL:https://kpbsd.org/schools/homer-middle/event/winter-holiday-break-no-school/
END:VEVENT
BEGIN:VEVENT
DTSTART;TZID=America/Anchorage:20241224T080000
DTEND;TZID=America/Anchorage:20241224T090000
DTSTAMP:20260420T144314
CREATED:20241013T085501Z
LAST-MODIFIED:20241013T085501Z
UID:8255-1735027200-1735030800@kpbsd.org
SUMMARY:Student council meeting
DESCRIPTION:
URL:https://kpbsd.org/schools/homer-middle/event/student-council-meeting-11/
LOCATION:principal’s office
END:VEVENT
BEGIN:VEVENT
DTSTART;TZID=America/Anchorage:20241224T160000
DTEND;TZID=America/Anchorage:20241224T170000
DTSTAMP:20260420T144314
CREATED:20241008T080612Z
LAST-MODIFIED:20241013T085501Z
UID:7585-1735056000-1735059600@kpbsd.org
SUMMARY:After School Study hall
DESCRIPTION:
URL:https://kpbsd.org/schools/homer-middle/event/after-school-study-hall-41/
END:VEVENT
END:VCALENDAR