BEGIN:VCALENDAR
VERSION:2.0
PRODID:-//Homer Middle School - ECPv6.8.2//NONSGML v1.0//EN
CALSCALE:GREGORIAN
METHOD:PUBLISH
X-WR-CALNAME:Homer Middle School
X-ORIGINAL-URL:https://kpbsd.org/schools/homer-middle
X-WR-CALDESC:Events for Homer Middle School
REFRESH-INTERVAL;VALUE=DURATION:PT1H
X-Robots-Tag:noindex
X-PUBLISHED-TTL:PT1H
BEGIN:VTIMEZONE
TZID:America/Anchorage
BEGIN:DAYLIGHT
TZOFFSETFROM:-0900
TZOFFSETTO:-0800
TZNAME:AKDT
DTSTART:20240310T110000
END:DAYLIGHT
BEGIN:STANDARD
TZOFFSETFROM:-0800
TZOFFSETTO:-0900
TZNAME:AKST
DTSTART:20241103T100000
END:STANDARD
END:VTIMEZONE
BEGIN:VEVENT
DTSTART;VALUE=DATE:20241223
DTEND;VALUE=DATE:20241228
DTSTAMP:20260421T165950
CREATED:20240530T172329Z
LAST-MODIFIED:20241227T104539Z
UID:6272-1734912000-1735343999@kpbsd.org
SUMMARY:Winter Holiday Break- No School
DESCRIPTION:
URL:https://kpbsd.org/schools/homer-middle/event/winter-holiday-break-no-school/
END:VEVENT
BEGIN:VEVENT
DTSTART;TZID=America/Anchorage:20241225T124000
DTEND;TZID=America/Anchorage:20241225T132000
DTSTAMP:20260421T165950
CREATED:20241013T085502Z
LAST-MODIFIED:20241013T085502Z
UID:8258-1735130400-1735132800@kpbsd.org
SUMMARY:Battle of the Books Practice
DESCRIPTION:
URL:https://kpbsd.org/schools/homer-middle/event/battle-of-the-books-practice-11/
LOCATION:library
END:VEVENT
BEGIN:VEVENT
DTSTART;TZID=America/Anchorage:20241225T124000
DTEND;TZID=America/Anchorage:20241225T132000
DTSTAMP:20260421T165950
CREATED:20241022T101217Z
LAST-MODIFIED:20241120T040319Z
UID:8883-1735130400-1735132800@kpbsd.org
SUMMARY:Chess Club
DESCRIPTION:
URL:https://kpbsd.org/schools/homer-middle/event/chess-club-7/
LOCATION:Room 303
END:VEVENT
BEGIN:VEVENT
DTSTART;TZID=America/Anchorage:20241225T160000
DTEND;TZID=America/Anchorage:20241225T170000
DTSTAMP:20260421T165950
CREATED:20241008T080612Z
LAST-MODIFIED:20241013T085502Z
UID:7588-1735142400-1735146000@kpbsd.org
SUMMARY:After School Study hall
DESCRIPTION:
URL:https://kpbsd.org/schools/homer-middle/event/after-school-study-hall-42/
END:VEVENT
END:VCALENDAR