BEGIN:VCALENDAR
VERSION:2.0
PRODID:-//Homer Middle School - ECPv6.8.2//NONSGML v1.0//EN
CALSCALE:GREGORIAN
METHOD:PUBLISH
X-ORIGINAL-URL:https://kpbsd.org/schools/homer-middle
X-WR-CALDESC:Events for Homer Middle School
REFRESH-INTERVAL;VALUE=DURATION:PT1H
X-Robots-Tag:noindex
X-PUBLISHED-TTL:PT1H
BEGIN:VTIMEZONE
TZID:America/Anchorage
BEGIN:DAYLIGHT
TZOFFSETFROM:-0900
TZOFFSETTO:-0800
TZNAME:AKDT
DTSTART:20250309T110000
END:DAYLIGHT
BEGIN:STANDARD
TZOFFSETFROM:-0800
TZOFFSETTO:-0900
TZNAME:AKST
DTSTART:20251102T100000
END:STANDARD
END:VTIMEZONE
BEGIN:VEVENT
DTSTART;TZID=America/Anchorage:20250113T160000
DTEND;TZID=America/Anchorage:20250113T170000
DTSTAMP:20260419T211949
CREATED:20241008T080618Z
LAST-MODIFIED:20250113T124817Z
UID:7633-1736784000-1736787600@kpbsd.org
SUMMARY:After School Study hall
DESCRIPTION:
URL:https://kpbsd.org/schools/homer-middle/event/after-school-study-hall-52/
END:VEVENT
BEGIN:VEVENT
DTSTART;TZID=America/Anchorage:20250113T174500
DTEND;TZID=America/Anchorage:20250113T181500
DTSTAMP:20260419T211949
CREATED:20250110T122513Z
LAST-MODIFIED:20250113T124818Z
UID:10796-1736790300-1736792100@kpbsd.org
SUMMARY:Volleyball parent meeting
DESCRIPTION:
URL:https://kpbsd.org/schools/homer-middle/event/volleyball-parent-meeting/
LOCATION:library
END:VEVENT
END:VCALENDAR