BEGIN:VCALENDAR
VERSION:2.0
PRODID:-//Homer Middle School - ECPv6.8.2//NONSGML v1.0//EN
CALSCALE:GREGORIAN
METHOD:PUBLISH
X-ORIGINAL-URL:https://kpbsd.org/schools/homer-middle
X-WR-CALDESC:Events for Homer Middle School
REFRESH-INTERVAL;VALUE=DURATION:PT1H
X-Robots-Tag:noindex
X-PUBLISHED-TTL:PT1H
BEGIN:VTIMEZONE
TZID:America/Anchorage
BEGIN:DAYLIGHT
TZOFFSETFROM:-0900
TZOFFSETTO:-0800
TZNAME:AKDT
DTSTART:20250309T110000
END:DAYLIGHT
BEGIN:STANDARD
TZOFFSETFROM:-0800
TZOFFSETTO:-0900
TZNAME:AKST
DTSTART:20251102T100000
END:STANDARD
END:VTIMEZONE
BEGIN:VEVENT
DTSTART;TZID=America/Anchorage:20250114T080000
DTEND;TZID=America/Anchorage:20250114T090000
DTSTAMP:20260420T045337
CREATED:20241013T085505Z
LAST-MODIFIED:20241028T111903Z
UID:8276-1736841600-1736845200@kpbsd.org
SUMMARY:Student council meeting
DESCRIPTION:
URL:https://kpbsd.org/schools/homer-middle/event/student-council-meeting-14/
LOCATION:principal’s office
END:VEVENT
BEGIN:VEVENT
DTSTART;TZID=America/Anchorage:20250114T124000
DTEND;TZID=America/Anchorage:20250114T132000
DTSTAMP:20260420T045337
CREATED:20250109T121900Z
LAST-MODIFIED:20250114T130755Z
UID:10771-1736858400-1736860800@kpbsd.org
SUMMARY:Spelling Bee practice session
DESCRIPTION:
URL:https://kpbsd.org/schools/homer-middle/event/spelling-bee-practice-session-2/
LOCATION:Room 303
END:VEVENT
BEGIN:VEVENT
DTSTART;TZID=America/Anchorage:20250114T145000
DTEND;TZID=America/Anchorage:20250114T155000
DTSTAMP:20260420T045337
CREATED:20240530T172331Z
LAST-MODIFIED:20250114T130755Z
UID:6296-1736866200-1736869800@kpbsd.org
SUMMARY:Quarter 2 Awards Assembly
DESCRIPTION:
URL:https://kpbsd.org/schools/homer-middle/event/quarter-2-awards-assembly/
END:VEVENT
BEGIN:VEVENT
DTSTART;TZID=America/Anchorage:20250114T160000
DTEND;TZID=America/Anchorage:20250114T170000
DTSTAMP:20260420T045337
CREATED:20241008T080619Z
LAST-MODIFIED:20250114T130755Z
UID:7636-1736870400-1736874000@kpbsd.org
SUMMARY:After School Study hall
DESCRIPTION:
URL:https://kpbsd.org/schools/homer-middle/event/after-school-study-hall-53/
END:VEVENT
BEGIN:VEVENT
DTSTART;TZID=America/Anchorage:20250114T160000
DTEND;TZID=America/Anchorage:20250114T170000
DTSTAMP:20260420T045337
CREATED:20241121T040510Z
LAST-MODIFIED:20250114T130755Z
UID:10313-1736870400-1736874000@kpbsd.org
SUMMARY:Site Council Meeting
DESCRIPTION:
URL:https://kpbsd.org/schools/homer-middle/event/site-council-meeting-3/
END:VEVENT
END:VCALENDAR