BEGIN:VCALENDAR
VERSION:2.0
PRODID:-//Homer Middle School - ECPv6.8.2//NONSGML v1.0//EN
CALSCALE:GREGORIAN
METHOD:PUBLISH
X-WR-CALNAME:Homer Middle School
X-ORIGINAL-URL:https://kpbsd.org/schools/homer-middle
X-WR-CALDESC:Events for Homer Middle School
REFRESH-INTERVAL;VALUE=DURATION:PT1H
X-Robots-Tag:noindex
X-PUBLISHED-TTL:PT1H
BEGIN:VTIMEZONE
TZID:America/Anchorage
BEGIN:DAYLIGHT
TZOFFSETFROM:-0900
TZOFFSETTO:-0800
TZNAME:AKDT
DTSTART:20250309T110000
END:DAYLIGHT
BEGIN:STANDARD
TZOFFSETFROM:-0800
TZOFFSETTO:-0900
TZNAME:AKST
DTSTART:20251102T100000
END:STANDARD
END:VTIMEZONE
BEGIN:VEVENT
DTSTART;TZID=America/Anchorage:20250219T124000
DTEND;TZID=America/Anchorage:20250219T132000
DTSTAMP:20260419T231933
CREATED:20241013T085514Z
LAST-MODIFIED:20250210T152343Z
UID:8309-1739968800-1739971200@kpbsd.org
SUMMARY:Battle of the Books Practice
DESCRIPTION:
URL:https://kpbsd.org/schools/homer-middle/event/battle-of-the-books-practice-19/
LOCATION:library
END:VEVENT
BEGIN:VEVENT
DTSTART;TZID=America/Anchorage:20250219T124000
DTEND;TZID=America/Anchorage:20250219T132000
DTSTAMP:20260419T231933
CREATED:20241022T101231Z
LAST-MODIFIED:20250212T155352Z
UID:8930-1739968800-1739971200@kpbsd.org
SUMMARY:Chess Club
DESCRIPTION:
URL:https://kpbsd.org/schools/homer-middle/event/chess-club-15/
LOCATION:Room 303
END:VEVENT
BEGIN:VEVENT
DTSTART;TZID=America/Anchorage:20250219T160000
DTEND;TZID=America/Anchorage:20250219T170000
DTSTAMP:20260419T231933
CREATED:20241008T080629Z
LAST-MODIFIED:20250219T161838Z
UID:7699-1739980800-1739984400@kpbsd.org
SUMMARY:After School Study hall
DESCRIPTION:
URL:https://kpbsd.org/schools/homer-middle/event/after-school-study-hall-74/
END:VEVENT
BEGIN:VEVENT
DTSTART;TZID=America/Anchorage:20250219T160000
DTEND;TZID=America/Anchorage:20250219T180000
DTSTAMP:20260419T231933
CREATED:20241220T091426Z
LAST-MODIFIED:20250219T161839Z
UID:10681-1739980800-1739988000@kpbsd.org
SUMMARY:Volleyball game @ HOME vs. Ninilchik
DESCRIPTION:
URL:https://kpbsd.org/schools/homer-middle/event/volleyball-game-home-vs-ninilchik/
END:VEVENT
END:VCALENDAR