BEGIN:VCALENDAR
VERSION:2.0
PRODID:-//Homer Middle School - ECPv6.8.2//NONSGML v1.0//EN
CALSCALE:GREGORIAN
METHOD:PUBLISH
X-WR-CALNAME:Homer Middle School
X-ORIGINAL-URL:https://kpbsd.org/schools/homer-middle
X-WR-CALDESC:Events for Homer Middle School
REFRESH-INTERVAL;VALUE=DURATION:PT1H
X-Robots-Tag:noindex
X-PUBLISHED-TTL:PT1H
BEGIN:VTIMEZONE
TZID:America/Anchorage
BEGIN:DAYLIGHT
TZOFFSETFROM:-0900
TZOFFSETTO:-0800
TZNAME:AKDT
DTSTART:20260308T110000
END:DAYLIGHT
BEGIN:STANDARD
TZOFFSETFROM:-0800
TZOFFSETTO:-0900
TZNAME:AKST
DTSTART:20261101T100000
END:STANDARD
END:VTIMEZONE
BEGIN:VEVENT
DTSTART;VALUE=DATE:20260421
DTEND;VALUE=DATE:20260422
DTSTAMP:20260425T040335
CREATED:20250605T073522Z
LAST-MODIFIED:20260421T140317Z
UID:13800-1776729600-1776815999@kpbsd.org
SUMMARY:Mid-Quarter Progress Reports Emailed Home
DESCRIPTION:
URL:https://kpbsd.org/schools/homer-middle/event/mid-quarter-progress-reports-emailed-home-4/
END:VEVENT
BEGIN:VEVENT
DTSTART;TZID=America/Anchorage:20260421T115400
DTEND;TZID=America/Anchorage:20260421T122900
DTSTAMP:20260425T040335
CREATED:20250920T203538Z
LAST-MODIFIED:20260421T140316Z
UID:16651-1776772440-1776774540@kpbsd.org
SUMMARY:Student Council Meeting
DESCRIPTION:
URL:https://kpbsd.org/schools/homer-middle/event/student-council-meeting-69/
LOCATION:Room 205
END:VEVENT
BEGIN:VEVENT
DTSTART;TZID=America/Anchorage:20260421T140000
DTEND;TZID=America/Anchorage:20260421T160000
DTSTAMP:20260425T040335
CREATED:20260403T010514Z
LAST-MODIFIED:20260421T140317Z
UID:18980-1776780000-1776787200@kpbsd.org
SUMMARY:Parent Step Up Day 1
DESCRIPTION:
URL:https://kpbsd.org/schools/homer-middle/event/parent-step-up-day-1/
END:VEVENT
BEGIN:VEVENT
DTSTART;TZID=America/Anchorage:20260421T160000
DTEND;TZID=America/Anchorage:20260421T170000
DTSTAMP:20260425T040335
CREATED:20260105T200824Z
LAST-MODIFIED:20260422T005158Z
UID:17668-1776787200-1776790800@kpbsd.org
SUMMARY:After School Tutoring
DESCRIPTION:
URL:https://kpbsd.org/schools/homer-middle/event/after-school-tutoring-58/
LOCATION:Ms. Hope’s Room
END:VEVENT
END:VCALENDAR