BEGIN:VCALENDAR
VERSION:2.0
PRODID:-//Homer Middle School - ECPv6.8.2//NONSGML v1.0//EN
CALSCALE:GREGORIAN
METHOD:PUBLISH
X-WR-CALNAME:Homer Middle School
X-ORIGINAL-URL:https://kpbsd.org/schools/homer-middle
X-WR-CALDESC:Events for Homer Middle School
REFRESH-INTERVAL;VALUE=DURATION:PT1H
X-Robots-Tag:noindex
X-PUBLISHED-TTL:PT1H
BEGIN:VTIMEZONE
TZID:America/Anchorage
BEGIN:DAYLIGHT
TZOFFSETFROM:-0900
TZOFFSETTO:-0800
TZNAME:AKDT
DTSTART:20250309T110000
END:DAYLIGHT
BEGIN:STANDARD
TZOFFSETFROM:-0800
TZOFFSETTO:-0900
TZNAME:AKST
DTSTART:20251102T100000
END:STANDARD
END:VTIMEZONE
BEGIN:VEVENT
DTSTART;VALUE=DATE:20250127
DTEND;VALUE=DATE:20250128
DTSTAMP:20260419T172450
CREATED:20240530T172332Z
LAST-MODIFIED:20250127T143439Z
UID:6311-1737936000-1738022399@kpbsd.org
SUMMARY:Volleyball Practice Begins
DESCRIPTION:Students must have paperwork and $60 fee turned in to the office to be able to participate in practice.
URL:https://kpbsd.org/schools/homer-middle/event/volleyball-practice-begins/
END:VEVENT
BEGIN:VEVENT
DTSTART;TZID=America/Anchorage:20250127T160000
DTEND;TZID=America/Anchorage:20250127T170000
DTSTAMP:20260419T172450
CREATED:20241008T080622Z
LAST-MODIFIED:20250127T143439Z
UID:7657-1737993600-1737997200@kpbsd.org
SUMMARY:After School Study hall
DESCRIPTION:
URL:https://kpbsd.org/schools/homer-middle/event/after-school-study-hall-60/
END:VEVENT
BEGIN:VEVENT
DTSTART;TZID=America/Anchorage:20250128T080000
DTEND;TZID=America/Anchorage:20250128T090000
DTSTAMP:20260419T172450
CREATED:20241013T085509Z
LAST-MODIFIED:20241028T111906Z
UID:8288-1738051200-1738054800@kpbsd.org
SUMMARY:Student council meeting
DESCRIPTION:
URL:https://kpbsd.org/schools/homer-middle/event/student-council-meeting-16/
LOCATION:principal’s office
END:VEVENT
BEGIN:VEVENT
DTSTART;TZID=America/Anchorage:20250128T124000
DTEND;TZID=America/Anchorage:20250128T132000
DTSTAMP:20260419T172450
CREATED:20250109T121905Z
LAST-MODIFIED:20250128T144640Z
UID:10783-1738068000-1738070400@kpbsd.org
SUMMARY:Spelling Bee practice session
DESCRIPTION:
URL:https://kpbsd.org/schools/homer-middle/event/spelling-bee-practice-session-6/
LOCATION:Room 303
END:VEVENT
BEGIN:VEVENT
DTSTART;TZID=America/Anchorage:20250128T160000
DTEND;TZID=America/Anchorage:20250128T170000
DTSTAMP:20260419T172450
CREATED:20241008T080622Z
LAST-MODIFIED:20250128T144640Z
UID:7660-1738080000-1738083600@kpbsd.org
SUMMARY:After School Study hall
DESCRIPTION:
URL:https://kpbsd.org/schools/homer-middle/event/after-school-study-hall-61/
END:VEVENT
BEGIN:VEVENT
DTSTART;TZID=America/Anchorage:20250128T173000
DTEND;TZID=America/Anchorage:20250128T183000
DTSTAMP:20260419T172450
CREATED:20250107T120328Z
LAST-MODIFIED:20250128T144640Z
UID:10733-1738085400-1738089000@kpbsd.org
SUMMARY:AKtoDC 2026 Meeting
DESCRIPTION:
URL:https://kpbsd.org/schools/homer-middle/event/aktodc-2026-meeting/
LOCATION:library
END:VEVENT
BEGIN:VEVENT
DTSTART;TZID=America/Anchorage:20250129T124000
DTEND;TZID=America/Anchorage:20250129T132000
DTSTAMP:20260419T172450
CREATED:20241013T085509Z
LAST-MODIFIED:20250129T144813Z
UID:8291-1738154400-1738156800@kpbsd.org
SUMMARY:Battle of the Books Practice
DESCRIPTION:
URL:https://kpbsd.org/schools/homer-middle/event/battle-of-the-books-practice-16/
LOCATION:library
END:VEVENT
BEGIN:VEVENT
DTSTART;TZID=America/Anchorage:20250129T124000
DTEND;TZID=America/Anchorage:20250129T132000
DTSTAMP:20260419T172450
CREATED:20241022T101225Z
LAST-MODIFIED:20250129T144813Z
UID:8909-1738154400-1738156800@kpbsd.org
SUMMARY:Chess Club
DESCRIPTION:
URL:https://kpbsd.org/schools/homer-middle/event/chess-club-12/
LOCATION:Room 303
END:VEVENT
BEGIN:VEVENT
DTSTART;TZID=America/Anchorage:20250129T160000
DTEND;TZID=America/Anchorage:20250129T170000
DTSTAMP:20260419T172450
CREATED:20241008T080622Z
LAST-MODIFIED:20250129T144813Z
UID:7663-1738166400-1738170000@kpbsd.org
SUMMARY:After School Study hall
DESCRIPTION:
URL:https://kpbsd.org/schools/homer-middle/event/after-school-study-hall-62/
END:VEVENT
BEGIN:VEVENT
DTSTART;TZID=America/Anchorage:20250129T163000
DTEND;TZID=America/Anchorage:20250129T183000
DTSTAMP:20260419T172450
CREATED:20241220T091420Z
LAST-MODIFIED:20250129T144813Z
UID:10663-1738168200-1738175400@kpbsd.org
SUMMARY:Volleyball Game @ Chapman (B and C teams)
DESCRIPTION:bus departs at 3:45 pm
URL:https://kpbsd.org/schools/homer-middle/event/volleyball-game-chapman-b-and-c-teams/
END:VEVENT
BEGIN:VEVENT
DTSTART;TZID=America/Anchorage:20250130T160000
DTEND;TZID=America/Anchorage:20250130T170000
DTSTAMP:20260419T172450
CREATED:20241008T080622Z
LAST-MODIFIED:20250130T144826Z
UID:7666-1738252800-1738256400@kpbsd.org
SUMMARY:After School Study hall
DESCRIPTION:
URL:https://kpbsd.org/schools/homer-middle/event/after-school-study-hall-63/
END:VEVENT
BEGIN:VEVENT
DTSTART;TZID=America/Anchorage:20250131T150000
DTEND;TZID=America/Anchorage:20250131T180000
DTSTAMP:20260419T172450
CREATED:20240530T172332Z
LAST-MODIFIED:20250131T145144Z
UID:6314-1738335600-1738346400@kpbsd.org
SUMMARY:Nordic Ski @ Seward
DESCRIPTION:Bus departs at 10 am.
URL:https://kpbsd.org/schools/homer-middle/event/nordic-ski-seward/
END:VEVENT
BEGIN:VEVENT
DTSTART;TZID=America/Anchorage:20250201T100000
DTEND;TZID=America/Anchorage:20250201T150000
DTSTAMP:20260419T172450
CREATED:20240530T172332Z
LAST-MODIFIED:20250201T145400Z
UID:6320-1738404000-1738422000@kpbsd.org
SUMMARY:Volleyball Jamboree @ Nikiski
DESCRIPTION:Bus departs at 8 am.
URL:https://kpbsd.org/schools/homer-middle/event/volleyball-jamboree-nikiski/
END:VEVENT
BEGIN:VEVENT
DTSTART;TZID=America/Anchorage:20250201T100000
DTEND;TZID=America/Anchorage:20250201T170000
DTSTAMP:20260419T172450
CREATED:20240530T172332Z
LAST-MODIFIED:20250201T145400Z
UID:6317-1738404000-1738429200@kpbsd.org
SUMMARY:Wrestling @ Skyview
DESCRIPTION:Bus departs at 7:30 am
URL:https://kpbsd.org/schools/homer-middle/event/wrestling-skyview/
END:VEVENT
BEGIN:VEVENT
DTSTART;TZID=America/Anchorage:20250203T160000
DTEND;TZID=America/Anchorage:20250203T170000
DTSTAMP:20260419T172450
CREATED:20241008T080623Z
LAST-MODIFIED:20250203T150427Z
UID:7669-1738598400-1738602000@kpbsd.org
SUMMARY:After School Study hall
DESCRIPTION:
URL:https://kpbsd.org/schools/homer-middle/event/after-school-study-hall-64/
END:VEVENT
BEGIN:VEVENT
DTSTART;TZID=America/Anchorage:20250204T080000
DTEND;TZID=America/Anchorage:20250204T090000
DTSTAMP:20260419T172450
CREATED:20241013T085511Z
LAST-MODIFIED:20241028T111909Z
UID:8294-1738656000-1738659600@kpbsd.org
SUMMARY:Student council meeting
DESCRIPTION:
URL:https://kpbsd.org/schools/homer-middle/event/student-council-meeting-17/
LOCATION:principal’s office
END:VEVENT
BEGIN:VEVENT
DTSTART;TZID=America/Anchorage:20250204T160000
DTEND;TZID=America/Anchorage:20250204T170000
DTSTAMP:20260419T172450
CREATED:20241008T080624Z
LAST-MODIFIED:20250204T150449Z
UID:7672-1738684800-1738688400@kpbsd.org
SUMMARY:After School Study hall
DESCRIPTION:
URL:https://kpbsd.org/schools/homer-middle/event/after-school-study-hall-65/
END:VEVENT
BEGIN:VEVENT
DTSTART;TZID=America/Anchorage:20250204T160000
DTEND;TZID=America/Anchorage:20250204T180000
DTSTAMP:20260419T172450
CREATED:20241220T091422Z
LAST-MODIFIED:20250204T150449Z
UID:10666-1738684800-1738692000@kpbsd.org
SUMMARY:Volleyball Game @ HOME vs. Chapman (B and C teams)
DESCRIPTION:
URL:https://kpbsd.org/schools/homer-middle/event/volleyball-game-home-vs-chapman-b-and-c-teams/
END:VEVENT
BEGIN:VEVENT
DTSTART;TZID=America/Anchorage:20250205T124000
DTEND;TZID=America/Anchorage:20250205T132000
DTSTAMP:20260419T172450
CREATED:20241013T085511Z
LAST-MODIFIED:20250205T152239Z
UID:8297-1738759200-1738761600@kpbsd.org
SUMMARY:Battle of the Books Practice
DESCRIPTION:
URL:https://kpbsd.org/schools/homer-middle/event/battle-of-the-books-practice-17/
LOCATION:library
END:VEVENT
BEGIN:VEVENT
DTSTART;TZID=America/Anchorage:20250205T124000
DTEND;TZID=America/Anchorage:20250205T132000
DTSTAMP:20260419T172450
CREATED:20241022T101227Z
LAST-MODIFIED:20250205T152239Z
UID:8918-1738759200-1738761600@kpbsd.org
SUMMARY:Chess Club
DESCRIPTION:
URL:https://kpbsd.org/schools/homer-middle/event/chess-club-13/
LOCATION:Room 303
END:VEVENT
BEGIN:VEVENT
DTSTART;TZID=America/Anchorage:20250205T160000
DTEND;TZID=America/Anchorage:20250205T170000
DTSTAMP:20260419T172450
CREATED:20241008T080624Z
LAST-MODIFIED:20250205T152240Z
UID:7675-1738771200-1738774800@kpbsd.org
SUMMARY:After School Study hall
DESCRIPTION:
URL:https://kpbsd.org/schools/homer-middle/event/after-school-study-hall-66/
END:VEVENT
BEGIN:VEVENT
DTSTART;TZID=America/Anchorage:20250205T160000
DTEND;TZID=America/Anchorage:20250205T190000
DTSTAMP:20260419T172450
CREATED:20240530T172333Z
LAST-MODIFIED:20250205T152240Z
UID:6323-1738771200-1738782000@kpbsd.org
SUMMARY:Volleyball Game @ HOME vs. Kenai 7 (A and B teams)
DESCRIPTION:
URL:https://kpbsd.org/schools/homer-middle/event/volleyball-game-home-vs-kenai-7/
END:VEVENT
BEGIN:VEVENT
DTSTART;TZID=America/Anchorage:20250206T160000
DTEND;TZID=America/Anchorage:20250206T170000
DTSTAMP:20260419T172450
CREATED:20241008T080624Z
LAST-MODIFIED:20250206T152026Z
UID:7678-1738857600-1738861200@kpbsd.org
SUMMARY:After School Study hall
DESCRIPTION:
URL:https://kpbsd.org/schools/homer-middle/event/after-school-study-hall-67/
END:VEVENT
BEGIN:VEVENT
DTSTART;TZID=America/Anchorage:20250207T142000
DTEND;TZID=America/Anchorage:20250207T155000
DTSTAMP:20260419T172450
CREATED:20240530T172333Z
LAST-MODIFIED:20250207T151819Z
UID:6326-1738938000-1738943400@kpbsd.org
SUMMARY:Early Release Day (2:20 Release)
DESCRIPTION:
URL:https://kpbsd.org/schools/homer-middle/event/early-release-day-220-release-7/
END:VEVENT
BEGIN:VEVENT
DTSTART;TZID=America/Anchorage:20250207T150000
DTEND;TZID=America/Anchorage:20250207T180000
DTSTAMP:20260419T172450
CREATED:20240530T172333Z
LAST-MODIFIED:20250207T151819Z
UID:6329-1738940400-1738951200@kpbsd.org
SUMMARY:Ski Meet @ Skyview
DESCRIPTION:Bus departs at 1 pm.
URL:https://kpbsd.org/schools/homer-middle/event/ski-meet-skyview/
END:VEVENT
BEGIN:VEVENT
DTSTART;TZID=America/Anchorage:20250207T150000
DTEND;TZID=America/Anchorage:20250207T180000
DTSTAMP:20260419T172450
CREATED:20240530T172333Z
LAST-MODIFIED:20250207T151819Z
UID:6332-1738940400-1738951200@kpbsd.org
SUMMARY:Volleyball Game @ HOME vs. Skyview 8 (A and B teams)
DESCRIPTION:
URL:https://kpbsd.org/schools/homer-middle/event/volleyball-game-home-vs-skyview-8/
END:VEVENT
BEGIN:VEVENT
DTSTART;TZID=America/Anchorage:20250208T100000
DTEND;TZID=America/Anchorage:20250208T170000
DTSTAMP:20260419T172450
CREATED:20240530T172334Z
LAST-MODIFIED:20250208T151837Z
UID:6338-1739008800-1739034000@kpbsd.org
SUMMARY:Wrestling @ Kenai
DESCRIPTION:Bus departs at 7:15 am.
URL:https://kpbsd.org/schools/homer-middle/event/wrestling-kenai/
END:VEVENT
BEGIN:VEVENT
DTSTART;TZID=America/Anchorage:20250208T120000
DTEND;TZID=America/Anchorage:20250208T160000
DTSTAMP:20260419T172450
CREATED:20240530T172333Z
LAST-MODIFIED:20250208T151837Z
UID:6335-1739016000-1739030400@kpbsd.org
SUMMARY:Volleyball Game @ Seward (A and B Team)
DESCRIPTION:Bus departs at 7:30 am.
URL:https://kpbsd.org/schools/homer-middle/event/volleyball-game-seward/
END:VEVENT
BEGIN:VEVENT
DTSTART;VALUE=DATE:20250210
DTEND;VALUE=DATE:20250211
DTSTAMP:20260419T172450
CREATED:20240530T172334Z
LAST-MODIFIED:20250210T152344Z
UID:6344-1739145600-1739231999@kpbsd.org
SUMMARY:Mid-Quarter 3 Progress Reports emailed home
DESCRIPTION:
URL:https://kpbsd.org/schools/homer-middle/event/mid-quarter-3-progress-reports-emailed-home/
END:VEVENT
BEGIN:VEVENT
DTSTART;TZID=America/Anchorage:20250210T150000
DTEND;TZID=America/Anchorage:20250210T180000
DTSTAMP:20260419T172450
CREATED:20240530T172334Z
LAST-MODIFIED:20250210T152344Z
UID:6341-1739199600-1739210400@kpbsd.org
SUMMARY:Volleyball Game @ Kenai 8 (A and B teams)
DESCRIPTION:Bus departs at 12:45 pm.
URL:https://kpbsd.org/schools/homer-middle/event/volleyball-game-kenai-8/
END:VEVENT
END:VCALENDAR