BEGIN:VCALENDAR
VERSION:2.0
PRODID:-//Homer Middle School - ECPv6.8.2//NONSGML v1.0//EN
CALSCALE:GREGORIAN
METHOD:PUBLISH
X-WR-CALNAME:Homer Middle School
X-ORIGINAL-URL:https://kpbsd.org/schools/homer-middle
X-WR-CALDESC:Events for Homer Middle School
REFRESH-INTERVAL;VALUE=DURATION:PT1H
X-Robots-Tag:noindex
X-PUBLISHED-TTL:PT1H
BEGIN:VTIMEZONE
TZID:America/Anchorage
BEGIN:DAYLIGHT
TZOFFSETFROM:-0900
TZOFFSETTO:-0800
TZNAME:AKDT
DTSTART:20250309T110000
END:DAYLIGHT
BEGIN:STANDARD
TZOFFSETFROM:-0800
TZOFFSETTO:-0900
TZNAME:AKST
DTSTART:20251102T100000
END:STANDARD
END:VTIMEZONE
BEGIN:VEVENT
DTSTART;TZID=America/Anchorage:20250219T124000
DTEND;TZID=America/Anchorage:20250219T132000
DTSTAMP:20260419T100855
CREATED:20241013T085514Z
LAST-MODIFIED:20250210T152343Z
UID:8309-1739968800-1739971200@kpbsd.org
SUMMARY:Battle of the Books Practice
DESCRIPTION:
URL:https://kpbsd.org/schools/homer-middle/event/battle-of-the-books-practice-19/
LOCATION:library
END:VEVENT
BEGIN:VEVENT
DTSTART;TZID=America/Anchorage:20250219T124000
DTEND;TZID=America/Anchorage:20250219T132000
DTSTAMP:20260419T100855
CREATED:20241022T101231Z
LAST-MODIFIED:20250212T155352Z
UID:8930-1739968800-1739971200@kpbsd.org
SUMMARY:Chess Club
DESCRIPTION:
URL:https://kpbsd.org/schools/homer-middle/event/chess-club-15/
LOCATION:Room 303
END:VEVENT
BEGIN:VEVENT
DTSTART;TZID=America/Anchorage:20250219T160000
DTEND;TZID=America/Anchorage:20250219T170000
DTSTAMP:20260419T100855
CREATED:20241008T080629Z
LAST-MODIFIED:20250219T161838Z
UID:7699-1739980800-1739984400@kpbsd.org
SUMMARY:After School Study hall
DESCRIPTION:
URL:https://kpbsd.org/schools/homer-middle/event/after-school-study-hall-74/
END:VEVENT
BEGIN:VEVENT
DTSTART;TZID=America/Anchorage:20250219T160000
DTEND;TZID=America/Anchorage:20250219T180000
DTSTAMP:20260419T100855
CREATED:20241220T091426Z
LAST-MODIFIED:20250219T161839Z
UID:10681-1739980800-1739988000@kpbsd.org
SUMMARY:Volleyball game @ HOME vs. Ninilchik
DESCRIPTION:
URL:https://kpbsd.org/schools/homer-middle/event/volleyball-game-home-vs-ninilchik/
END:VEVENT
BEGIN:VEVENT
DTSTART;TZID=America/Anchorage:20250220T123500
DTEND;TZID=America/Anchorage:20250220T131000
DTSTAMP:20260419T100855
CREATED:20250215T160420Z
LAST-MODIFIED:20250220T162006Z
UID:11476-1740054900-1740057000@kpbsd.org
SUMMARY:Chess club
DESCRIPTION:
URL:https://kpbsd.org/schools/homer-middle/event/chess-club-64/
END:VEVENT
BEGIN:VEVENT
DTSTART;TZID=America/Anchorage:20250220T124000
DTEND;TZID=America/Anchorage:20250220T132000
DTSTAMP:20260419T100855
CREATED:20250213T155015Z
LAST-MODIFIED:20250214T155047Z
UID:11314-1740055200-1740057600@kpbsd.org
SUMMARY:Chess Club
DESCRIPTION:
URL:https://kpbsd.org/schools/homer-middle/event/chess-club-35/
LOCATION:Room 303
END:VEVENT
BEGIN:VEVENT
DTSTART;TZID=America/Anchorage:20250220T160000
DTEND;TZID=America/Anchorage:20250220T170000
DTSTAMP:20260419T100855
CREATED:20241008T080629Z
LAST-MODIFIED:20250220T162007Z
UID:7702-1740067200-1740070800@kpbsd.org
SUMMARY:After School Study hall
DESCRIPTION:
URL:https://kpbsd.org/schools/homer-middle/event/after-school-study-hall-75/
END:VEVENT
BEGIN:VEVENT
DTSTART;TZID=America/Anchorage:20250220T160000
DTEND;TZID=America/Anchorage:20250220T190000
DTSTAMP:20260419T100855
CREATED:20240530T172335Z
LAST-MODIFIED:20250220T162007Z
UID:6371-1740067200-1740078000@kpbsd.org
SUMMARY:Volleyball Game @ HOME vs. Nikiski (A and B Team)
DESCRIPTION:
URL:https://kpbsd.org/schools/homer-middle/event/volleyball-game-home-vs-nikiski/
END:VEVENT
BEGIN:VEVENT
DTSTART;TZID=America/Anchorage:20250221T150000
DTEND;TZID=America/Anchorage:20250221T180000
DTSTAMP:20260419T100855
CREATED:20240530T172336Z
LAST-MODIFIED:20250221T162233Z
UID:6377-1740150000-1740160800@kpbsd.org
SUMMARY:Ski Meet @ Kenai
DESCRIPTION:Bus departs at 12:45 pm.
URL:https://kpbsd.org/schools/homer-middle/event/ski-meet-kenai/
END:VEVENT
BEGIN:VEVENT
DTSTART;TZID=America/Anchorage:20250221T180000
DTEND;TZID=America/Anchorage:20250221T200000
DTSTAMP:20260419T100855
CREATED:20250211T153653Z
LAST-MODIFIED:20250221T162233Z
UID:11292-1740160800-1740168000@kpbsd.org
SUMMARY:Valentine's Day Dance
DESCRIPTION:
URL:https://kpbsd.org/schools/homer-middle/event/valentines-day-dance/
END:VEVENT
BEGIN:VEVENT
DTSTART;TZID=America/Anchorage:20250222T100000
DTEND;TZID=America/Anchorage:20250222T170000
DTSTAMP:20260419T100855
CREATED:20240530T172336Z
LAST-MODIFIED:20250222T163417Z
UID:6383-1740218400-1740243600@kpbsd.org
SUMMARY:Wrestling Boroughs @ Kenai
DESCRIPTION:Bus departs at 7:15 am.
URL:https://kpbsd.org/schools/homer-middle/event/wrestling-boroughs-kenai/
END:VEVENT
BEGIN:VEVENT
DTSTART;TZID=America/Anchorage:20250224T160000
DTEND;TZID=America/Anchorage:20250224T170000
DTSTAMP:20260419T100855
CREATED:20241008T080630Z
LAST-MODIFIED:20250224T172039Z
UID:7714-1740412800-1740416400@kpbsd.org
SUMMARY:After School Study hall
DESCRIPTION:
URL:https://kpbsd.org/schools/homer-middle/event/after-school-study-hall-76/
END:VEVENT
BEGIN:VEVENT
DTSTART;TZID=America/Anchorage:20250224T160000
DTEND;TZID=America/Anchorage:20250224T180000
DTSTAMP:20260419T100855
CREATED:20241220T091427Z
LAST-MODIFIED:20250224T172039Z
UID:10684-1740412800-1740420000@kpbsd.org
SUMMARY:Volleyball game @ Ninilchik
DESCRIPTION:bud departs at 2:45 pm
URL:https://kpbsd.org/schools/homer-middle/event/volleyball-game-ninilchik/
END:VEVENT
BEGIN:VEVENT
DTSTART;TZID=America/Anchorage:20250225T080000
DTEND;TZID=America/Anchorage:20250225T090000
DTSTAMP:20260419T100855
CREATED:20241013T085515Z
LAST-MODIFIED:20241028T111914Z
UID:8312-1740470400-1740474000@kpbsd.org
SUMMARY:Student council meeting
DESCRIPTION:
URL:https://kpbsd.org/schools/homer-middle/event/student-council-meeting-20/
LOCATION:principal’s office
END:VEVENT
BEGIN:VEVENT
DTSTART;TZID=America/Anchorage:20250225T150000
DTEND;TZID=America/Anchorage:20250225T160000
DTSTAMP:20260419T100855
CREATED:20240530T172336Z
LAST-MODIFIED:20250225T172452Z
UID:6389-1740495600-1740499200@kpbsd.org
SUMMARY:Volleyball Boroughs Round 1 vs. Seward @ Skyview
DESCRIPTION:Bus transportation information will be added here.
URL:https://kpbsd.org/schools/homer-middle/event/volleyball-boroughs-round-1-tbd/
END:VEVENT
BEGIN:VEVENT
DTSTART;TZID=America/Anchorage:20250225T160000
DTEND;TZID=America/Anchorage:20250225T170000
DTSTAMP:20260419T100855
CREATED:20241008T080631Z
LAST-MODIFIED:20250224T172039Z
UID:7717-1740499200-1740502800@kpbsd.org
SUMMARY:After School Study hall
DESCRIPTION:
URL:https://kpbsd.org/schools/homer-middle/event/after-school-study-hall-77/
END:VEVENT
BEGIN:VEVENT
DTSTART;TZID=America/Anchorage:20250226T124000
DTEND;TZID=America/Anchorage:20250226T132000
DTSTAMP:20260419T100855
CREATED:20241013T085516Z
LAST-MODIFIED:20250210T152344Z
UID:8315-1740573600-1740576000@kpbsd.org
SUMMARY:Battle of the Books Practice
DESCRIPTION:
URL:https://kpbsd.org/schools/homer-middle/event/battle-of-the-books-practice-20/
LOCATION:library
END:VEVENT
BEGIN:VEVENT
DTSTART;TZID=America/Anchorage:20250226T124000
DTEND;TZID=America/Anchorage:20250226T132000
DTSTAMP:20260419T100855
CREATED:20241022T101233Z
LAST-MODIFIED:20250212T155338Z
UID:8936-1740573600-1740576000@kpbsd.org
SUMMARY:Chess Club
DESCRIPTION:
URL:https://kpbsd.org/schools/homer-middle/event/chess-club-16/
LOCATION:Room 303
END:VEVENT
BEGIN:VEVENT
DTSTART;TZID=America/Anchorage:20250226T124500
DTEND;TZID=America/Anchorage:20250226T133000
DTSTAMP:20260419T100855
CREATED:20250226T173327Z
LAST-MODIFIED:20250226T173331Z
UID:12206-1740573900-1740576600@kpbsd.org
SUMMARY:ski team party
DESCRIPTION:
URL:https://kpbsd.org/schools/homer-middle/event/ski-team-party/
END:VEVENT
BEGIN:VEVENT
DTSTART;TZID=America/Anchorage:20250226T160000
DTEND;TZID=America/Anchorage:20250226T170000
DTSTAMP:20260419T100855
CREATED:20241008T080631Z
LAST-MODIFIED:20250224T172040Z
UID:7720-1740585600-1740589200@kpbsd.org
SUMMARY:After School Study hall
DESCRIPTION:
URL:https://kpbsd.org/schools/homer-middle/event/after-school-study-hall-78/
END:VEVENT
BEGIN:VEVENT
DTSTART;VALUE=DATE:20250227
DTEND;VALUE=DATE:20250302
DTSTAMP:20260419T100855
CREATED:20240530T172337Z
LAST-MODIFIED:20250301T175036Z
UID:6398-1740614400-1740873599@kpbsd.org
SUMMARY:Wrestling @ Tanana
DESCRIPTION:Bus transportation will be updated here.
URL:https://kpbsd.org/schools/homer-middle/event/wrestling-tanana/
END:VEVENT
BEGIN:VEVENT
DTSTART;TZID=America/Anchorage:20250227T123000
DTEND;TZID=America/Anchorage:20250227T133000
DTSTAMP:20260419T100855
CREATED:20250226T173327Z
LAST-MODIFIED:20250227T174215Z
UID:12209-1740659400-1740663000@kpbsd.org
SUMMARY:track interest meeting
DESCRIPTION:
URL:https://kpbsd.org/schools/homer-middle/event/track-interest-meeting/
END:VEVENT
BEGIN:VEVENT
DTSTART;TZID=America/Anchorage:20250227T123500
DTEND;TZID=America/Anchorage:20250227T131000
DTSTAMP:20260419T100855
CREATED:20250215T160423Z
LAST-MODIFIED:20250227T174215Z
UID:11479-1740659700-1740661800@kpbsd.org
SUMMARY:Chess club
DESCRIPTION:
URL:https://kpbsd.org/schools/homer-middle/event/chess-club-65/
END:VEVENT
BEGIN:VEVENT
DTSTART;TZID=America/Anchorage:20250227T124000
DTEND;TZID=America/Anchorage:20250227T132000
DTSTAMP:20260419T100855
CREATED:20250213T155018Z
LAST-MODIFIED:20250214T155031Z
UID:11320-1740660000-1740662400@kpbsd.org
SUMMARY:Chess Club
DESCRIPTION:
URL:https://kpbsd.org/schools/homer-middle/event/chess-club-37/
LOCATION:Room 303
END:VEVENT
BEGIN:VEVENT
DTSTART;TZID=America/Anchorage:20250227T160000
DTEND;TZID=America/Anchorage:20250227T170000
DTSTAMP:20260419T100855
CREATED:20241008T080632Z
LAST-MODIFIED:20250224T172040Z
UID:7723-1740672000-1740675600@kpbsd.org
SUMMARY:After School Study hall
DESCRIPTION:
URL:https://kpbsd.org/schools/homer-middle/event/after-school-study-hall-79/
END:VEVENT
BEGIN:VEVENT
DTSTART;TZID=America/Anchorage:20250228T150000
DTEND;TZID=America/Anchorage:20250228T180000
DTSTAMP:20260419T100855
CREATED:20240530T172336Z
LAST-MODIFIED:20250219T161908Z
UID:6392-1740754800-1740765600@kpbsd.org
SUMMARY:Ski Boroughs @ Skyview
DESCRIPTION:Bus will depart at 1 pm.
URL:https://kpbsd.org/schools/homer-middle/event/ski-boroughs-skyview/
END:VEVENT
BEGIN:VEVENT
DTSTART;TZID=America/Anchorage:20250301T110000
DTEND;TZID=America/Anchorage:20250301T160000
DTSTAMP:20260419T100855
CREATED:20240530T172336Z
LAST-MODIFIED:20250301T175036Z
UID:6395-1740826800-1740844800@kpbsd.org
SUMMARY:Volleyball Boroughs @ Seward
DESCRIPTION:Bus departs at 6:30 am.
URL:https://kpbsd.org/schools/homer-middle/event/volleyball-boroughs-seward/
END:VEVENT
BEGIN:VEVENT
DTSTART;TZID=America/Anchorage:20250303T160000
DTEND;TZID=America/Anchorage:20250303T170000
DTSTAMP:20260419T100855
CREATED:20241008T080632Z
LAST-MODIFIED:20250224T172053Z
UID:7726-1741017600-1741021200@kpbsd.org
SUMMARY:After School Study hall
DESCRIPTION:
URL:https://kpbsd.org/schools/homer-middle/event/after-school-study-hall-80/
END:VEVENT
BEGIN:VEVENT
DTSTART;TZID=America/Anchorage:20250304T080000
DTEND;TZID=America/Anchorage:20250304T090000
DTSTAMP:20260419T100855
CREATED:20241013T085517Z
LAST-MODIFIED:20241028T111916Z
UID:8318-1741075200-1741078800@kpbsd.org
SUMMARY:Student council meeting
DESCRIPTION:
URL:https://kpbsd.org/schools/homer-middle/event/student-council-meeting-21/
LOCATION:principal’s office
END:VEVENT
BEGIN:VEVENT
DTSTART;TZID=America/Anchorage:20250304T144500
DTEND;TZID=America/Anchorage:20250304T154500
DTSTAMP:20260419T100855
CREATED:20250208T151838Z
LAST-MODIFIED:20250304T180743Z
UID:11274-1741099500-1741103100@kpbsd.org
SUMMARY:Talent show try outs during advisory
DESCRIPTION:
URL:https://kpbsd.org/schools/homer-middle/event/talent-show-try-outs-during-advisory/
END:VEVENT
END:VCALENDAR