BEGIN:VCALENDAR
VERSION:2.0
PRODID:-//Homer Middle School - ECPv6.8.2//NONSGML v1.0//EN
CALSCALE:GREGORIAN
METHOD:PUBLISH
X-WR-CALNAME:Homer Middle School
X-ORIGINAL-URL:https://kpbsd.org/schools/homer-middle
X-WR-CALDESC:Events for Homer Middle School
REFRESH-INTERVAL;VALUE=DURATION:PT1H
X-Robots-Tag:noindex
X-PUBLISHED-TTL:PT1H
BEGIN:VTIMEZONE
TZID:America/Anchorage
BEGIN:DAYLIGHT
TZOFFSETFROM:-0900
TZOFFSETTO:-0800
TZNAME:AKDT
DTSTART:20250309T110000
END:DAYLIGHT
BEGIN:STANDARD
TZOFFSETFROM:-0800
TZOFFSETTO:-0900
TZNAME:AKST
DTSTART:20251102T100000
END:STANDARD
END:VTIMEZONE
BEGIN:VEVENT
DTSTART;VALUE=DATE:20250324
DTEND;VALUE=DATE:20250329
DTSTAMP:20260421T122937
CREATED:20240807T011824Z
LAST-MODIFIED:20250328T220547Z
UID:6935-1742774400-1743206399@kpbsd.org
SUMMARY:AKSTAR Testing
DESCRIPTION:
URL:https://kpbsd.org/schools/homer-middle/event/akstar-testing/
END:VEVENT
BEGIN:VEVENT
DTSTART;TZID=America/Anchorage:20250327T120000
DTEND;TZID=America/Anchorage:20250327T124000
DTSTAMP:20260421T122937
CREATED:20250215T160431Z
LAST-MODIFIED:20250326T214331Z
UID:11491-1743076800-1743079200@kpbsd.org
SUMMARY:Chess club
DESCRIPTION:
URL:https://kpbsd.org/schools/homer-middle/event/chess-club-69/
END:VEVENT
BEGIN:VEVENT
DTSTART;TZID=America/Anchorage:20250327T124000
DTEND;TZID=America/Anchorage:20250327T132000
DTSTAMP:20260421T122937
CREATED:20250213T155026Z
LAST-MODIFIED:20250214T155038Z
UID:11344-1743079200-1743081600@kpbsd.org
SUMMARY:Chess Club
DESCRIPTION:
URL:https://kpbsd.org/schools/homer-middle/event/chess-club-45/
LOCATION:Room 303
END:VEVENT
BEGIN:VEVENT
DTSTART;TZID=America/Anchorage:20250327T160000
DTEND;TZID=America/Anchorage:20250327T170000
DTSTAMP:20260421T122937
CREATED:20241008T080640Z
LAST-MODIFIED:20250224T172042Z
UID:7769-1743091200-1743094800@kpbsd.org
SUMMARY:After School Study hall
DESCRIPTION:
URL:https://kpbsd.org/schools/homer-middle/event/after-school-study-hall-95/
END:VEVENT
BEGIN:VEVENT
DTSTART;TZID=America/Anchorage:20250327T173000
DTEND;TZID=America/Anchorage:20250327T183000
DTSTAMP:20260421T122937
CREATED:20250226T173331Z
LAST-MODIFIED:20250327T220541Z
UID:12239-1743096600-1743100200@kpbsd.org
SUMMARY:AKtoDC 2026 meeting
DESCRIPTION:Join with Google Meet: https://meet.google.com/yze-oygc-rjo\nOr dial: (US) +1 434-481-1299 PIN: 882910269#\nLearn more about Meet at: https://support.google.com/a/users/answer/9282720
URL:https://kpbsd.org/schools/homer-middle/event/aktodc-2026-meeting-2/
LOCATION:library
END:VEVENT
BEGIN:VEVENT
DTSTART;TZID=America/Anchorage:20250328T180000
DTEND;TZID=America/Anchorage:20250328T200000
DTSTAMP:20260421T122937
CREATED:20240530T172338Z
LAST-MODIFIED:20250328T220547Z
UID:6416-1743184800-1743192000@kpbsd.org
SUMMARY:Activity Night
DESCRIPTION:
URL:https://kpbsd.org/schools/homer-middle/event/activity-night-2/
END:VEVENT
BEGIN:VEVENT
DTSTART;TZID=America/Anchorage:20250331T160000
DTEND;TZID=America/Anchorage:20250331T170000
DTSTAMP:20260421T122937
CREATED:20241008T080640Z
LAST-MODIFIED:20250224T172043Z
UID:7772-1743436800-1743440400@kpbsd.org
SUMMARY:After School Study hall
DESCRIPTION:
URL:https://kpbsd.org/schools/homer-middle/event/after-school-study-hall-96/
END:VEVENT
BEGIN:VEVENT
DTSTART;TZID=America/Anchorage:20250401T080000
DTEND;TZID=America/Anchorage:20250401T090000
DTSTAMP:20260421T122937
CREATED:20241013T085522Z
LAST-MODIFIED:20241028T111921Z
UID:8348-1743494400-1743498000@kpbsd.org
SUMMARY:Student council meeting
DESCRIPTION:
URL:https://kpbsd.org/schools/homer-middle/event/student-council-meeting-25/
LOCATION:principal’s office
END:VEVENT
BEGIN:VEVENT
DTSTART;TZID=America/Anchorage:20250401T145000
DTEND;TZID=America/Anchorage:20250401T155000
DTSTAMP:20260421T122937
CREATED:20240530T172338Z
LAST-MODIFIED:20250401T223953Z
UID:6422-1743519000-1743522600@kpbsd.org
SUMMARY:Quarter 3 Awards Assembly
DESCRIPTION:
URL:https://kpbsd.org/schools/homer-middle/event/quarter-3-awards-assembly/
END:VEVENT
BEGIN:VEVENT
DTSTART;TZID=America/Anchorage:20250401T160000
DTEND;TZID=America/Anchorage:20250401T170000
DTSTAMP:20260421T122937
CREATED:20241008T080641Z
LAST-MODIFIED:20250224T172043Z
UID:7778-1743523200-1743526800@kpbsd.org
SUMMARY:After School Study hall
DESCRIPTION:
URL:https://kpbsd.org/schools/homer-middle/event/after-school-study-hall-98/
END:VEVENT
BEGIN:VEVENT
DTSTART;TZID=America/Anchorage:20250402T124000
DTEND;TZID=America/Anchorage:20250402T132000
DTSTAMP:20260421T122937
CREATED:20241022T101241Z
LAST-MODIFIED:20250212T155345Z
UID:8966-1743597600-1743600000@kpbsd.org
SUMMARY:Chess Club
DESCRIPTION:
URL:https://kpbsd.org/schools/homer-middle/event/chess-club-21/
LOCATION:Room 303
END:VEVENT
BEGIN:VEVENT
DTSTART;TZID=America/Anchorage:20250402T160000
DTEND;TZID=America/Anchorage:20250402T170000
DTSTAMP:20260421T122937
CREATED:20241008T080642Z
LAST-MODIFIED:20250224T172043Z
UID:7781-1743609600-1743613200@kpbsd.org
SUMMARY:After School Study hall
DESCRIPTION:
URL:https://kpbsd.org/schools/homer-middle/event/after-school-study-hall-99/
END:VEVENT
BEGIN:VEVENT
DTSTART;TZID=America/Anchorage:20250403T123500
DTEND;TZID=America/Anchorage:20250403T131000
DTSTAMP:20260421T122937
CREATED:20250215T160433Z
LAST-MODIFIED:20250402T224827Z
UID:11494-1743683700-1743685800@kpbsd.org
SUMMARY:Chess club
DESCRIPTION:
URL:https://kpbsd.org/schools/homer-middle/event/chess-club-70/
END:VEVENT
BEGIN:VEVENT
DTSTART;TZID=America/Anchorage:20250403T124000
DTEND;TZID=America/Anchorage:20250403T132000
DTSTAMP:20260421T122937
CREATED:20250213T155027Z
LAST-MODIFIED:20250214T155040Z
UID:11350-1743684000-1743686400@kpbsd.org
SUMMARY:Chess Club
DESCRIPTION:
URL:https://kpbsd.org/schools/homer-middle/event/chess-club-47/
LOCATION:Room 303
END:VEVENT
BEGIN:VEVENT
DTSTART;TZID=America/Anchorage:20250403T160000
DTEND;TZID=America/Anchorage:20250403T170000
DTSTAMP:20260421T122937
CREATED:20241008T080641Z
LAST-MODIFIED:20250224T172044Z
UID:7775-1743696000-1743699600@kpbsd.org
SUMMARY:After School Study hall
DESCRIPTION:
URL:https://kpbsd.org/schools/homer-middle/event/after-school-study-hall-97/
END:VEVENT
BEGIN:VEVENT
DTSTART;TZID=America/Anchorage:20250407T160000
DTEND;TZID=America/Anchorage:20250407T170000
DTSTAMP:20260421T122937
CREATED:20241008T080642Z
LAST-MODIFIED:20250224T172044Z
UID:7784-1744041600-1744045200@kpbsd.org
SUMMARY:After School Study hall
DESCRIPTION:
URL:https://kpbsd.org/schools/homer-middle/event/after-school-study-hall-100/
END:VEVENT
BEGIN:VEVENT
DTSTART;TZID=America/Anchorage:20250408T080000
DTEND;TZID=America/Anchorage:20250408T090000
DTSTAMP:20260421T122937
CREATED:20241013T085523Z
LAST-MODIFIED:20241028T111922Z
UID:8351-1744099200-1744102800@kpbsd.org
SUMMARY:Student council meeting
DESCRIPTION:
URL:https://kpbsd.org/schools/homer-middle/event/student-council-meeting-26/
LOCATION:principal’s office
END:VEVENT
BEGIN:VEVENT
DTSTART;TZID=America/Anchorage:20250408T150000
DTEND;TZID=America/Anchorage:20250408T160000
DTSTAMP:20260421T122937
CREATED:20250208T151845Z
LAST-MODIFIED:20250408T233611Z
UID:11277-1744124400-1744128000@kpbsd.org
SUMMARY:Talent Show
DESCRIPTION:
URL:https://kpbsd.org/schools/homer-middle/event/talent-show/
END:VEVENT
BEGIN:VEVENT
DTSTART;TZID=America/Anchorage:20250408T160000
DTEND;TZID=America/Anchorage:20250408T170000
DTSTAMP:20260421T122937
CREATED:20241008T080642Z
LAST-MODIFIED:20250224T172044Z
UID:7787-1744128000-1744131600@kpbsd.org
SUMMARY:After School Study hall
DESCRIPTION:
URL:https://kpbsd.org/schools/homer-middle/event/after-school-study-hall-101/
END:VEVENT
BEGIN:VEVENT
DTSTART;TZID=America/Anchorage:20250409T124000
DTEND;TZID=America/Anchorage:20250409T132000
DTSTAMP:20260421T122937
CREATED:20241022T101242Z
LAST-MODIFIED:20250212T155347Z
UID:8972-1744202400-1744204800@kpbsd.org
SUMMARY:Chess Club
DESCRIPTION:
URL:https://kpbsd.org/schools/homer-middle/event/chess-club-22/
LOCATION:Room 303
END:VEVENT
BEGIN:VEVENT
DTSTART;TZID=America/Anchorage:20250409T160000
DTEND;TZID=America/Anchorage:20250409T170000
DTSTAMP:20260421T122937
CREATED:20241008T080643Z
LAST-MODIFIED:20250224T172044Z
UID:7790-1744214400-1744218000@kpbsd.org
SUMMARY:After School Study hall
DESCRIPTION:
URL:https://kpbsd.org/schools/homer-middle/event/after-school-study-hall-102/
END:VEVENT
BEGIN:VEVENT
DTSTART;TZID=America/Anchorage:20250410T123500
DTEND;TZID=America/Anchorage:20250410T131000
DTSTAMP:20260421T122937
CREATED:20250215T160435Z
LAST-MODIFIED:20250409T235003Z
UID:11497-1744288500-1744290600@kpbsd.org
SUMMARY:Chess club
DESCRIPTION:
URL:https://kpbsd.org/schools/homer-middle/event/chess-club-71/
END:VEVENT
BEGIN:VEVENT
DTSTART;TZID=America/Anchorage:20250410T124000
DTEND;TZID=America/Anchorage:20250410T132000
DTSTAMP:20260421T122937
CREATED:20250213T155029Z
LAST-MODIFIED:20250214T155041Z
UID:11356-1744288800-1744291200@kpbsd.org
SUMMARY:Chess Club
DESCRIPTION:
URL:https://kpbsd.org/schools/homer-middle/event/chess-club-49/
LOCATION:Room 303
END:VEVENT
BEGIN:VEVENT
DTSTART;TZID=America/Anchorage:20250410T160000
DTEND;TZID=America/Anchorage:20250410T170000
DTSTAMP:20260421T122937
CREATED:20241008T080643Z
LAST-MODIFIED:20250224T172045Z
UID:7793-1744300800-1744304400@kpbsd.org
SUMMARY:After School Study hall
DESCRIPTION:
URL:https://kpbsd.org/schools/homer-middle/event/after-school-study-hall-103/
END:VEVENT
BEGIN:VEVENT
DTSTART;TZID=America/Anchorage:20250411T142000
DTEND;TZID=America/Anchorage:20250411T155000
DTSTAMP:20260421T122937
CREATED:20240530T172339Z
LAST-MODIFIED:20250410T234838Z
UID:6425-1744381200-1744386600@kpbsd.org
SUMMARY:Early Release Day (2:20 Release)
DESCRIPTION:
URL:https://kpbsd.org/schools/homer-middle/event/early-release-day-220-release-9/
END:VEVENT
BEGIN:VEVENT
DTSTART;TZID=America/Anchorage:20250414T160000
DTEND;TZID=America/Anchorage:20250414T170000
DTSTAMP:20260421T122937
CREATED:20241008T080643Z
LAST-MODIFIED:20250224T172045Z
UID:7796-1744646400-1744650000@kpbsd.org
SUMMARY:After School Study hall
DESCRIPTION:
URL:https://kpbsd.org/schools/homer-middle/event/after-school-study-hall-104/
END:VEVENT
BEGIN:VEVENT
DTSTART;VALUE=DATE:20250415
DTEND;VALUE=DATE:20250416
DTSTAMP:20260421T122937
CREATED:20250408T233607Z
LAST-MODIFIED:20250415T001816Z
UID:12948-1744675200-1744761599@kpbsd.org
SUMMARY:7 period day schedule
DESCRIPTION:
URL:https://kpbsd.org/schools/homer-middle/event/7-period-day-schedule/
END:VEVENT
BEGIN:VEVENT
DTSTART;TZID=America/Anchorage:20250415T080000
DTEND;TZID=America/Anchorage:20250415T090000
DTSTAMP:20260421T122937
CREATED:20241013T085524Z
LAST-MODIFIED:20241028T111924Z
UID:8357-1744704000-1744707600@kpbsd.org
SUMMARY:Student council meeting
DESCRIPTION:
URL:https://kpbsd.org/schools/homer-middle/event/student-council-meeting-27/
LOCATION:principal’s office
END:VEVENT
BEGIN:VEVENT
DTSTART;TZID=America/Anchorage:20250415T080000
DTEND;TZID=America/Anchorage:20250415T180000
DTSTAMP:20260421T122937
CREATED:20240530T172339Z
LAST-MODIFIED:20250416T001901Z
UID:6431-1744704000-1744740000@kpbsd.org
SUMMARY:Mass Choir @ SOHI
DESCRIPTION:Bus transportation information will be added here.
URL:https://kpbsd.org/schools/homer-middle/event/mass-choir-skyview/
LOCATION:SOHI
END:VEVENT
BEGIN:VEVENT
DTSTART;TZID=America/Anchorage:20250415T160000
DTEND;TZID=America/Anchorage:20250415T170000
DTSTAMP:20260421T122937
CREATED:20241008T080644Z
LAST-MODIFIED:20250224T172045Z
UID:7799-1744732800-1744736400@kpbsd.org
SUMMARY:After School Study hall
DESCRIPTION:
URL:https://kpbsd.org/schools/homer-middle/event/after-school-study-hall-105/
END:VEVENT
END:VCALENDAR