BEGIN:VCALENDAR
VERSION:2.0
PRODID:-//Homer Middle School - ECPv6.8.2//NONSGML v1.0//EN
CALSCALE:GREGORIAN
METHOD:PUBLISH
X-WR-CALNAME:Homer Middle School
X-ORIGINAL-URL:https://kpbsd.org/schools/homer-middle
X-WR-CALDESC:Events for Homer Middle School
REFRESH-INTERVAL;VALUE=DURATION:PT1H
X-Robots-Tag:noindex
X-PUBLISHED-TTL:PT1H
BEGIN:VTIMEZONE
TZID:America/Anchorage
BEGIN:DAYLIGHT
TZOFFSETFROM:-0900
TZOFFSETTO:-0800
TZNAME:AKDT
DTSTART:20250309T110000
END:DAYLIGHT
BEGIN:STANDARD
TZOFFSETFROM:-0800
TZOFFSETTO:-0900
TZNAME:AKST
DTSTART:20251102T100000
END:STANDARD
END:VTIMEZONE
BEGIN:VEVENT
DTSTART;TZID=America/Anchorage:20250414T160000
DTEND;TZID=America/Anchorage:20250414T170000
DTSTAMP:20260420T164434
CREATED:20241008T080643Z
LAST-MODIFIED:20250224T172045Z
UID:7796-1744646400-1744650000@kpbsd.org
SUMMARY:After School Study hall
DESCRIPTION:
URL:https://kpbsd.org/schools/homer-middle/event/after-school-study-hall-104/
END:VEVENT
BEGIN:VEVENT
DTSTART;VALUE=DATE:20250415
DTEND;VALUE=DATE:20250416
DTSTAMP:20260420T164434
CREATED:20250408T233607Z
LAST-MODIFIED:20250415T001816Z
UID:12948-1744675200-1744761599@kpbsd.org
SUMMARY:7 period day schedule
DESCRIPTION:
URL:https://kpbsd.org/schools/homer-middle/event/7-period-day-schedule/
END:VEVENT
BEGIN:VEVENT
DTSTART;TZID=America/Anchorage:20250415T080000
DTEND;TZID=America/Anchorage:20250415T090000
DTSTAMP:20260420T164434
CREATED:20241013T085524Z
LAST-MODIFIED:20241028T111924Z
UID:8357-1744704000-1744707600@kpbsd.org
SUMMARY:Student council meeting
DESCRIPTION:
URL:https://kpbsd.org/schools/homer-middle/event/student-council-meeting-27/
LOCATION:principal’s office
END:VEVENT
BEGIN:VEVENT
DTSTART;TZID=America/Anchorage:20250415T080000
DTEND;TZID=America/Anchorage:20250415T180000
DTSTAMP:20260420T164434
CREATED:20240530T172339Z
LAST-MODIFIED:20250416T001901Z
UID:6431-1744704000-1744740000@kpbsd.org
SUMMARY:Mass Choir @ SOHI
DESCRIPTION:Bus transportation information will be added here.
URL:https://kpbsd.org/schools/homer-middle/event/mass-choir-skyview/
LOCATION:SOHI
END:VEVENT
BEGIN:VEVENT
DTSTART;TZID=America/Anchorage:20250415T160000
DTEND;TZID=America/Anchorage:20250415T170000
DTSTAMP:20260420T164434
CREATED:20241008T080644Z
LAST-MODIFIED:20250224T172045Z
UID:7799-1744732800-1744736400@kpbsd.org
SUMMARY:After School Study hall
DESCRIPTION:
URL:https://kpbsd.org/schools/homer-middle/event/after-school-study-hall-105/
END:VEVENT
BEGIN:VEVENT
DTSTART;TZID=America/Anchorage:20250416T124000
DTEND;TZID=America/Anchorage:20250416T132000
DTSTAMP:20260420T164434
CREATED:20241022T101245Z
LAST-MODIFIED:20250212T155348Z
UID:8976-1744807200-1744809600@kpbsd.org
SUMMARY:Chess Club
DESCRIPTION:
URL:https://kpbsd.org/schools/homer-middle/event/chess-club-23/
LOCATION:Room 303
END:VEVENT
BEGIN:VEVENT
DTSTART;TZID=America/Anchorage:20250416T160000
DTEND;TZID=America/Anchorage:20250416T170000
DTSTAMP:20260420T164434
CREATED:20241008T080644Z
LAST-MODIFIED:20250224T172046Z
UID:7802-1744819200-1744822800@kpbsd.org
SUMMARY:After School Study hall
DESCRIPTION:
URL:https://kpbsd.org/schools/homer-middle/event/after-school-study-hall-106/
END:VEVENT
BEGIN:VEVENT
DTSTART;VALUE=DATE:20250417
DTEND;VALUE=DATE:20250418
DTSTAMP:20260420T164434
CREATED:20250408T233607Z
LAST-MODIFIED:20250417T002143Z
UID:12951-1744848000-1744934399@kpbsd.org
SUMMARY:Tuesday schedule
DESCRIPTION:
URL:https://kpbsd.org/schools/homer-middle/event/tuesday-schedule/
END:VEVENT
BEGIN:VEVENT
DTSTART;TZID=America/Anchorage:20250417T124000
DTEND;TZID=America/Anchorage:20250417T132000
DTSTAMP:20260420T164434
CREATED:20250213T155031Z
LAST-MODIFIED:20250214T155043Z
UID:11362-1744893600-1744896000@kpbsd.org
SUMMARY:Chess Club
DESCRIPTION:
URL:https://kpbsd.org/schools/homer-middle/event/chess-club-51/
LOCATION:Room 303
END:VEVENT
BEGIN:VEVENT
DTSTART;TZID=America/Anchorage:20250417T125000
DTEND;TZID=America/Anchorage:20250417T132500
DTSTAMP:20260420T164434
CREATED:20250215T160437Z
LAST-MODIFIED:20250417T002143Z
UID:11500-1744894200-1744896300@kpbsd.org
SUMMARY:Chess club
DESCRIPTION:
URL:https://kpbsd.org/schools/homer-middle/event/chess-club-72/
END:VEVENT
BEGIN:VEVENT
DTSTART;TZID=America/Anchorage:20250417T150000
DTEND;TZID=America/Anchorage:20250417T190000
DTSTAMP:20260420T164434
CREATED:20240530T172339Z
LAST-MODIFIED:20250418T002116Z
UID:6440-1744902000-1744916400@kpbsd.org
SUMMARY:Track Meet @ Home
DESCRIPTION:Track use confirmed with Justin Zank
URL:https://kpbsd.org/schools/homer-middle/event/track-meet-home/
LOCATION:HHS Track and Field
END:VEVENT
BEGIN:VEVENT
DTSTART;TZID=America/Anchorage:20250417T160000
DTEND;TZID=America/Anchorage:20250417T170000
DTSTAMP:20260420T164434
CREATED:20241008T080645Z
LAST-MODIFIED:20250224T172046Z
UID:7820-1744905600-1744909200@kpbsd.org
SUMMARY:After School Study hall
DESCRIPTION:
URL:https://kpbsd.org/schools/homer-middle/event/after-school-study-hall-107/
END:VEVENT
BEGIN:VEVENT
DTSTART;VALUE=DATE:20250418
DTEND;VALUE=DATE:20250419
DTSTAMP:20260420T164434
CREATED:20240530T172339Z
LAST-MODIFIED:20250418T002116Z
UID:6434-1744934400-1745020799@kpbsd.org
SUMMARY:Good Friday- No School
DESCRIPTION:
URL:https://kpbsd.org/schools/homer-middle/event/good-friday-no-school/
END:VEVENT
BEGIN:VEVENT
DTSTART;TZID=America/Anchorage:20250421T160000
DTEND;TZID=America/Anchorage:20250421T170000
DTSTAMP:20260420T164434
CREATED:20241008T080645Z
LAST-MODIFIED:20250224T172047Z
UID:7826-1745251200-1745254800@kpbsd.org
SUMMARY:After School Study hall
DESCRIPTION:
URL:https://kpbsd.org/schools/homer-middle/event/after-school-study-hall-108/
END:VEVENT
BEGIN:VEVENT
DTSTART;VALUE=DATE:20250422
DTEND;VALUE=DATE:20250423
DTSTAMP:20260420T164434
CREATED:20240530T172339Z
LAST-MODIFIED:20250422T013428Z
UID:6443-1745280000-1745366399@kpbsd.org
SUMMARY:Mid-Quarter 4 Progress Reports emailed home
DESCRIPTION:
URL:https://kpbsd.org/schools/homer-middle/event/mid-quarter-4-progress-reports-emailed-home/
END:VEVENT
BEGIN:VEVENT
DTSTART;TZID=America/Anchorage:20250422T080000
DTEND;TZID=America/Anchorage:20250422T090000
DTSTAMP:20260420T164434
CREATED:20241013T085526Z
LAST-MODIFIED:20241028T111925Z
UID:8363-1745308800-1745312400@kpbsd.org
SUMMARY:Student council meeting
DESCRIPTION:
URL:https://kpbsd.org/schools/homer-middle/event/student-council-meeting-28/
LOCATION:principal’s office
END:VEVENT
BEGIN:VEVENT
DTSTART;TZID=America/Anchorage:20250422T160000
DTEND;TZID=America/Anchorage:20250422T170000
DTSTAMP:20260420T164434
CREATED:20241008T080646Z
LAST-MODIFIED:20250224T172047Z
UID:7829-1745337600-1745341200@kpbsd.org
SUMMARY:After School Study hall
DESCRIPTION:
URL:https://kpbsd.org/schools/homer-middle/event/after-school-study-hall-109/
END:VEVENT
BEGIN:VEVENT
DTSTART;TZID=America/Anchorage:20250423T124000
DTEND;TZID=America/Anchorage:20250423T132000
DTSTAMP:20260420T164434
CREATED:20241022T101247Z
LAST-MODIFIED:20250212T155350Z
UID:8982-1745412000-1745414400@kpbsd.org
SUMMARY:Chess Club
DESCRIPTION:
URL:https://kpbsd.org/schools/homer-middle/event/chess-club-24/
LOCATION:Room 303
END:VEVENT
BEGIN:VEVENT
DTSTART;TZID=America/Anchorage:20250423T160000
DTEND;TZID=America/Anchorage:20250423T170000
DTSTAMP:20260420T164434
CREATED:20241008T080646Z
LAST-MODIFIED:20250224T172047Z
UID:7832-1745424000-1745427600@kpbsd.org
SUMMARY:After School Study hall
DESCRIPTION:
URL:https://kpbsd.org/schools/homer-middle/event/after-school-study-hall-110/
END:VEVENT
BEGIN:VEVENT
DTSTART;TZID=America/Anchorage:20250424T123500
DTEND;TZID=America/Anchorage:20250424T131000
DTSTAMP:20260420T164434
CREATED:20250215T160440Z
LAST-MODIFIED:20250424T014506Z
UID:11503-1745498100-1745500200@kpbsd.org
SUMMARY:Chess club
DESCRIPTION:
URL:https://kpbsd.org/schools/homer-middle/event/chess-club-73/
END:VEVENT
BEGIN:VEVENT
DTSTART;TZID=America/Anchorage:20250424T124000
DTEND;TZID=America/Anchorage:20250424T132000
DTSTAMP:20260420T164434
CREATED:20250213T155035Z
LAST-MODIFIED:20250214T155044Z
UID:11366-1745498400-1745500800@kpbsd.org
SUMMARY:Chess Club
DESCRIPTION:
URL:https://kpbsd.org/schools/homer-middle/event/chess-club-53/
LOCATION:Room 303
END:VEVENT
BEGIN:VEVENT
DTSTART;TZID=America/Anchorage:20250424T160000
DTEND;TZID=America/Anchorage:20250424T170000
DTSTAMP:20260420T164434
CREATED:20241008T080647Z
LAST-MODIFIED:20250224T172047Z
UID:7835-1745510400-1745514000@kpbsd.org
SUMMARY:After School Study hall
DESCRIPTION:
URL:https://kpbsd.org/schools/homer-middle/event/after-school-study-hall-111/
END:VEVENT
BEGIN:VEVENT
DTSTART;TZID=America/Anchorage:20250425T150000
DTEND;TZID=America/Anchorage:20250425T190000
DTSTAMP:20260420T164434
CREATED:20240530T172341Z
LAST-MODIFIED:20250331T222356Z
UID:6449-1745593200-1745607600@kpbsd.org
SUMMARY:Track Meet @ Kenai
DESCRIPTION:Bus transportation information will be added here.
URL:https://kpbsd.org/schools/homer-middle/event/track-meet-kenai/
LOCATION:KCHS Track
END:VEVENT
BEGIN:VEVENT
DTSTART;TZID=America/Anchorage:20250428T090000
DTEND;TZID=America/Anchorage:20250428T120000
DTSTAMP:20260420T164434
CREATED:20250307T182523Z
LAST-MODIFIED:20250428T021813Z
UID:12550-1745830800-1745841600@kpbsd.org
SUMMARY:8th grade step up to HHS
DESCRIPTION:Step-Up Day Schedule – Monday\, April 28\, 2025  \n9:55am – HMS and Chapmanstudents sit in cohorts in theater for Mr. Waclawki’s intro/welcome \n10:10am – 8th grade cohortstour school led by HHS NHS members \n11:00am – Tours end at gym forpep rally. Cohorts sit together in freshman section of bleachers  \n11:00-11:30am – Pep Rally \n11:30am – HMS and Chapmanstudents return to respective sites 
URL:https://kpbsd.org/schools/homer-middle/event/8th-grade-step-up-to-hhs/
END:VEVENT
BEGIN:VEVENT
DTSTART;TZID=America/Anchorage:20250428T160000
DTEND;TZID=America/Anchorage:20250428T170000
DTSTAMP:20260420T164434
CREATED:20241008T080647Z
LAST-MODIFIED:20250224T172048Z
UID:7838-1745856000-1745859600@kpbsd.org
SUMMARY:After School Study hall
DESCRIPTION:
URL:https://kpbsd.org/schools/homer-middle/event/after-school-study-hall-112/
END:VEVENT
BEGIN:VEVENT
DTSTART;TZID=America/Anchorage:20250429T080000
DTEND;TZID=America/Anchorage:20250429T090000
DTSTAMP:20260420T164434
CREATED:20241013T085529Z
LAST-MODIFIED:20241028T111927Z
UID:8367-1745913600-1745917200@kpbsd.org
SUMMARY:Student council meeting
DESCRIPTION:
URL:https://kpbsd.org/schools/homer-middle/event/student-council-meeting-29/
LOCATION:principal’s office
END:VEVENT
BEGIN:VEVENT
DTSTART;TZID=America/Anchorage:20250429T080000
DTEND;TZID=America/Anchorage:20250429T180000
DTSTAMP:20260420T164434
CREATED:20240530T172341Z
LAST-MODIFIED:20250429T022755Z
UID:6455-1745913600-1745949600@kpbsd.org
SUMMARY:Mass Band @ Homer High School
DESCRIPTION:
URL:https://kpbsd.org/schools/homer-middle/event/mass-band-homer/
LOCATION:HHS
END:VEVENT
BEGIN:VEVENT
DTSTART;TZID=America/Anchorage:20250429T160000
DTEND;TZID=America/Anchorage:20250429T170000
DTSTAMP:20260420T164434
CREATED:20241008T080648Z
LAST-MODIFIED:20250224T172048Z
UID:7841-1745942400-1745946000@kpbsd.org
SUMMARY:After School Study hall
DESCRIPTION:
URL:https://kpbsd.org/schools/homer-middle/event/after-school-study-hall-113/
END:VEVENT
BEGIN:VEVENT
DTSTART;TZID=America/Anchorage:20250430T124000
DTEND;TZID=America/Anchorage:20250430T132000
DTSTAMP:20260420T164434
CREATED:20241022T101249Z
LAST-MODIFIED:20250212T155352Z
UID:8988-1746016800-1746019200@kpbsd.org
SUMMARY:Chess Club
DESCRIPTION:
URL:https://kpbsd.org/schools/homer-middle/event/chess-club-25/
LOCATION:Room 303
END:VEVENT
BEGIN:VEVENT
DTSTART;TZID=America/Anchorage:20250430T160000
DTEND;TZID=America/Anchorage:20250430T170000
DTSTAMP:20260420T164434
CREATED:20241008T080648Z
LAST-MODIFIED:20250224T172048Z
UID:7844-1746028800-1746032400@kpbsd.org
SUMMARY:After School Study hall
DESCRIPTION:
URL:https://kpbsd.org/schools/homer-middle/event/after-school-study-hall-114/
END:VEVENT
END:VCALENDAR