BEGIN:VCALENDAR
VERSION:2.0
PRODID:-//Homer Middle School - ECPv6.8.2//NONSGML v1.0//EN
CALSCALE:GREGORIAN
METHOD:PUBLISH
X-WR-CALNAME:Homer Middle School
X-ORIGINAL-URL:https://kpbsd.org/schools/homer-middle
X-WR-CALDESC:Events for Homer Middle School
REFRESH-INTERVAL;VALUE=DURATION:PT1H
X-Robots-Tag:noindex
X-PUBLISHED-TTL:PT1H
BEGIN:VTIMEZONE
TZID:America/Anchorage
BEGIN:DAYLIGHT
TZOFFSETFROM:-0900
TZOFFSETTO:-0800
TZNAME:AKDT
DTSTART:20250309T110000
END:DAYLIGHT
BEGIN:STANDARD
TZOFFSETFROM:-0800
TZOFFSETTO:-0900
TZNAME:AKST
DTSTART:20251102T100000
END:STANDARD
END:VTIMEZONE
BEGIN:VEVENT
DTSTART;TZID=America/Anchorage:20250513T080000
DTEND;TZID=America/Anchorage:20250513T090000
DTSTAMP:20260421T052053
CREATED:20241013T085531Z
LAST-MODIFIED:20241021T095304Z
UID:8379-1747123200-1747126800@kpbsd.org
SUMMARY:Student council meeting
DESCRIPTION:
URL:https://kpbsd.org/schools/homer-middle/event/student-council-meeting-31/
LOCATION:principal’s office
END:VEVENT
BEGIN:VEVENT
DTSTART;TZID=America/Anchorage:20250513T120000
DTEND;TZID=America/Anchorage:20250513T180000
DTSTAMP:20260421T052053
CREATED:20240530T172342Z
LAST-MODIFIED:20250513T042337Z
UID:6473-1747137600-1747159200@kpbsd.org
SUMMARY:Track Borough Prelims @ Kenai
DESCRIPTION:Bus transportation information will be added here.\nField Events- noon\nRunning Prelims- 3 PM
URL:https://kpbsd.org/schools/homer-middle/event/track-borough-prelims-kenai/
LOCATION:KCHS Track
END:VEVENT
BEGIN:VEVENT
DTSTART;TZID=America/Anchorage:20250513T160000
DTEND;TZID=America/Anchorage:20250513T170000
DTSTAMP:20260421T052053
CREATED:20250326T214330Z
LAST-MODIFIED:20250513T042337Z
UID:12605-1747152000-1747155600@kpbsd.org
SUMMARY:Site Council Meeting
DESCRIPTION:
URL:https://kpbsd.org/schools/homer-middle/event/site-council-meeting-6/
END:VEVENT
BEGIN:VEVENT
DTSTART;TZID=America/Anchorage:20250514T124000
DTEND;TZID=America/Anchorage:20250514T132000
DTSTAMP:20260421T052053
CREATED:20241029T112740Z
LAST-MODIFIED:20250212T155356Z
UID:9292-1747226400-1747228800@kpbsd.org
SUMMARY:Chess Club
DESCRIPTION:
URL:https://kpbsd.org/schools/homer-middle/event/chess-club-27/
LOCATION:Room 303
END:VEVENT
BEGIN:VEVENT
DTSTART;TZID=America/Anchorage:20250515T123500
DTEND;TZID=America/Anchorage:20250515T131000
DTSTAMP:20260421T052053
CREATED:20250215T160444Z
LAST-MODIFIED:20250425T015149Z
UID:11512-1747312500-1747314600@kpbsd.org
SUMMARY:Chess club
DESCRIPTION:
URL:https://kpbsd.org/schools/homer-middle/event/chess-club-76/
END:VEVENT
BEGIN:VEVENT
DTSTART;TZID=America/Anchorage:20250515T124000
DTEND;TZID=America/Anchorage:20250515T132000
DTSTAMP:20260421T052053
CREATED:20250213T155041Z
LAST-MODIFIED:20250214T155052Z
UID:11384-1747312800-1747315200@kpbsd.org
SUMMARY:Chess Club
DESCRIPTION:
URL:https://kpbsd.org/schools/homer-middle/event/chess-club-59/
LOCATION:Room 303
END:VEVENT
BEGIN:VEVENT
DTSTART;TZID=America/Anchorage:20250515T190000
DTEND;TZID=America/Anchorage:20250515T210000
DTSTAMP:20260421T052053
CREATED:20240821T023506Z
LAST-MODIFIED:20250516T045719Z
UID:7038-1747335600-1747342800@kpbsd.org
SUMMARY:Band and Choir Concert
DESCRIPTION:
URL:https://kpbsd.org/schools/homer-middle/event/band-and-choir-concert-2/
END:VEVENT
BEGIN:VEVENT
DTSTART;TZID=America/Anchorage:20250516T180000
DTEND;TZID=America/Anchorage:20250516T200000
DTSTAMP:20260421T052053
CREATED:20240530T172342Z
LAST-MODIFIED:20250516T045720Z
UID:6476-1747418400-1747425600@kpbsd.org
SUMMARY:End of Year Dance
DESCRIPTION:
URL:https://kpbsd.org/schools/homer-middle/event/end-of-year-dance/
END:VEVENT
BEGIN:VEVENT
DTSTART;TZID=America/Anchorage:20250516T200000
DTEND;TZID=America/Anchorage:20250516T210000
DTSTAMP:20260421T052053
CREATED:20240530T172343Z
LAST-MODIFIED:20250516T045720Z
UID:6479-1747425600-1747429200@kpbsd.org
SUMMARY:8th Grade Celebration
DESCRIPTION:
URL:https://kpbsd.org/schools/homer-middle/event/8th-grade-celebration/
END:VEVENT
BEGIN:VEVENT
DTSTART;TZID=America/Anchorage:20250517T120000
DTEND;TZID=America/Anchorage:20250517T160000
DTSTAMP:20260421T052053
CREATED:20240530T172343Z
LAST-MODIFIED:20250517T050240Z
UID:6482-1747483200-1747497600@kpbsd.org
SUMMARY:Track Boroughs @ Kenai
DESCRIPTION:Bus transportation information will be added here.\nRunning Finals only.
URL:https://kpbsd.org/schools/homer-middle/event/track-boroughs-kenai/
LOCATION:KCHS Track
END:VEVENT
BEGIN:VEVENT
DTSTART;TZID=America/Anchorage:20250520T080000
DTEND;TZID=America/Anchorage:20250520T090000
DTSTAMP:20260421T052053
CREATED:20241013T085533Z
LAST-MODIFIED:20241021T095305Z
UID:8385-1747728000-1747731600@kpbsd.org
SUMMARY:Student council meeting
DESCRIPTION:
URL:https://kpbsd.org/schools/homer-middle/event/student-council-meeting-32/
LOCATION:principal’s office
END:VEVENT
BEGIN:VEVENT
DTSTART;TZID=America/Anchorage:20250520T124000
DTEND;TZID=America/Anchorage:20250520T132000
DTSTAMP:20260421T052053
CREATED:20250516T045720Z
LAST-MODIFIED:20250520T053038Z
UID:13385-1747744800-1747747200@kpbsd.org
SUMMARY:track pizza party
DESCRIPTION:
URL:https://kpbsd.org/schools/homer-middle/event/track-pizza-party/
END:VEVENT
BEGIN:VEVENT
DTSTART;TZID=America/Anchorage:20250521T124000
DTEND;TZID=America/Anchorage:20250521T132000
DTSTAMP:20260421T052053
CREATED:20241101T023510Z
LAST-MODIFIED:20250212T155358Z
UID:9503-1747831200-1747833600@kpbsd.org
SUMMARY:Chess Club
DESCRIPTION:
URL:https://kpbsd.org/schools/homer-middle/event/chess-club-28/
LOCATION:Room 303
END:VEVENT
BEGIN:VEVENT
DTSTART;VALUE=DATE:20250522
DTEND;VALUE=DATE:20250523
DTSTAMP:20260421T052053
CREATED:20240530T172343Z
LAST-MODIFIED:20250522T055915Z
UID:6485-1747872000-1747958399@kpbsd.org
SUMMARY:Last Day of School! and Quarter 4
DESCRIPTION:All work for all classes due by end of day!
URL:https://kpbsd.org/schools/homer-middle/event/last-day-of-school-and-quarter-4/
END:VEVENT
BEGIN:VEVENT
DTSTART;TZID=America/Anchorage:20250522T123500
DTEND;TZID=America/Anchorage:20250522T131000
DTSTAMP:20260421T052053
CREATED:20250215T160445Z
LAST-MODIFIED:20250425T015150Z
UID:11515-1747917300-1747919400@kpbsd.org
SUMMARY:Chess club
DESCRIPTION:
URL:https://kpbsd.org/schools/homer-middle/event/chess-club-77/
END:VEVENT
BEGIN:VEVENT
DTSTART;TZID=America/Anchorage:20250522T124000
DTEND;TZID=America/Anchorage:20250522T132000
DTSTAMP:20260421T052053
CREATED:20250213T155043Z
LAST-MODIFIED:20250214T155054Z
UID:11390-1747917600-1747920000@kpbsd.org
SUMMARY:Chess Club
DESCRIPTION:
URL:https://kpbsd.org/schools/homer-middle/event/chess-club-61/
LOCATION:Room 303
END:VEVENT
BEGIN:VEVENT
DTSTART;VALUE=DATE:20250528
DTEND;VALUE=DATE:20250529
DTSTAMP:20260421T052053
CREATED:20240530T172343Z
LAST-MODIFIED:20250528T071847Z
UID:6488-1748390400-1748476799@kpbsd.org
SUMMARY:Quarter 4 Report Cards emailed home
DESCRIPTION:
URL:https://kpbsd.org/schools/homer-middle/event/quarter-4-report-cards-emailed-home/
END:VEVENT
BEGIN:VEVENT
DTSTART;TZID=America/Anchorage:20250528T124000
DTEND;TZID=America/Anchorage:20250528T132000
DTSTAMP:20260421T052053
CREATED:20241103T000752Z
LAST-MODIFIED:20250212T155359Z
UID:9618-1748436000-1748438400@kpbsd.org
SUMMARY:Chess Club
DESCRIPTION:
URL:https://kpbsd.org/schools/homer-middle/event/chess-club-29/
LOCATION:Room 303
END:VEVENT
BEGIN:VEVENT
DTSTART;TZID=America/Anchorage:20250529T123500
DTEND;TZID=America/Anchorage:20250529T131000
DTSTAMP:20260421T052053
CREATED:20250215T160447Z
LAST-MODIFIED:20250412T000425Z
UID:11518-1748522100-1748524200@kpbsd.org
SUMMARY:Chess club
DESCRIPTION:
URL:https://kpbsd.org/schools/homer-middle/event/chess-club-78/
END:VEVENT
BEGIN:VEVENT
DTSTART;TZID=America/Anchorage:20250529T124000
DTEND;TZID=America/Anchorage:20250529T132000
DTSTAMP:20260421T052053
CREATED:20250213T155045Z
LAST-MODIFIED:20250214T155056Z
UID:11396-1748522400-1748524800@kpbsd.org
SUMMARY:Chess Club
DESCRIPTION:
URL:https://kpbsd.org/schools/homer-middle/event/chess-club-63/
LOCATION:Room 303
END:VEVENT
BEGIN:VEVENT
DTSTART;VALUE=DATE:20250820
DTEND;VALUE=DATE:20250821
DTSTAMP:20260421T052053
CREATED:20250413T000852Z
LAST-MODIFIED:20250820T124945Z
UID:13080-1755648000-1755734399@kpbsd.org
SUMMARY:School Opens!
DESCRIPTION:
URL:https://kpbsd.org/schools/homer-middle/event/school-opens-3/
END:VEVENT
BEGIN:VEVENT
DTSTART;VALUE=DATE:20250820
DTEND;VALUE=DATE:20250821
DTSTAMP:20260421T052053
CREATED:20250604T073519Z
LAST-MODIFIED:20250820T124945Z
UID:13556-1755648000-1755734399@kpbsd.org
SUMMARY:Soccer Practice Starts
DESCRIPTION:Students must have paperwork and $100 fee turned in to the office to be able to participate in practice.
URL:https://kpbsd.org/schools/homer-middle/event/soccer-practice-starts-2/
END:VEVENT
BEGIN:VEVENT
DTSTART;VALUE=DATE:20250820
DTEND;VALUE=DATE:20250821
DTSTAMP:20260421T052053
CREATED:20250604T073519Z
LAST-MODIFIED:20250820T124945Z
UID:13559-1755648000-1755734399@kpbsd.org
SUMMARY:Cross Country Practice Starts
DESCRIPTION:Students must have paperwork and $100 fee turned in to the office to be able to participate in practice.
URL:https://kpbsd.org/schools/homer-middle/event/cross-country-practice-starts-2/
END:VEVENT
BEGIN:VEVENT
DTSTART;TZID=America/Anchorage:20250827T173000
DTEND;TZID=America/Anchorage:20250827T180000
DTSTAMP:20260421T052053
CREATED:20250826T140049Z
LAST-MODIFIED:20250827T140755Z
UID:16221-1756315800-1756317600@kpbsd.org
SUMMARY:Boys' Soccer parent meeting
DESCRIPTION:
URL:https://kpbsd.org/schools/homer-middle/event/boys-soccer-parent-meeting-2/
LOCATION:library
END:VEVENT
BEGIN:VEVENT
DTSTART;TZID=America/Anchorage:20250828T173000
DTEND;TZID=America/Anchorage:20250828T180000
DTSTAMP:20260421T052053
CREATED:20250826T140050Z
LAST-MODIFIED:20250828T142809Z
UID:16224-1756402200-1756404000@kpbsd.org
SUMMARY:Girl's Soccer parent meeting
DESCRIPTION:
URL:https://kpbsd.org/schools/homer-middle/event/girls-soccer-parent-meeting-2/
LOCATION:library
END:VEVENT
BEGIN:VEVENT
DTSTART;VALUE=DATE:20250829
DTEND;VALUE=DATE:20250830
DTSTAMP:20260421T052053
CREATED:20250820T124942Z
LAST-MODIFIED:20250829T143316Z
UID:16182-1756425600-1756511999@kpbsd.org
SUMMARY:Spirit gear fundraiser closes today!
DESCRIPTION:https://ovfundraising.chipply.com/homermiddleschoolfall2025/?action=viewall&apid=17110810&acid=2042482
URL:https://kpbsd.org/schools/homer-middle/event/spirit-gear-fundraiser-closes-today/
END:VEVENT
BEGIN:VEVENT
DTSTART;TZID=America/Anchorage:20250829T123600
DTEND;TZID=America/Anchorage:20250829T125100
DTSTAMP:20260421T052053
CREATED:20250828T142804Z
LAST-MODIFIED:20250829T143316Z
UID:16256-1756470960-1756471860@kpbsd.org
SUMMARY:Student Council Interest Meeting
DESCRIPTION:
URL:https://kpbsd.org/schools/homer-middle/event/student-council-interest-meeting-2/
LOCATION:library
END:VEVENT
BEGIN:VEVENT
DTSTART;VALUE=DATE:20250901
DTEND;VALUE=DATE:20250902
DTSTAMP:20260421T052053
CREATED:20250413T000852Z
LAST-MODIFIED:20250901T151618Z
UID:13083-1756684800-1756771199@kpbsd.org
SUMMARY:NO SCHOOL
DESCRIPTION:
URL:https://kpbsd.org/schools/homer-middle/event/no-school/
END:VEVENT
BEGIN:VEVENT
DTSTART;VALUE=DATE:20250902
DTEND;VALUE=DATE:20250903
DTSTAMP:20260421T052053
CREATED:20250826T140050Z
LAST-MODIFIED:20250902T152507Z
UID:16227-1756771200-1756857599@kpbsd.org
SUMMARY:Site Council Nominations Close
DESCRIPTION:Homer Husky Families! \nHomer Middle School SiteCouncil has 3 open seats we are seeking volunteers to fill! The commitmentincludes attending monthly after-school meetings for 2 years and seeking outthe input/feedback of our parents or community to bring to the site council. \n\n2 parent     seats (2 year term)\n1 community     member seat (1 year term)\n\nIf you are interested infilling any of these roles\, please email me (mredmond@kpbsd.k12.ak.us) by Tuesday\, September 2\, 2025.You can also email or call (907-235-5700) if you have any questions. Ifmultiple people are interested in this opportunity\, we will have an electionimmediately after the September 2th deadline. \nSincerely\,  \nMeghan Redmond\,Principal Homer Middle School
URL:https://kpbsd.org/schools/homer-middle/event/site-council-nominations-close/
END:VEVENT
BEGIN:VEVENT
DTSTART;VALUE=DATE:20250902
DTEND;VALUE=DATE:20250906
DTSTAMP:20260421T052053
CREATED:20250605T073506Z
LAST-MODIFIED:20250905T153317Z
UID:13641-1756771200-1757116799@kpbsd.org
SUMMARY:Fall MAP Assessments
DESCRIPTION:
URL:https://kpbsd.org/schools/homer-middle/event/fall-map-assessments/
END:VEVENT
END:VCALENDAR