BEGIN:VCALENDAR
VERSION:2.0
PRODID:-//Homer Middle School - ECPv6.8.2//NONSGML v1.0//EN
CALSCALE:GREGORIAN
METHOD:PUBLISH
X-WR-CALNAME:Homer Middle School
X-ORIGINAL-URL:https://kpbsd.org/schools/homer-middle
X-WR-CALDESC:Events for Homer Middle School
REFRESH-INTERVAL;VALUE=DURATION:PT1H
X-Robots-Tag:noindex
X-PUBLISHED-TTL:PT1H
BEGIN:VTIMEZONE
TZID:America/Anchorage
BEGIN:DAYLIGHT
TZOFFSETFROM:-0900
TZOFFSETTO:-0800
TZNAME:AKDT
DTSTART:20250309T110000
END:DAYLIGHT
BEGIN:STANDARD
TZOFFSETFROM:-0800
TZOFFSETTO:-0900
TZNAME:AKST
DTSTART:20251102T100000
END:STANDARD
END:VTIMEZONE
BEGIN:VEVENT
DTSTART;TZID=America/Anchorage:20250114T160000
DTEND;TZID=America/Anchorage:20250114T170000
DTSTAMP:20260422T165202
CREATED:20241008T080619Z
LAST-MODIFIED:20250114T130755Z
UID:7636-1736870400-1736874000@kpbsd.org
SUMMARY:After School Study hall
DESCRIPTION:
URL:https://kpbsd.org/schools/homer-middle/event/after-school-study-hall-53/
END:VEVENT
BEGIN:VEVENT
DTSTART;TZID=America/Anchorage:20250114T160000
DTEND;TZID=America/Anchorage:20250114T170000
DTSTAMP:20260422T165202
CREATED:20241121T040510Z
LAST-MODIFIED:20250114T130755Z
UID:10313-1736870400-1736874000@kpbsd.org
SUMMARY:Site Council Meeting
DESCRIPTION:
URL:https://kpbsd.org/schools/homer-middle/event/site-council-meeting-3/
END:VEVENT
BEGIN:VEVENT
DTSTART;TZID=America/Anchorage:20250115T124000
DTEND;TZID=America/Anchorage:20250115T132000
DTSTAMP:20260422T165202
CREATED:20241013T085507Z
LAST-MODIFIED:20250115T131959Z
UID:8279-1736944800-1736947200@kpbsd.org
SUMMARY:Battle of the Books Practice
DESCRIPTION:
URL:https://kpbsd.org/schools/homer-middle/event/battle-of-the-books-practice-14/
LOCATION:library
END:VEVENT
BEGIN:VEVENT
DTSTART;TZID=America/Anchorage:20250115T124000
DTEND;TZID=America/Anchorage:20250115T132000
DTSTAMP:20260422T165202
CREATED:20241022T101221Z
LAST-MODIFIED:20250115T131959Z
UID:8898-1736944800-1736947200@kpbsd.org
SUMMARY:Chess Club
DESCRIPTION:
URL:https://kpbsd.org/schools/homer-middle/event/chess-club-10/
LOCATION:Room 303
END:VEVENT
BEGIN:VEVENT
DTSTART;TZID=America/Anchorage:20250115T160000
DTEND;TZID=America/Anchorage:20250115T170000
DTSTAMP:20260422T165202
CREATED:20241008T080619Z
LAST-MODIFIED:20250115T131959Z
UID:7639-1736956800-1736960400@kpbsd.org
SUMMARY:After School Study hall
DESCRIPTION:
URL:https://kpbsd.org/schools/homer-middle/event/after-school-study-hall-54/
END:VEVENT
BEGIN:VEVENT
DTSTART;TZID=America/Anchorage:20250116T123200
DTEND;TZID=America/Anchorage:20250116T131000
DTSTAMP:20260422T165202
CREATED:20250109T121901Z
LAST-MODIFIED:20250116T131934Z
UID:10774-1737030720-1737033000@kpbsd.org
SUMMARY:Spelling Bee practice session
DESCRIPTION:
URL:https://kpbsd.org/schools/homer-middle/event/spelling-bee-practice-session-3/
LOCATION:Room 303
END:VEVENT
BEGIN:VEVENT
DTSTART;TZID=America/Anchorage:20250116T160000
DTEND;TZID=America/Anchorage:20250116T170000
DTSTAMP:20260422T165202
CREATED:20241008T080619Z
LAST-MODIFIED:20250116T131934Z
UID:7642-1737043200-1737046800@kpbsd.org
SUMMARY:After School Study hall
DESCRIPTION:
URL:https://kpbsd.org/schools/homer-middle/event/after-school-study-hall-55/
END:VEVENT
BEGIN:VEVENT
DTSTART;TZID=America/Anchorage:20250117T142000
DTEND;TZID=America/Anchorage:20250117T155000
DTSTAMP:20260422T165202
CREATED:20240530T172331Z
LAST-MODIFIED:20250117T132238Z
UID:6299-1737123600-1737129000@kpbsd.org
SUMMARY:Early Release Day (2:20 Release)
DESCRIPTION:
URL:https://kpbsd.org/schools/homer-middle/event/early-release-day-220-release-6/
END:VEVENT
BEGIN:VEVENT
DTSTART;TZID=America/Anchorage:20250118T100000
DTEND;TZID=America/Anchorage:20250118T170000
DTSTAMP:20260422T165202
CREATED:20240530T172331Z
LAST-MODIFIED:20250118T133442Z
UID:6302-1737194400-1737219600@kpbsd.org
SUMMARY:Wrestling @ Seward
DESCRIPTION:Bus departs at 5 am
URL:https://kpbsd.org/schools/homer-middle/event/wrestling-seward/
END:VEVENT
BEGIN:VEVENT
DTSTART;TZID=America/Anchorage:20250120T160000
DTEND;TZID=America/Anchorage:20250120T170000
DTSTAMP:20260422T165202
CREATED:20241008T080620Z
LAST-MODIFIED:20250120T134943Z
UID:7645-1737388800-1737392400@kpbsd.org
SUMMARY:After School Study hall
DESCRIPTION:
URL:https://kpbsd.org/schools/homer-middle/event/after-school-study-hall-56/
END:VEVENT
BEGIN:VEVENT
DTSTART;TZID=America/Anchorage:20250121T080000
DTEND;TZID=America/Anchorage:20250121T090000
DTSTAMP:20260422T165202
CREATED:20241013T085508Z
LAST-MODIFIED:20241028T111904Z
UID:8282-1737446400-1737450000@kpbsd.org
SUMMARY:Student council meeting
DESCRIPTION:
URL:https://kpbsd.org/schools/homer-middle/event/student-council-meeting-15/
LOCATION:principal’s office
END:VEVENT
BEGIN:VEVENT
DTSTART;TZID=America/Anchorage:20250121T124000
DTEND;TZID=America/Anchorage:20250121T132000
DTSTAMP:20260422T165202
CREATED:20250109T121902Z
LAST-MODIFIED:20250121T140331Z
UID:10777-1737463200-1737465600@kpbsd.org
SUMMARY:Spelling Bee practice session
DESCRIPTION:
URL:https://kpbsd.org/schools/homer-middle/event/spelling-bee-practice-session-4/
LOCATION:Room 303
END:VEVENT
BEGIN:VEVENT
DTSTART;TZID=America/Anchorage:20250121T145000
DTEND;TZID=America/Anchorage:20250121T155000
DTSTAMP:20260422T165202
CREATED:20250116T131932Z
LAST-MODIFIED:20250121T140331Z
UID:10858-1737471000-1737474600@kpbsd.org
SUMMARY:Spelling Bee Prelims
DESCRIPTION:
URL:https://kpbsd.org/schools/homer-middle/event/spelling-bee-prelims/
END:VEVENT
BEGIN:VEVENT
DTSTART;TZID=America/Anchorage:20250121T160000
DTEND;TZID=America/Anchorage:20250121T170000
DTSTAMP:20260422T165202
CREATED:20241008T080620Z
LAST-MODIFIED:20250121T140331Z
UID:7648-1737475200-1737478800@kpbsd.org
SUMMARY:After School Study hall
DESCRIPTION:
URL:https://kpbsd.org/schools/homer-middle/event/after-school-study-hall-57/
END:VEVENT
BEGIN:VEVENT
DTSTART;TZID=America/Anchorage:20250122T124000
DTEND;TZID=America/Anchorage:20250122T132000
DTSTAMP:20260422T165202
CREATED:20241013T085508Z
LAST-MODIFIED:20250122T140349Z
UID:8285-1737549600-1737552000@kpbsd.org
SUMMARY:Battle of the Books Practice
DESCRIPTION:
URL:https://kpbsd.org/schools/homer-middle/event/battle-of-the-books-practice-15/
LOCATION:library
END:VEVENT
BEGIN:VEVENT
DTSTART;TZID=America/Anchorage:20250122T124000
DTEND;TZID=America/Anchorage:20250122T132000
DTSTAMP:20260422T165202
CREATED:20241022T101223Z
LAST-MODIFIED:20250122T140349Z
UID:8903-1737549600-1737552000@kpbsd.org
SUMMARY:Chess Club
DESCRIPTION:
URL:https://kpbsd.org/schools/homer-middle/event/chess-club-11/
LOCATION:Room 303
END:VEVENT
BEGIN:VEVENT
DTSTART;TZID=America/Anchorage:20250122T160000
DTEND;TZID=America/Anchorage:20250122T170000
DTSTAMP:20260422T165202
CREATED:20241008T080621Z
LAST-MODIFIED:20250122T140349Z
UID:7651-1737561600-1737565200@kpbsd.org
SUMMARY:After School Study hall
DESCRIPTION:
URL:https://kpbsd.org/schools/homer-middle/event/after-school-study-hall-58/
END:VEVENT
BEGIN:VEVENT
DTSTART;TZID=America/Anchorage:20250123T123200
DTEND;TZID=America/Anchorage:20250123T131000
DTSTAMP:20260422T165202
CREATED:20250109T121903Z
LAST-MODIFIED:20250123T141258Z
UID:10780-1737635520-1737637800@kpbsd.org
SUMMARY:Spelling Bee practice session
DESCRIPTION:
URL:https://kpbsd.org/schools/homer-middle/event/spelling-bee-practice-session-5/
LOCATION:Room 303
END:VEVENT
BEGIN:VEVENT
DTSTART;TZID=America/Anchorage:20250123T160000
DTEND;TZID=America/Anchorage:20250123T170000
DTSTAMP:20260422T165202
CREATED:20241008T080621Z
LAST-MODIFIED:20250123T141258Z
UID:7654-1737648000-1737651600@kpbsd.org
SUMMARY:After School Study hall
DESCRIPTION:
URL:https://kpbsd.org/schools/homer-middle/event/after-school-study-hall-59/
END:VEVENT
BEGIN:VEVENT
DTSTART;TZID=America/Anchorage:20250124T150000
DTEND;TZID=America/Anchorage:20250124T180000
DTSTAMP:20260422T165202
CREATED:20240530T172331Z
LAST-MODIFIED:20250124T142046Z
UID:6305-1737730800-1737741600@kpbsd.org
SUMMARY:Nordic Ski Meet @ HOME
DESCRIPTION:Bus transportation will be updated here.
URL:https://kpbsd.org/schools/homer-middle/event/nordic-ski-meet-home/
END:VEVENT
BEGIN:VEVENT
DTSTART;TZID=America/Anchorage:20250125T100000
DTEND;TZID=America/Anchorage:20250125T170000
DTSTAMP:20260422T165202
CREATED:20240530T172331Z
LAST-MODIFIED:20250125T143334Z
UID:6308-1737799200-1737824400@kpbsd.org
SUMMARY:Wrestling @ Nikiski
DESCRIPTION:Bus departs at 7 am.
URL:https://kpbsd.org/schools/homer-middle/event/wrestling-nikiski/
END:VEVENT
BEGIN:VEVENT
DTSTART;VALUE=DATE:20250127
DTEND;VALUE=DATE:20250128
DTSTAMP:20260422T165202
CREATED:20240530T172332Z
LAST-MODIFIED:20250127T143439Z
UID:6311-1737936000-1738022399@kpbsd.org
SUMMARY:Volleyball Practice Begins
DESCRIPTION:Students must have paperwork and $60 fee turned in to the office to be able to participate in practice.
URL:https://kpbsd.org/schools/homer-middle/event/volleyball-practice-begins/
END:VEVENT
BEGIN:VEVENT
DTSTART;TZID=America/Anchorage:20250127T160000
DTEND;TZID=America/Anchorage:20250127T170000
DTSTAMP:20260422T165202
CREATED:20241008T080622Z
LAST-MODIFIED:20250127T143439Z
UID:7657-1737993600-1737997200@kpbsd.org
SUMMARY:After School Study hall
DESCRIPTION:
URL:https://kpbsd.org/schools/homer-middle/event/after-school-study-hall-60/
END:VEVENT
BEGIN:VEVENT
DTSTART;TZID=America/Anchorage:20250128T080000
DTEND;TZID=America/Anchorage:20250128T090000
DTSTAMP:20260422T165202
CREATED:20241013T085509Z
LAST-MODIFIED:20241028T111906Z
UID:8288-1738051200-1738054800@kpbsd.org
SUMMARY:Student council meeting
DESCRIPTION:
URL:https://kpbsd.org/schools/homer-middle/event/student-council-meeting-16/
LOCATION:principal’s office
END:VEVENT
BEGIN:VEVENT
DTSTART;TZID=America/Anchorage:20250128T124000
DTEND;TZID=America/Anchorage:20250128T132000
DTSTAMP:20260422T165202
CREATED:20250109T121905Z
LAST-MODIFIED:20250128T144640Z
UID:10783-1738068000-1738070400@kpbsd.org
SUMMARY:Spelling Bee practice session
DESCRIPTION:
URL:https://kpbsd.org/schools/homer-middle/event/spelling-bee-practice-session-6/
LOCATION:Room 303
END:VEVENT
BEGIN:VEVENT
DTSTART;TZID=America/Anchorage:20250128T160000
DTEND;TZID=America/Anchorage:20250128T170000
DTSTAMP:20260422T165202
CREATED:20241008T080622Z
LAST-MODIFIED:20250128T144640Z
UID:7660-1738080000-1738083600@kpbsd.org
SUMMARY:After School Study hall
DESCRIPTION:
URL:https://kpbsd.org/schools/homer-middle/event/after-school-study-hall-61/
END:VEVENT
BEGIN:VEVENT
DTSTART;TZID=America/Anchorage:20250128T173000
DTEND;TZID=America/Anchorage:20250128T183000
DTSTAMP:20260422T165202
CREATED:20250107T120328Z
LAST-MODIFIED:20250128T144640Z
UID:10733-1738085400-1738089000@kpbsd.org
SUMMARY:AKtoDC 2026 Meeting
DESCRIPTION:
URL:https://kpbsd.org/schools/homer-middle/event/aktodc-2026-meeting/
LOCATION:library
END:VEVENT
BEGIN:VEVENT
DTSTART;TZID=America/Anchorage:20250129T124000
DTEND;TZID=America/Anchorage:20250129T132000
DTSTAMP:20260422T165202
CREATED:20241013T085509Z
LAST-MODIFIED:20250129T144813Z
UID:8291-1738154400-1738156800@kpbsd.org
SUMMARY:Battle of the Books Practice
DESCRIPTION:
URL:https://kpbsd.org/schools/homer-middle/event/battle-of-the-books-practice-16/
LOCATION:library
END:VEVENT
BEGIN:VEVENT
DTSTART;TZID=America/Anchorage:20250129T124000
DTEND;TZID=America/Anchorage:20250129T132000
DTSTAMP:20260422T165202
CREATED:20241022T101225Z
LAST-MODIFIED:20250129T144813Z
UID:8909-1738154400-1738156800@kpbsd.org
SUMMARY:Chess Club
DESCRIPTION:
URL:https://kpbsd.org/schools/homer-middle/event/chess-club-12/
LOCATION:Room 303
END:VEVENT
BEGIN:VEVENT
DTSTART;TZID=America/Anchorage:20250129T160000
DTEND;TZID=America/Anchorage:20250129T170000
DTSTAMP:20260422T165202
CREATED:20241008T080622Z
LAST-MODIFIED:20250129T144813Z
UID:7663-1738166400-1738170000@kpbsd.org
SUMMARY:After School Study hall
DESCRIPTION:
URL:https://kpbsd.org/schools/homer-middle/event/after-school-study-hall-62/
END:VEVENT
END:VCALENDAR