BEGIN:VCALENDAR
VERSION:2.0
PRODID:-//K-Beach Elementary - ECPv6.8.2//NONSGML v1.0//EN
CALSCALE:GREGORIAN
METHOD:PUBLISH
X-ORIGINAL-URL:https://kpbsd.org/schools/k-beach
X-WR-CALDESC:Events for K-Beach Elementary
REFRESH-INTERVAL;VALUE=DURATION:PT1H
X-Robots-Tag:noindex
X-PUBLISHED-TTL:PT1H
BEGIN:VTIMEZONE
TZID:UTC
BEGIN:STANDARD
TZOFFSETFROM:+0000
TZOFFSETTO:+0000
TZNAME:UTC
DTSTART:20200101T000000
END:STANDARD
END:VTIMEZONE
BEGIN:VEVENT
DTSTART;VALUE=DATE:20201005
DTEND;VALUE=DATE:20201006
DTSTAMP:20260419T082423
CREATED:20200820T010808Z
LAST-MODIFIED:20200820T010808Z
UID:2598-1601856000-1601942399@kpbsd.org
SUMMARY:Re-Entry Date
DESCRIPTION:
URL:https://kpbsd.org/schools/k-beach/event/re-entry-date-3/
END:VEVENT
END:VCALENDAR