BEGIN:VCALENDAR
VERSION:2.0
PRODID:-//K-Beach Elementary - ECPv6.8.2//NONSGML v1.0//EN
CALSCALE:GREGORIAN
METHOD:PUBLISH
X-WR-CALNAME:K-Beach Elementary
X-ORIGINAL-URL:https://kpbsd.org/schools/k-beach
X-WR-CALDESC:Events for K-Beach Elementary
REFRESH-INTERVAL;VALUE=DURATION:PT1H
X-Robots-Tag:noindex
X-PUBLISHED-TTL:PT1H
BEGIN:VTIMEZONE
TZID:America/Anchorage
BEGIN:DAYLIGHT
TZOFFSETFROM:-0900
TZOFFSETTO:-0800
TZNAME:AKDT
DTSTART:20210314T110000
END:DAYLIGHT
BEGIN:STANDARD
TZOFFSETFROM:-0800
TZOFFSETTO:-0900
TZNAME:AKST
DTSTART:20211107T100000
END:STANDARD
END:VTIMEZONE
BEGIN:VEVENT
DTSTART;VALUE=DATE:20210817
DTEND;VALUE=DATE:20210818
DTSTAMP:20260420T191330
CREATED:20210529T135542Z
LAST-MODIFIED:20210601T190456Z
UID:2952-1629158400-1629244799@kpbsd.org
SUMMARY:First Day of School
DESCRIPTION:7:55am – 2:25pm
URL:https://kpbsd.org/schools/k-beach/event/school-starts/
END:VEVENT
END:VCALENDAR