BEGIN:VCALENDAR
VERSION:2.0
PRODID:-//K-Beach Elementary - ECPv6.8.2//NONSGML v1.0//EN
CALSCALE:GREGORIAN
METHOD:PUBLISH
X-ORIGINAL-URL:https://kpbsd.org/schools/k-beach
X-WR-CALDESC:Events for K-Beach Elementary
REFRESH-INTERVAL;VALUE=DURATION:PT1H
X-Robots-Tag:noindex
X-PUBLISHED-TTL:PT1H
BEGIN:VTIMEZONE
TZID:UTC
BEGIN:STANDARD
TZOFFSETFROM:+0000
TZOFFSETTO:+0000
TZNAME:UTC
DTSTART:20200101T000000
END:STANDARD
END:VTIMEZONE
BEGIN:VEVENT
DTSTART;VALUE=DATE:20201102
DTEND;VALUE=DATE:20201103
DTSTAMP:20260423T114908
CREATED:20200820T010851Z
LAST-MODIFIED:20200820T010851Z
UID:2602-1604275200-1604361599@kpbsd.org
SUMMARY:Re-Entry Date
DESCRIPTION:
URL:https://kpbsd.org/schools/k-beach/event/re-entry-date-5/
END:VEVENT
BEGIN:VEVENT
DTSTART;VALUE=DATE:20201116
DTEND;VALUE=DATE:20201117
DTSTAMP:20260423T114908
CREATED:20200820T011015Z
LAST-MODIFIED:20200820T011015Z
UID:2606-1605484800-1605571199@kpbsd.org
SUMMARY:Re-Entry Date
DESCRIPTION:
URL:https://kpbsd.org/schools/k-beach/event/re-entry-date-7/
END:VEVENT
BEGIN:VEVENT
DTSTART;VALUE=DATE:20201126
DTEND;VALUE=DATE:20201128
DTSTAMP:20260423T114908
CREATED:20200827T041117Z
LAST-MODIFIED:20200827T041117Z
UID:2701-1606348800-1606521599@kpbsd.org
SUMMARY:Holiday-No School
DESCRIPTION:
URL:https://kpbsd.org/schools/k-beach/event/holiday-no-school/
END:VEVENT
BEGIN:VEVENT
DTSTART;VALUE=DATE:20201130
DTEND;VALUE=DATE:20201201
DTSTAMP:20260423T114908
CREATED:20200820T010919Z
LAST-MODIFIED:20200820T010919Z
UID:2604-1606694400-1606780799@kpbsd.org
SUMMARY:Re-Entry Date
DESCRIPTION:
URL:https://kpbsd.org/schools/k-beach/event/re-entry-date-6/
END:VEVENT
END:VCALENDAR