BEGIN:VCALENDAR
VERSION:2.0
PRODID:-//K-Beach Elementary - ECPv6.8.2//NONSGML v1.0//EN
CALSCALE:GREGORIAN
METHOD:PUBLISH
X-ORIGINAL-URL:https://kpbsd.org/schools/k-beach
X-WR-CALDESC:Events for K-Beach Elementary
REFRESH-INTERVAL;VALUE=DURATION:PT1H
X-Robots-Tag:noindex
X-PUBLISHED-TTL:PT1H
BEGIN:VTIMEZONE
TZID:UTC
BEGIN:STANDARD
TZOFFSETFROM:+0000
TZOFFSETTO:+0000
TZNAME:UTC
DTSTART:20210101T000000
END:STANDARD
END:VTIMEZONE
BEGIN:VEVENT
DTSTART;TZID=UTC:20210211T144500
DTEND;TZID=UTC:20210211T160000
DTSTAMP:20260424T142426
CREATED:20200819T061137Z
LAST-MODIFIED:20200819T061137Z
UID:2569-1613054700-1613059200@kpbsd.org
SUMMARY:Site Council Meeting
DESCRIPTION:
URL:https://kpbsd.org/schools/k-beach/event/site-council-meeting-3/
END:VEVENT
BEGIN:VEVENT
DTSTART;VALUE=DATE:20210217
DTEND;VALUE=DATE:20210218
DTSTAMP:20260424T142426
CREATED:20200827T040534Z
LAST-MODIFIED:20210208T222647Z
UID:2684-1613520000-1613606399@kpbsd.org
SUMMARY:Early Release
DESCRIPTION:School is dismissed at 1:25.
URL:https://kpbsd.org/schools/k-beach/event/early-release-4/
END:VEVENT
BEGIN:VEVENT
DTSTART;VALUE=DATE:20210218
DTEND;VALUE=DATE:20210220
DTSTAMP:20260424T142426
CREATED:20200827T040811Z
LAST-MODIFIED:20210208T192548Z
UID:2693-1613606400-1613779199@kpbsd.org
SUMMARY:Parent/Teacher Conferences- No School
DESCRIPTION:
URL:https://kpbsd.org/schools/k-beach/event/parent-teacher-conferences-2/
END:VEVENT
END:VCALENDAR