BEGIN:VCALENDAR
VERSION:2.0
PRODID:-//K-Beach Elementary - ECPv6.8.2//NONSGML v1.0//EN
CALSCALE:GREGORIAN
METHOD:PUBLISH
X-ORIGINAL-URL:https://kpbsd.org/schools/k-beach
X-WR-CALDESC:Events for K-Beach Elementary
REFRESH-INTERVAL;VALUE=DURATION:PT1H
X-Robots-Tag:noindex
X-PUBLISHED-TTL:PT1H
BEGIN:VTIMEZONE
TZID:UTC
BEGIN:STANDARD
TZOFFSETFROM:+0000
TZOFFSETTO:+0000
TZNAME:UTC
DTSTART:20210101T000000
END:STANDARD
END:VTIMEZONE
BEGIN:VEVENT
DTSTART;VALUE=DATE:20210402
DTEND;VALUE=DATE:20210403
DTSTAMP:20260424T140235
CREATED:20200827T041227Z
LAST-MODIFIED:20200827T041227Z
UID:2705-1617321600-1617407999@kpbsd.org
SUMMARY:Vacation Day- No School
DESCRIPTION:
URL:https://kpbsd.org/schools/k-beach/event/vacation-day-no-school-2/
END:VEVENT
BEGIN:VEVENT
DTSTART;VALUE=DATE:20210421
DTEND;VALUE=DATE:20210422
DTSTAMP:20260424T140235
CREATED:20200827T040639Z
LAST-MODIFIED:20210210T194230Z
UID:2688-1618963200-1619049599@kpbsd.org
SUMMARY:Early Release
DESCRIPTION:School is dismissed at 1:25.
URL:https://kpbsd.org/schools/k-beach/event/early-release-6/
END:VEVENT
BEGIN:VEVENT
DTSTART;TZID=UTC:20210422T144500
DTEND;TZID=UTC:20210422T160000
DTSTAMP:20260424T140235
CREATED:20200819T061214Z
LAST-MODIFIED:20200819T061214Z
UID:2571-1619102700-1619107200@kpbsd.org
SUMMARY:Site Council Meeting
DESCRIPTION:
URL:https://kpbsd.org/schools/k-beach/event/site-council-meeting-4/
END:VEVENT
END:VCALENDAR