BEGIN:VCALENDAR
VERSION:2.0
PRODID:-//Kaleidoscope School of Arts and Science - ECPv6.8.2//NONSGML v1.0//EN
CALSCALE:GREGORIAN
METHOD:PUBLISH
X-ORIGINAL-URL:https://kpbsd.org/schools/kaleidoscope
X-WR-CALDESC:Events for Kaleidoscope School of Arts and Science
REFRESH-INTERVAL;VALUE=DURATION:PT1H
X-Robots-Tag:noindex
X-PUBLISHED-TTL:PT1H
BEGIN:VTIMEZONE
TZID:America/Anchorage
BEGIN:DAYLIGHT
TZOFFSETFROM:-0900
TZOFFSETTO:-0800
TZNAME:AKDT
DTSTART:20240310T110000
END:DAYLIGHT
BEGIN:STANDARD
TZOFFSETFROM:-0800
TZOFFSETTO:-0900
TZNAME:AKST
DTSTART:20241103T100000
END:STANDARD
END:VTIMEZONE
BEGIN:VEVENT
DTSTART;VALUE=DATE:20240816
DTEND;VALUE=DATE:20240817
DTSTAMP:20260421T061127
CREATED:20240529T155852Z
LAST-MODIFIED:20240529T155852Z
UID:4617-1723766400-1723852799@kpbsd.org
SUMMARY:Class List Posted
DESCRIPTION:Class lists will be posted to the front entry door windows around noon.
URL:https://kpbsd.org/schools/kaleidoscope/event/class-list-posted/
END:VEVENT
BEGIN:VEVENT
DTSTART;TZID=America/Anchorage:20240820T160000
DTEND;TZID=America/Anchorage:20240820T170000
DTSTAMP:20260421T061127
CREATED:20240529T155640Z
LAST-MODIFIED:20240529T155640Z
UID:4612-1724169600-1724173200@kpbsd.org
SUMMARY:APC Meeting
DESCRIPTION:
URL:https://kpbsd.org/schools/kaleidoscope/event/apc-meeting-4/
END:VEVENT
BEGIN:VEVENT
DTSTART;TZID=America/Anchorage:20240820T170000
DTEND;TZID=America/Anchorage:20240820T173000
DTSTAMP:20260421T061127
CREATED:20240529T155720Z
LAST-MODIFIED:20240529T155720Z
UID:4614-1724173200-1724175000@kpbsd.org
SUMMARY:Meet the teacher
DESCRIPTION:
URL:https://kpbsd.org/schools/kaleidoscope/event/meet-the-teacher-2/
END:VEVENT
BEGIN:VEVENT
DTSTART;TZID=America/Anchorage:20240821T080000
DTEND;TZID=America/Anchorage:20240821T170000
DTSTAMP:20260421T061127
CREATED:20240517T065345Z
LAST-MODIFIED:20240816T090222Z
UID:4456-1724227200-1724259600@kpbsd.org
SUMMARY:First Day of School
DESCRIPTION:
URL:https://kpbsd.org/schools/kaleidoscope/event/first-day-of-school-2/
CATEGORIES:Districtwide Calendar
END:VEVENT
BEGIN:VEVENT
DTSTART;TZID=America/Anchorage:20240821T085500
DTEND;TZID=America/Anchorage:20240821T154000
DTSTAMP:20260421T061127
CREATED:20240808T183535Z
LAST-MODIFIED:20240808T183936Z
UID:4735-1724230500-1724254800@kpbsd.org
SUMMARY:First Day of School
DESCRIPTION:Welcome Back to School! \nStudents can go to classrooms at 8:55\, tarty bell rings at 9:10 and school gets out at 3:40. \nPlease remember to notify the office if your student is riding the bus this school year\, even if they will ride the same bus from last year. Bus routes change from year to year so look up your bus information and give us a call.
URL:https://kpbsd.org/schools/kaleidoscope/event/first-day-of-school-3/
END:VEVENT
END:VCALENDAR