BEGIN:VCALENDAR
VERSION:2.0
PRODID:-//Kenai Central High School - ECPv6.8.2//NONSGML v1.0//EN
CALSCALE:GREGORIAN
METHOD:PUBLISH
X-ORIGINAL-URL:https://kpbsd.org/schools/kenai-central
X-WR-CALDESC:Events for Kenai Central High School
REFRESH-INTERVAL;VALUE=DURATION:PT1H
X-Robots-Tag:noindex
X-PUBLISHED-TTL:PT1H
BEGIN:VTIMEZONE
TZID:America/Anchorage
BEGIN:DAYLIGHT
TZOFFSETFROM:-0900
TZOFFSETTO:-0800
TZNAME:AKDT
DTSTART:20210314T110000
END:DAYLIGHT
BEGIN:STANDARD
TZOFFSETFROM:-0800
TZOFFSETTO:-0900
TZNAME:AKST
DTSTART:20211107T100000
END:STANDARD
END:VTIMEZONE
BEGIN:VEVENT
DTSTART;TZID=America/Anchorage:20210513T060000
DTEND;TZID=America/Anchorage:20210513T073000
DTSTAMP:20260419T140004
CREATED:20210419T182138Z
LAST-MODIFIED:20210426T182408Z
UID:1716-1620885600-1620891000@kpbsd.org
SUMMARY:Girls JV Soccer
DESCRIPTION:Sport: Soccer\nLevel: Girls JV\nTeam: Kenai Central High School\nSite: TBA
URL:https://kpbsd.org/schools/kenai-central/event/girls-jv-soccer-nikiski-high-school/
LOCATION:(unknown) (unknown)\, (unknown) (unknown)  (unknown)
END:VEVENT
BEGIN:VEVENT
DTSTART;TZID=America/Anchorage:20210513T150000
DTEND;TZID=America/Anchorage:20210513T163000
DTSTAMP:20260419T140004
CREATED:20210419T182138Z
LAST-MODIFIED:20210503T183118Z
UID:1717-1620918000-1620923400@kpbsd.org
SUMMARY:Girls Varsity Soccer @ Nikiski High School
DESCRIPTION:Sport: Soccer\nLevel: Girls Varsity\nTeam: Kenai Central High School\nSite: Nikiski High School\nSubsite: Practice Field
URL:https://kpbsd.org/schools/kenai-central/event/girls-varsity-soccer-nikiski-high-school/
LOCATION:52275 Education Drive\, Nikisiki Alaska  99611
END:VEVENT
BEGIN:VEVENT
DTSTART;TZID=America/Anchorage:20210513T160000
DTEND;TZID=America/Anchorage:20210513T173000
DTSTAMP:20260419T140004
CREATED:20210419T182138Z
LAST-MODIFIED:20210426T182409Z
UID:1719-1620921600-1620927000@kpbsd.org
SUMMARY:Girls JV Softball vs Soldotna High School
DESCRIPTION:Sport: Softball\nLevel: Girls JV\nTeam: Kenai Central High School\nSite: Kenai Central High School\nSubsite: Softball Fields
URL:https://kpbsd.org/schools/kenai-central/event/girls-jv-softball-vs-soldotna-high-school-2/
LOCATION:9583 Kenai Spur Hwy\, Kenai AK  99611-7898
END:VEVENT
BEGIN:VEVENT
DTSTART;TZID=America/Anchorage:20210513T170000
DTEND;TZID=America/Anchorage:20210513T183000
DTSTAMP:20260419T140004
CREATED:20210419T182138Z
LAST-MODIFIED:20210503T183118Z
UID:1718-1620925200-1620930600@kpbsd.org
SUMMARY:Boys Varsity Soccer @ Nikiski High School
DESCRIPTION:Sport: Soccer\nLevel: Boys Varsity\nTeam: Kenai Central High School\nSite: Nikiski High School\nSubsite: Practice Field
URL:https://kpbsd.org/schools/kenai-central/event/boys-varsity-soccer-nikiski-high-school/
LOCATION:52275 Education Drive\, Nikisiki Alaska  99611
END:VEVENT
BEGIN:VEVENT
DTSTART;TZID=America/Anchorage:20210513T170000
DTEND;TZID=America/Anchorage:20210513T183000
DTSTAMP:20260419T140004
CREATED:20210419T182139Z
LAST-MODIFIED:20210510T183539Z
UID:1720-1620925200-1620930600@kpbsd.org
SUMMARY:Girls Varsity Softball vs Soldotna High School
DESCRIPTION:Sport: Softball\nLevel: Girls Varsity\nTeam: Kenai Central High School\nSite: Kenai Central High School\nSubsite: Softball Fields
URL:https://kpbsd.org/schools/kenai-central/event/girls-varsity-softball-vs-soldotna-high-school-2/
LOCATION:9583 Kenai Spur Hwy\, Kenai AK  99611-7898
END:VEVENT
BEGIN:VEVENT
DTSTART;TZID=America/Anchorage:20210513T170000
DTEND;TZID=America/Anchorage:20210513T190000
DTSTAMP:20260419T140004
CREATED:20210510T183537Z
LAST-MODIFIED:20210510T183539Z
UID:1783-1620925200-1620932400@kpbsd.org
SUMMARY:Girls Varsity Soccer vs Nikiski High School
DESCRIPTION:Sport: Soccer\nLevel: Girls Varsity\nTeam: Kenai Central High School\nSite: Kenai Central High School\nSubsite: Ed Hollier Stadium
URL:https://kpbsd.org/schools/kenai-central/event/girls-varsity-soccer-vs-nikiski-high-school-2/
LOCATION:9583 Kenai Spur Hwy\, Kenai AK  99611-7898
END:VEVENT
BEGIN:VEVENT
DTSTART;TZID=America/Anchorage:20210513T190000
DTEND;TZID=America/Anchorage:20210513T210000
DTSTAMP:20260419T140004
CREATED:20210510T183537Z
LAST-MODIFIED:20210510T183537Z
UID:1784-1620932400-1620939600@kpbsd.org
SUMMARY:Boys Varsity Soccer vs Nikiski High School
DESCRIPTION:Sport: Soccer\nLevel: Boys Varsity\nTeam: Kenai Central High School\nSite: Kenai Central High School\nSubsite: Ed Hollier Stadium
URL:https://kpbsd.org/schools/kenai-central/event/boys-varsity-soccer-vs-nikiski-high-school-2/
LOCATION:9583 Kenai Spur Hwy\, Kenai AK  99611-7898
END:VEVENT
END:VCALENDAR