BEGIN:VCALENDAR
VERSION:2.0
PRODID:-//Kenai Central High School - ECPv6.8.2//NONSGML v1.0//EN
CALSCALE:GREGORIAN
METHOD:PUBLISH
X-WR-CALNAME:Kenai Central High School
X-ORIGINAL-URL:https://kpbsd.org/schools/kenai-central
X-WR-CALDESC:Events for Kenai Central High School
REFRESH-INTERVAL;VALUE=DURATION:PT1H
X-Robots-Tag:noindex
X-PUBLISHED-TTL:PT1H
BEGIN:VTIMEZONE
TZID:America/Anchorage
BEGIN:DAYLIGHT
TZOFFSETFROM:-0900
TZOFFSETTO:-0800
TZNAME:AKDT
DTSTART:20210314T110000
END:DAYLIGHT
BEGIN:STANDARD
TZOFFSETFROM:-0800
TZOFFSETTO:-0900
TZNAME:AKST
DTSTART:20211107T100000
END:STANDARD
END:VTIMEZONE
BEGIN:VEVENT
DTSTART;VALUE=DATE:20210901
DTEND;VALUE=DATE:20210902
DTSTAMP:20260418T210550
CREATED:20210729T170032Z
LAST-MODIFIED:20210729T170032Z
UID:1920-1630454400-1630540799@kpbsd.org
SUMMARY:School Picture Day
DESCRIPTION:Picture Day- Packets will be sent home with your student.
URL:https://kpbsd.org/schools/kenai-central/event/school-picture-day/
LOCATION:AK
END:VEVENT
END:VCALENDAR