BEGIN:VCALENDAR
VERSION:2.0
PRODID:-//Kenai Central High School - ECPv6.8.2//NONSGML v1.0//EN
CALSCALE:GREGORIAN
METHOD:PUBLISH
X-WR-CALNAME:Kenai Central High School
X-ORIGINAL-URL:https://kpbsd.org/schools/kenai-central
X-WR-CALDESC:Events for Kenai Central High School
REFRESH-INTERVAL;VALUE=DURATION:PT1H
X-Robots-Tag:noindex
X-PUBLISHED-TTL:PT1H
BEGIN:VTIMEZONE
TZID:America/Anchorage
BEGIN:DAYLIGHT
TZOFFSETFROM:-0900
TZOFFSETTO:-0800
TZNAME:AKDT
DTSTART:20210314T110000
END:DAYLIGHT
BEGIN:STANDARD
TZOFFSETFROM:-0800
TZOFFSETTO:-0900
TZNAME:AKST
DTSTART:20211107T100000
END:STANDARD
END:VTIMEZONE
BEGIN:VEVENT
DTSTART;TZID=America/Anchorage:20211210T000100
DTEND;TZID=America/Anchorage:20211211T000100
DTSTAMP:20260422T104249
CREATED:20211018T171328Z
LAST-MODIFIED:20211207T105501Z
UID:2207-1639094460-1639180860@kpbsd.org
SUMMARY:Kachemak Regions Wrestling @ Houston
DESCRIPTION:Games:\nSport: Wrestling\nLevel: Coed Varsity\nTeam: Kenai Central High School
URL:https://kpbsd.org/schools/kenai-central/event/kachemak-regions-wrestling-houston/
LOCATION:AK
END:VEVENT
BEGIN:VEVENT
DTSTART;TZID=America/Anchorage:20211210T123000
DTEND;TZID=America/Anchorage:20211211T133000
DTSTAMP:20260422T104249
CREATED:20211206T181330Z
LAST-MODIFIED:20211207T105501Z
UID:2666-1639139400-1639229400@kpbsd.org
SUMMARY:Colony Chaos
DESCRIPTION:Games:\nSport: Cross Country Skiing\nLevel: Coed Varsity\nTeam: Kenai Central High School
URL:https://kpbsd.org/schools/kenai-central/event/colony-chaos/
LOCATION:AK
END:VEVENT
BEGIN:VEVENT
DTSTART;TZID=America/Anchorage:20211211T190000
DTEND;TZID=America/Anchorage:20211211T193000
DTSTAMP:20260422T104249
CREATED:20211018T171328Z
LAST-MODIFIED:20211207T105502Z
UID:2211-1639249200-1639251000@kpbsd.org
SUMMARY:Coed Varsity Hockey @ Houston Junior Senior High School
DESCRIPTION:Sport: Hockey\nLevel: Coed Varsity\nTeam: Kenai Central High School\nSite: Big Lake Rec Center\nSubsite: Ice Rink
URL:https://kpbsd.org/schools/kenai-central/event/coed-varsity-hockey-houston-junior-senior-high-school/
LOCATION:2942 Lions Circle\, Big Lake Alaska  99652
END:VEVENT
END:VCALENDAR