BEGIN:VCALENDAR
VERSION:2.0
PRODID:-//Kenai Central High School - ECPv6.8.2//NONSGML v1.0//EN
CALSCALE:GREGORIAN
METHOD:PUBLISH
X-WR-CALNAME:Kenai Central High School
X-ORIGINAL-URL:https://kpbsd.org/schools/kenai-central
X-WR-CALDESC:Events for Kenai Central High School
REFRESH-INTERVAL;VALUE=DURATION:PT1H
X-Robots-Tag:noindex
X-PUBLISHED-TTL:PT1H
BEGIN:VTIMEZONE
TZID:America/Anchorage
BEGIN:DAYLIGHT
TZOFFSETFROM:-0900
TZOFFSETTO:-0800
TZNAME:AKDT
DTSTART:20220313T110000
END:DAYLIGHT
BEGIN:STANDARD
TZOFFSETFROM:-0800
TZOFFSETTO:-0900
TZNAME:AKST
DTSTART:20221106T100000
END:STANDARD
END:VTIMEZONE
BEGIN:VEVENT
DTSTART;VALUE=DATE:20220121
DTEND;VALUE=DATE:20220122
DTSTAMP:20260419T185557
CREATED:20220104T184139Z
LAST-MODIFIED:20220104T184139Z
UID:2734-1642723200-1642809599@kpbsd.org
SUMMARY:Early Release
DESCRIPTION:Early Release Schedule\n7:35 Warning Bell\n7:40 – 8:15 1st Period\n8:20 – 8:55 2nd Period\n9:00 – 9:35 3rd Period\n9:40 – 10:15 4th Period\n10:20 – 10:55 5th Period\n10:55 – 11:25 Lunch\n11:30-12:05 6th Period\n12:10 – 12:45 7th Period\n12:45 Early Dismissal
URL:https://kpbsd.org/schools/kenai-central/event/early-release-2/
LOCATION:AK
END:VEVENT
BEGIN:VEVENT
DTSTART;TZID=America/Anchorage:20220121T170000
DTEND;TZID=America/Anchorage:20220121T190000
DTSTAMP:20260419T185557
CREATED:20211018T171333Z
LAST-MODIFIED:20220118T120720Z
UID:2233-1642784400-1642791600@kpbsd.org
SUMMARY:Coed JV Hockey vs Palmer High School
DESCRIPTION:Sport: Hockey\nLevel: Coed JV\nTeam: Kenai Central High School\nSite: Kenai Central High School\nSubsite: Kenai Ice Rink
URL:https://kpbsd.org/schools/kenai-central/event/coed-jv-hockey-vs-palmer-high-school/
LOCATION:9583 Kenai Spur Hwy\, Kenai AK  99611-7898
END:VEVENT
BEGIN:VEVENT
DTSTART;TZID=America/Anchorage:20220121T180000
DTEND;TZID=America/Anchorage:20220121T193000
DTSTAMP:20260419T185557
CREATED:20211122T180139Z
LAST-MODIFIED:20220118T120720Z
UID:2635-1642788000-1642793400@kpbsd.org
SUMMARY:Girls Varsity Basketball @ Eagle River High School
DESCRIPTION:Sport: Basketball\nLevel: Girls Varsity\nTeam: Kenai Central High School\nSite: Eagle River High School\nSubsite: Gym
URL:https://kpbsd.org/schools/kenai-central/event/girls-varsity-basketball-eagle-river-high-school/
LOCATION:8701 Yosemite Drive\, Eagle River Alaska  99577
END:VEVENT
BEGIN:VEVENT
DTSTART;TZID=America/Anchorage:20220121T180000
DTEND;TZID=America/Anchorage:20220121T193000
DTSTAMP:20260419T185557
CREATED:20220110T185324Z
LAST-MODIFIED:20220111T115357Z
UID:2785-1642788000-1642793400@kpbsd.org
SUMMARY:Girls JV Basketball @ Chugiak High School
DESCRIPTION:Sport: Basketball\nLevel: Girls JV\nTeam: Kenai Central High School\nSite: Chugiak High School\nSubsite: Gym
URL:https://kpbsd.org/schools/kenai-central/event/girls-jv-basketball-chugiak-high-school-2/
LOCATION:Po Box 770218\, Eagle River Alaska  99577-0218
END:VEVENT
BEGIN:VEVENT
DTSTART;TZID=America/Anchorage:20220121T190000
DTEND;TZID=America/Anchorage:20220121T210000
DTSTAMP:20260419T185557
CREATED:20211018T171334Z
LAST-MODIFIED:20220118T120720Z
UID:2234-1642791600-1642798800@kpbsd.org
SUMMARY:Coed Varsity Hockey vs Palmer High School
DESCRIPTION:Sport: Hockey\nLevel: Coed Varsity\nTeam: Kenai Central High School\nSite: Kenai Central High School\nSubsite: Kenai Ice Rink
URL:https://kpbsd.org/schools/kenai-central/event/coed-varsity-hockey-vs-palmer-high-school/
LOCATION:9583 Kenai Spur Hwy\, Kenai AK  99611-7898
END:VEVENT
BEGIN:VEVENT
DTSTART;TZID=America/Anchorage:20220121T193000
DTEND;TZID=America/Anchorage:20220121T210000
DTSTAMP:20260419T185557
CREATED:20211122T180139Z
LAST-MODIFIED:20220118T120733Z
UID:2633-1642793400-1642798800@kpbsd.org
SUMMARY:Boys Varsity Basketball @ Eagle River High School
DESCRIPTION:Sport: Basketball\nLevel: Boys Varsity\nTeam: Kenai Central High School\nSite: Eagle River High School\nSubsite: Gym
URL:https://kpbsd.org/schools/kenai-central/event/boys-varsity-basketball-eagle-river-high-school/
LOCATION:8701 Yosemite Drive\, Eagle River Alaska  99577
END:VEVENT
BEGIN:VEVENT
DTSTART;TZID=America/Anchorage:20220121T193000
DTEND;TZID=America/Anchorage:20220121T210000
DTSTAMP:20260419T185557
CREATED:20220110T185325Z
LAST-MODIFIED:20220111T115357Z
UID:2786-1642793400-1642798800@kpbsd.org
SUMMARY:Boys JV Basketball @ Chugiak High School
DESCRIPTION:Sport: Basketball\nLevel: Boys JV\nTeam: Kenai Central High School\nSite: Chugiak High School\nSubsite: Gym
URL:https://kpbsd.org/schools/kenai-central/event/boys-jv-basketball-chugiak-high-school-2/
LOCATION:Po Box 770218\, Eagle River Alaska  99577-0218
END:VEVENT
END:VCALENDAR