BEGIN:VCALENDAR
VERSION:2.0
PRODID:-//Kenai Central High School - ECPv6.8.2//NONSGML v1.0//EN
CALSCALE:GREGORIAN
METHOD:PUBLISH
X-ORIGINAL-URL:https://kpbsd.org/schools/kenai-central
X-WR-CALDESC:Events for Kenai Central High School
REFRESH-INTERVAL;VALUE=DURATION:PT1H
X-Robots-Tag:noindex
X-PUBLISHED-TTL:PT1H
BEGIN:VTIMEZONE
TZID:America/Anchorage
BEGIN:DAYLIGHT
TZOFFSETFROM:-0900
TZOFFSETTO:-0800
TZNAME:AKDT
DTSTART:20220313T110000
END:DAYLIGHT
BEGIN:STANDARD
TZOFFSETFROM:-0800
TZOFFSETTO:-0900
TZNAME:AKST
DTSTART:20221106T100000
END:STANDARD
END:VTIMEZONE
BEGIN:VEVENT
DTSTART;TZID=America/Anchorage:20220826T143000
DTEND;TZID=America/Anchorage:20220826T203000
DTSTAMP:20260419T084142
CREATED:20220207T191402Z
LAST-MODIFIED:20220822T210001Z
UID:2964-1661524200-1661545800@kpbsd.org
SUMMARY:Girls Varsity Volleyball @ Nikiski High School
DESCRIPTION:Sport: Volleyball\nLevel: Girls Varsity\nTeam: Kenai Central High School\nSite: Nikiski High School\nSubsite: Gym
URL:https://kpbsd.org/schools/kenai-central/event/girls-varsity-volleyball-nikiski-high-school-5/
LOCATION:52275 Education Drive\, Nikisiki Alaska  99611
END:VEVENT
BEGIN:VEVENT
DTSTART;TZID=America/Anchorage:20220826T160000
DTEND;TZID=America/Anchorage:20220826T180000
DTSTAMP:20260419T084142
CREATED:20220411T194508Z
LAST-MODIFIED:20220822T210001Z
UID:3406-1661529600-1661536800@kpbsd.org
SUMMARY:Boys JV Football @ Palmer High School
DESCRIPTION:Sport: Football\nLevel: Boys JV\nTeam: Kenai Central High School\nSite: Palmer High School\nSubsite: Field Turf-Machetanz Field
URL:https://kpbsd.org/schools/kenai-central/event/boys-jv-football-palmer-high-school/
LOCATION:1170 West Bogard Road\, Palmer AK  99645-0000
END:VEVENT
BEGIN:VEVENT
DTSTART;TZID=America/Anchorage:20220826T160000
DTEND;TZID=America/Anchorage:20220826T183000
DTSTAMP:20260419T084142
CREATED:20220516T201329Z
LAST-MODIFIED:20220822T210002Z
UID:3661-1661529600-1661538600@kpbsd.org
SUMMARY:Coed JV Football @ Palmer High School
DESCRIPTION:Sport: Football\nLevel: Coed JV\nTeam: Kenai Central High School\nSite: Palmer High School\nSubsite: Field Turf-Machetanz Field
URL:https://kpbsd.org/schools/kenai-central/event/coed-jv-football-palmer-high-school/
LOCATION:1170 West Bogard Road\, Palmer AK  99645-0000
END:VEVENT
BEGIN:VEVENT
DTSTART;TZID=America/Anchorage:20220826T190000
DTEND;TZID=America/Anchorage:20220826T204500
DTSTAMP:20260419T084142
CREATED:20220516T201330Z
LAST-MODIFIED:20220822T210001Z
UID:3662-1661540400-1661546700@kpbsd.org
SUMMARY:Coed Varsity Football @ Palmer High School
DESCRIPTION:Sport: Football\nLevel: Coed Varsity\nTeam: Kenai Central High School\nSite: Palmer High School\nSubsite: Field Turf-Machetanz Field
URL:https://kpbsd.org/schools/kenai-central/event/coed-varsity-football-palmer-high-school/
LOCATION:1170 West Bogard Road\, Palmer AK  99645-0000
END:VEVENT
BEGIN:VEVENT
DTSTART;TZID=America/Anchorage:20220826T190000
DTEND;TZID=America/Anchorage:20220826T210000
DTSTAMP:20260419T084142
CREATED:20220411T194509Z
LAST-MODIFIED:20220822T210001Z
UID:3407-1661540400-1661547600@kpbsd.org
SUMMARY:Boys Varsity Football @ Palmer High School
DESCRIPTION:Sport: Football\nLevel: Boys Varsity\nTeam: Kenai Central High School\nSite: Palmer High School\nSubsite: Field Turf-Machetanz Field
URL:https://kpbsd.org/schools/kenai-central/event/boys-varsity-football-palmer-high-school/
LOCATION:1170 West Bogard Road\, Palmer AK  99645-0000
END:VEVENT
END:VCALENDAR