BEGIN:VCALENDAR
VERSION:2.0
PRODID:-//Kenai Central High School - ECPv6.8.2//NONSGML v1.0//EN
CALSCALE:GREGORIAN
METHOD:PUBLISH
X-ORIGINAL-URL:https://kpbsd.org/schools/kenai-central
X-WR-CALDESC:Events for Kenai Central High School
REFRESH-INTERVAL;VALUE=DURATION:PT1H
X-Robots-Tag:noindex
X-PUBLISHED-TTL:PT1H
BEGIN:VTIMEZONE
TZID:America/Anchorage
BEGIN:DAYLIGHT
TZOFFSETFROM:-0900
TZOFFSETTO:-0800
TZNAME:AKDT
DTSTART:20240310T110000
END:DAYLIGHT
BEGIN:STANDARD
TZOFFSETFROM:-0800
TZOFFSETTO:-0900
TZNAME:AKST
DTSTART:20241103T100000
END:STANDARD
END:VTIMEZONE
BEGIN:VEVENT
DTSTART;TZID=America/Anchorage:20241004T140000
DTEND;TZID=America/Anchorage:20241004T160000
DTSTAMP:20260419T220857
CREATED:20240227T035939Z
LAST-MODIFIED:20240702T061526Z
UID:8871-1728050400-1728057600@kpbsd.org
SUMMARY:Boys JV Football @ Homer High School
DESCRIPTION:Sport: Football\nLevel: Boys JV\nTeam: Kenai Central High School\nSite: Homer High School\nSubsite: Turf Field
URL:https://kpbsd.org/schools/kenai-central/event/boys-jv-football-homer-high-school-2/
LOCATION:600 E Fairview Ave\, Homer\, AK\, United States
END:VEVENT
BEGIN:VEVENT
DTSTART;TZID=America/Anchorage:20241004T140000
DTEND;TZID=America/Anchorage:20241004T161500
DTSTAMP:20260419T220857
CREATED:20240704T165840Z
LAST-MODIFIED:20241003T174804Z
UID:10311-1728050400-1728058500@kpbsd.org
SUMMARY:Coed JV Football @ Homer High School
DESCRIPTION:Sport: Football\nLevel: Coed JV\nTeam: Kenai Central High School\nSite: Homer High School\nSubsite: Turf Field
URL:https://kpbsd.org/schools/kenai-central/event/coed-jv-football-homer-high-school-3/
LOCATION:600 E Fairview Ave\, Homer\, AK\, United States
END:VEVENT
BEGIN:VEVENT
DTSTART;TZID=America/Anchorage:20241004T170000
DTEND;TZID=America/Anchorage:20241004T193000
DTSTAMP:20260419T220857
CREATED:20240704T165840Z
LAST-MODIFIED:20241003T174804Z
UID:10314-1728061200-1728070200@kpbsd.org
SUMMARY:Coed Varsity Football @ Homer High School
DESCRIPTION:Sport: Football\nLevel: Coed Varsity\nTeam: Kenai Central High School\nSite: Homer High School\nSubsite: Turf Field
URL:https://kpbsd.org/schools/kenai-central/event/coed-varsity-football-homer-high-school-4/
LOCATION:600 E Fairview Ave\, Homer\, AK\, United States
END:VEVENT
BEGIN:VEVENT
DTSTART;TZID=America/Anchorage:20241004T170000
DTEND;TZID=America/Anchorage:20241004T200000
DTSTAMP:20260419T220857
CREATED:20240227T035940Z
LAST-MODIFIED:20240702T061526Z
UID:8874-1728061200-1728072000@kpbsd.org
SUMMARY:Boys Varsity Football @ Homer High School
DESCRIPTION:Sport: Football\nLevel: Boys Varsity\nTeam: Kenai Central High School\nSite: Homer High School\nSubsite: Turf Field
URL:https://kpbsd.org/schools/kenai-central/event/boys-varsity-football-homer-high-school-4/
LOCATION:600 E Fairview Ave\, Homer\, AK\, United States
END:VEVENT
END:VCALENDAR