BEGIN:VCALENDAR
VERSION:2.0
PRODID:-//Kenai Central High School - ECPv6.8.2//NONSGML v1.0//EN
CALSCALE:GREGORIAN
METHOD:PUBLISH
X-ORIGINAL-URL:https://kpbsd.org/schools/kenai-central
X-WR-CALDESC:Events for Kenai Central High School
REFRESH-INTERVAL;VALUE=DURATION:PT1H
X-Robots-Tag:noindex
X-PUBLISHED-TTL:PT1H
BEGIN:VTIMEZONE
TZID:America/Anchorage
BEGIN:DAYLIGHT
TZOFFSETFROM:-0900
TZOFFSETTO:-0800
TZNAME:AKDT
DTSTART:20250309T110000
END:DAYLIGHT
BEGIN:STANDARD
TZOFFSETFROM:-0800
TZOFFSETTO:-0900
TZNAME:AKST
DTSTART:20251102T100000
END:STANDARD
END:VTIMEZONE
BEGIN:VEVENT
DTSTART;TZID=America/Anchorage:20250524T000100
DTEND;TZID=America/Anchorage:20250524T000100
DTSTAMP:20260419T225130
CREATED:20250205T194447Z
LAST-MODIFIED:20250521T211513Z
UID:12148-1748044860-1748044860@kpbsd.org
SUMMARY:Coed Varsity Track - Outdoor @ Homer High School
DESCRIPTION:Sport: Track – Outdoor\nLevel: Coed Varsity\nTeam: Kenai Central High School\nSite: West Anchorage High School\nSubsite: Track and Field
URL:https://kpbsd.org/schools/kenai-central/event/coed-varsity-track-outdoor-homer-high-school-12/
LOCATION:1700 Hillcrest Dr\, Anchorage\, AK\, United States
END:VEVENT
BEGIN:VEVENT
DTSTART;TZID=America/Anchorage:20250524T090000
DTEND;TZID=America/Anchorage:20250524T110000
DTSTAMP:20260419T225130
CREATED:20250115T193021Z
LAST-MODIFIED:20250521T211513Z
UID:11696-1748077200-1748084400@kpbsd.org
SUMMARY:Girls JV Soccer vs Palmer High School
DESCRIPTION:Sport: Soccer\nLevel: Girls JV\nTeam: Kenai Central High School\nSite: Kenai Central High School\nSubsite: Ed Hollier Stadium
URL:https://kpbsd.org/schools/kenai-central/event/girls-jv-soccer-vs-palmer-high-school-3/
LOCATION:9583 Kenai Spur Hwy\, Kenai\, AK\, United States
END:VEVENT
BEGIN:VEVENT
DTSTART;TZID=America/Anchorage:20250524T100000
DTEND;TZID=America/Anchorage:20250524T120000
DTSTAMP:20260419T225130
CREATED:20250115T193021Z
LAST-MODIFIED:20250521T211514Z
UID:11699-1748080800-1748088000@kpbsd.org
SUMMARY:Girls Varsity Softball vs Kodiak High School
DESCRIPTION:Sport: Softball\nLevel: Girls Varsity\nTeam: Kenai Central High School\nSite: Kenai Central High School\nSubsite: Softball Fields
URL:https://kpbsd.org/schools/kenai-central/event/girls-varsity-softball-vs-kodiak-high-school-8/
LOCATION:9583 Kenai Spur Hwy\, Kenai\, AK\, United States
END:VEVENT
BEGIN:VEVENT
DTSTART;TZID=America/Anchorage:20250524T100000
DTEND;TZID=America/Anchorage:20250524T123000
DTSTAMP:20260419T225130
CREATED:20250305T195900Z
LAST-MODIFIED:20250409T205841Z
UID:12638-1748080800-1748089800@kpbsd.org
SUMMARY:Boys JV Baseball vs Redington Jr/Sr High School
DESCRIPTION:Sport: Baseball\nLevel: Boys JV\nTeam: Kenai Central High School\nSite: Kenai Central High School\nSubsite: Baseball Fields
URL:https://kpbsd.org/schools/kenai-central/event/boys-jv-baseball-vs-redington-jr-sr-high-school/
LOCATION:9583 Kenai Spur Hwy\, Kenai\, AK\, United States
END:VEVENT
BEGIN:VEVENT
DTSTART;TZID=America/Anchorage:20250524T110000
DTEND;TZID=America/Anchorage:20250524T130000
DTSTAMP:20260419T225130
CREATED:20250115T193021Z
LAST-MODIFIED:20250521T211514Z
UID:11702-1748084400-1748091600@kpbsd.org
SUMMARY:Boys JV Soccer vs Palmer High School
DESCRIPTION:Sport: Soccer\nLevel: Boys JV\nTeam: Kenai Central High School\nSite: Kenai Central High School\nSubsite: Ed Hollier Stadium
URL:https://kpbsd.org/schools/kenai-central/event/boys-jv-soccer-vs-palmer-high-school-3/
LOCATION:9583 Kenai Spur Hwy\, Kenai\, AK\, United States
END:VEVENT
BEGIN:VEVENT
DTSTART;TZID=America/Anchorage:20250524T120000
DTEND;TZID=America/Anchorage:20250524T140000
DTSTAMP:20260419T225130
CREATED:20250115T193022Z
LAST-MODIFIED:20250521T211514Z
UID:11708-1748088000-1748095200@kpbsd.org
SUMMARY:Girls Varsity Softball vs Kodiak High School
DESCRIPTION:Sport: Softball\nLevel: Girls Varsity\nTeam: Kenai Central High School\nSite: Kenai Central High School\nSubsite: Softball Fields
URL:https://kpbsd.org/schools/kenai-central/event/girls-varsity-softball-vs-kodiak-high-school-9/
LOCATION:9583 Kenai Spur Hwy\, Kenai\, AK\, United States
END:VEVENT
BEGIN:VEVENT
DTSTART;TZID=America/Anchorage:20250524T120000
DTEND;TZID=America/Anchorage:20250524T143000
DTSTAMP:20260419T225130
CREATED:20250115T193022Z
LAST-MODIFIED:20250226T202859Z
UID:11705-1748088000-1748097000@kpbsd.org
SUMMARY:Coed Varsity Baseball vs Redington Jr/Sr High School
DESCRIPTION:Sport: Baseball\nLevel: Coed Varsity\nTeam: Kenai Central High School\nSite: Kenai Central High School\nSubsite: Baseball Fields
URL:https://kpbsd.org/schools/kenai-central/event/coed-varsity-baseball-vs-redington-jr-sr-high-school/
LOCATION:9583 Kenai Spur Hwy\, Kenai\, AK\, United States
END:VEVENT
BEGIN:VEVENT
DTSTART;TZID=America/Anchorage:20250524T123000
DTEND;TZID=America/Anchorage:20250524T150000
DTSTAMP:20260419T225130
CREATED:20250305T195900Z
LAST-MODIFIED:20250521T211514Z
UID:12635-1748089800-1748098800@kpbsd.org
SUMMARY:Boys Varsity Baseball vs Redington Jr/Sr High School
DESCRIPTION:Sport: Baseball\nLevel: Boys Varsity\nTeam: Kenai Central High School\nSite: Kenai Central High School\nSubsite: Baseball Fields
URL:https://kpbsd.org/schools/kenai-central/event/boys-varsity-baseball-vs-redington-jr-sr-high-school-3/
LOCATION:9583 Kenai Spur Hwy\, Kenai\, AK\, United States
END:VEVENT
BEGIN:VEVENT
DTSTART;TZID=America/Anchorage:20250524T133000
DTEND;TZID=America/Anchorage:20250524T153000
DTSTAMP:20260419T225130
CREATED:20250115T193023Z
LAST-MODIFIED:20250521T211514Z
UID:11714-1748093400-1748100600@kpbsd.org
SUMMARY:Girls Varsity Soccer vs Palmer High School
DESCRIPTION:Sport: Soccer\nLevel: Girls Varsity\nTeam: Kenai Central High School\nSite: Kenai Central High School\nSubsite: Ed Hollier Stadium
URL:https://kpbsd.org/schools/kenai-central/event/girls-varsity-soccer-vs-palmer-high-school-3/
LOCATION:9583 Kenai Spur Hwy\, Kenai\, AK\, United States
END:VEVENT
BEGIN:VEVENT
DTSTART;TZID=America/Anchorage:20250524T153000
DTEND;TZID=America/Anchorage:20250524T173000
DTSTAMP:20260419T225130
CREATED:20250115T193022Z
LAST-MODIFIED:20250521T211458Z
UID:11711-1748100600-1748107800@kpbsd.org
SUMMARY:Boys Varsity Soccer vs Palmer High School
DESCRIPTION:Sport: Soccer\nLevel: Boys Varsity\nTeam: Kenai Central High School\nSite: Kenai Central High School\nSubsite: Ed Hollier Stadium
URL:https://kpbsd.org/schools/kenai-central/event/boys-varsity-soccer-vs-palmer-high-school-3/
LOCATION:9583 Kenai Spur Hwy\, Kenai\, AK\, United States
END:VEVENT
END:VCALENDAR