BEGIN:VCALENDAR
VERSION:2.0
PRODID:-//Kenai Central High School - ECPv6.8.2//NONSGML v1.0//EN
CALSCALE:GREGORIAN
METHOD:PUBLISH
X-WR-CALNAME:Kenai Central High School
X-ORIGINAL-URL:https://kpbsd.org/schools/kenai-central
X-WR-CALDESC:Events for Kenai Central High School
REFRESH-INTERVAL;VALUE=DURATION:PT1H
X-Robots-Tag:noindex
X-PUBLISHED-TTL:PT1H
BEGIN:VTIMEZONE
TZID:America/Anchorage
BEGIN:DAYLIGHT
TZOFFSETFROM:-0900
TZOFFSETTO:-0800
TZNAME:AKDT
DTSTART:20250309T110000
END:DAYLIGHT
BEGIN:STANDARD
TZOFFSETFROM:-0800
TZOFFSETTO:-0900
TZNAME:AKST
DTSTART:20251102T100000
END:STANDARD
END:VTIMEZONE
BEGIN:VEVENT
DTSTART;TZID=America/Anchorage:20250926T120000
DTEND;TZID=America/Anchorage:20250927T160000
DTSTAMP:20260424T080833
CREATED:20250226T195859Z
LAST-MODIFIED:20250927T174617Z
UID:12420-1758888000-1758988800@kpbsd.org
SUMMARY:JV Volleyball Tournament at Wasilla
DESCRIPTION:Games:\nSport: Volleyball\nLevel: Girls JV\nTeam: Kenai Central High School
URL:https://kpbsd.org/schools/kenai-central/event/jv-volleyball-tournament-at-wasilla/
LOCATION:AK
END:VEVENT
BEGIN:VEVENT
DTSTART;TZID=America/Anchorage:20250926T150000
DTEND;TZID=America/Anchorage:20250927T180000
DTSTAMP:20260424T080833
CREATED:20250226T195859Z
LAST-MODIFIED:20250927T174617Z
UID:12423-1758898800-1758996000@kpbsd.org
SUMMARY:C team Volleyball Tournament
DESCRIPTION:Games:\nSport: Volleyball\nLevel: Girls Freshman\nTeam: Kenai Central High School
URL:https://kpbsd.org/schools/kenai-central/event/c-team-volleyball-tournament-2/
LOCATION:AK
END:VEVENT
BEGIN:VEVENT
DTSTART;TZID=America/Anchorage:20250927T000100
DTEND;TZID=America/Anchorage:20250927T000100
DTSTAMP:20260424T080833
CREATED:20250205T194454Z
LAST-MODIFIED:20250726T170132Z
UID:12175-1758931260-1758931260@kpbsd.org
SUMMARY:Coed Varsity Swimming @ Seward High School
DESCRIPTION:Sport: Swimming\nLevel: Coed Varsity\nTeam: Kenai Central High School\nSite: Seward High School\nSubsite: Seward Pool
URL:https://kpbsd.org/schools/kenai-central/event/coed-varsity-swimming-seward-high-school-6/
LOCATION:Po Box 1049\, Seward\, AK\, United States
END:VEVENT
BEGIN:VEVENT
DTSTART;TZID=America/Anchorage:20250927T110000
DTEND;TZID=America/Anchorage:20250927T140000
DTSTAMP:20260424T080833
CREATED:20250319T201426Z
LAST-MODIFIED:20250927T174617Z
UID:12732-1758970800-1758981600@kpbsd.org
SUMMARY:Coed JV Football vs Homer High School
DESCRIPTION:Sport: Football\nLevel: Coed JV\nTeam: Kenai Central High School\nSite: Kenai Central High School\nSubsite: Ed Hollier Stadium
URL:https://kpbsd.org/schools/kenai-central/event/coed-jv-football-vs-homer-high-school-2/
LOCATION:9583 Kenai Spur Hwy\, Kenai\, AK\, United States
END:VEVENT
BEGIN:VEVENT
DTSTART;TZID=America/Anchorage:20250927T140000
DTEND;TZID=America/Anchorage:20250927T170000
DTSTAMP:20260424T080833
CREATED:20250319T201426Z
LAST-MODIFIED:20250927T174617Z
UID:12735-1758981600-1758992400@kpbsd.org
SUMMARY:Coed Varsity Football vs Homer High School
DESCRIPTION:Sport: Football\nLevel: Coed Varsity\nTeam: Kenai Central High School\nSite: Kenai Central High School\nSubsite: Ed Hollier Stadium
URL:https://kpbsd.org/schools/kenai-central/event/coed-varsity-football-vs-homer-high-school-4/
LOCATION:9583 Kenai Spur Hwy\, Kenai\, AK\, United States
END:VEVENT
BEGIN:VEVENT
DTSTART;TZID=America/Anchorage:20250927T230000
DTEND;TZID=America/Anchorage:20250928T050000
DTSTAMP:20260424T080833
CREATED:20250416T205847Z
LAST-MODIFIED:20250927T174617Z
UID:13058-1759014000-1759035600@kpbsd.org
SUMMARY:Coed Varsity Cross Country @ Grace Christian High School
DESCRIPTION:Sport: Cross Country\nLevel: Coed Varsity\nTeam: Kenai Central High School\nSite: Kincaid Park\nSubsite: Kincaid Park
URL:https://kpbsd.org/schools/kenai-central/event/coed-varsity-cross-country-grace-christian-high-school/
LOCATION:9401 Raspberry Road\, Anchorage\, AK\, United States
END:VEVENT
END:VCALENDAR