BEGIN:VCALENDAR
VERSION:2.0
PRODID:-//Kenai Central High School - ECPv6.8.2//NONSGML v1.0//EN
CALSCALE:GREGORIAN
METHOD:PUBLISH
X-WR-CALNAME:Kenai Central High School
X-ORIGINAL-URL:https://kpbsd.org/schools/kenai-central
X-WR-CALDESC:Events for Kenai Central High School
REFRESH-INTERVAL;VALUE=DURATION:PT1H
X-Robots-Tag:noindex
X-PUBLISHED-TTL:PT1H
BEGIN:VTIMEZONE
TZID:America/Anchorage
BEGIN:DAYLIGHT
TZOFFSETFROM:-0900
TZOFFSETTO:-0800
TZNAME:AKDT
DTSTART:20250309T110000
END:DAYLIGHT
BEGIN:STANDARD
TZOFFSETFROM:-0800
TZOFFSETTO:-0900
TZNAME:AKST
DTSTART:20251102T100000
END:STANDARD
END:VTIMEZONE
BEGIN:VEVENT
DTSTART;TZID=America/Anchorage:20251030T000100
DTEND;TZID=America/Anchorage:20251101T000100
DTSTAMP:20260420T204624
CREATED:20250319T201432Z
LAST-MODIFIED:20251025T181328Z
UID:12783-1761782460-1761955260@kpbsd.org
SUMMARY:2025 Peninsula Ice Challenge
DESCRIPTION:Games:\nSport: Hockey\nLevel: Coed Varsity\nTeam: Kenai Central High School
URL:https://kpbsd.org/schools/kenai-central/event/2025-peninsula-ice-challenge/
LOCATION:AK
END:VEVENT
BEGIN:VEVENT
DTSTART;TZID=America/Anchorage:20251031T000100
DTEND;TZID=America/Anchorage:20251101T000100
DTSTAMP:20260420T204624
CREATED:20250423T203517Z
LAST-MODIFIED:20251025T181329Z
UID:13169-1761868860-1761955260@kpbsd.org
SUMMARY:Region III Swim & Dive Championships
DESCRIPTION:Games:\nSport: Swimming\nLevel: Coed Varsity\nTeam: Kenai Central High School
URL:https://kpbsd.org/schools/kenai-central/event/region-iii-swim-dive-championships/
LOCATION:AK
END:VEVENT
END:VCALENDAR