BEGIN:VCALENDAR
VERSION:2.0
PRODID:-//Kenai Central High School - ECPv6.8.2//NONSGML v1.0//EN
CALSCALE:GREGORIAN
METHOD:PUBLISH
X-WR-CALNAME:Kenai Central High School
X-ORIGINAL-URL:https://kpbsd.org/schools/kenai-central
X-WR-CALDESC:Events for Kenai Central High School
REFRESH-INTERVAL;VALUE=DURATION:PT1H
X-Robots-Tag:noindex
X-PUBLISHED-TTL:PT1H
BEGIN:VTIMEZONE
TZID:America/Anchorage
BEGIN:DAYLIGHT
TZOFFSETFROM:-0900
TZOFFSETTO:-0800
TZNAME:AKDT
DTSTART:20260308T110000
END:DAYLIGHT
BEGIN:STANDARD
TZOFFSETFROM:-0800
TZOFFSETTO:-0900
TZNAME:AKST
DTSTART:20261101T100000
END:STANDARD
END:VTIMEZONE
BEGIN:VEVENT
DTSTART;TZID=America/Anchorage:20260814T150000
DTEND;TZID=America/Anchorage:20260814T200000
DTSTAMP:20260420T121813
CREATED:20260207T193047Z
LAST-MODIFIED:20260418T025946Z
UID:15297-1786719600-1786737600@kpbsd.org
SUMMARY:Girls Varsity Volleyball @ Palmer High School
DESCRIPTION:Sport: Volleyball\nLevel: Girls Varsity\nTeam: Kenai Central High School\nSite: Palmer High School\nSubsite: Gym (Main Court)
URL:https://kpbsd.org/schools/kenai-central/event/girls-varsity-volleyball-palmer-high-school-3/
LOCATION:1170 West Bogard Road\, Palmer\, AK\, United States
END:VEVENT
BEGIN:VEVENT
DTSTART;TZID=America/Anchorage:20260814T160000
DTEND;TZID=America/Anchorage:20260814T174000
DTSTAMP:20260420T121813
CREATED:20260110T190249Z
LAST-MODIFIED:20260325T001630Z
UID:14643-1786723200-1786729200@kpbsd.org
SUMMARY:Coed JV Football @ Houston High School
DESCRIPTION:Sport: Football\nLevel: Coed JV\nTeam: Kenai Central High School\nSite: Houston High School\nSubsite: Field Turf
URL:https://kpbsd.org/schools/kenai-central/event/coed-jv-football-houston-high-school-2/
LOCATION:12801 W Hawk Lane\, Houston\, AK\, United States
END:VEVENT
BEGIN:VEVENT
DTSTART;TZID=America/Anchorage:20260814T190000
DTEND;TZID=America/Anchorage:20260814T204000
DTSTAMP:20260420T121813
CREATED:20260207T193048Z
LAST-MODIFIED:20260325T001630Z
UID:15300-1786734000-1786740000@kpbsd.org
SUMMARY:Coed Varsity Football @ Houston High School
DESCRIPTION:Sport: Football\nLevel: Coed Varsity\nTeam: Kenai Central High School\nSite: Houston High School\nSubsite: Field Turf
URL:https://kpbsd.org/schools/kenai-central/event/coed-varsity-football-houston-high-school-2/
LOCATION:12801 W Hawk Lane\, Houston\, AK\, United States
END:VEVENT
END:VCALENDAR