BEGIN:VCALENDAR
VERSION:2.0
PRODID:-//Kenai Central High School - ECPv6.8.2//NONSGML v1.0//EN
CALSCALE:GREGORIAN
METHOD:PUBLISH
X-ORIGINAL-URL:https://kpbsd.org/schools/kenai-central
X-WR-CALDESC:Events for Kenai Central High School
REFRESH-INTERVAL;VALUE=DURATION:PT1H
X-Robots-Tag:noindex
X-PUBLISHED-TTL:PT1H
BEGIN:VTIMEZONE
TZID:America/Anchorage
BEGIN:DAYLIGHT
TZOFFSETFROM:-0900
TZOFFSETTO:-0800
TZNAME:AKDT
DTSTART:20270314T110000
END:DAYLIGHT
BEGIN:STANDARD
TZOFFSETFROM:-0800
TZOFFSETTO:-0900
TZNAME:AKST
DTSTART:20271107T100000
END:STANDARD
END:VTIMEZONE
BEGIN:VEVENT
DTSTART;TZID=America/Anchorage:20270130T100000
DTEND;TZID=America/Anchorage:20270130T100000
DTSTAMP:20260419T111637
CREATED:20260221T194403Z
LAST-MODIFIED:20260418T030016Z
UID:15475-1801303200-1801303200@kpbsd.org
SUMMARY:Girls JV Basketball @ Redington Jr/Sr High School
DESCRIPTION:Sport: Basketball\nLevel: Girls JV\nTeam: Kenai Central High School\nSite: Redington Sr Jr/Sr High School\nSubsite: Gym
URL:https://kpbsd.org/schools/kenai-central/event/girls-jv-basketball-redington-jr-sr-high-school-3/
LOCATION:10015 Redington School Dr.\, Wasilla\, AK\, United States
END:VEVENT
BEGIN:VEVENT
DTSTART;TZID=America/Anchorage:20270130T113000
DTEND;TZID=America/Anchorage:20270130T113000
DTSTAMP:20260419T111637
CREATED:20260221T194404Z
LAST-MODIFIED:20260418T030016Z
UID:15478-1801308600-1801308600@kpbsd.org
SUMMARY:Boys JV Basketball @ Redington Jr/Sr High School
DESCRIPTION:Sport: Basketball\nLevel: Boys JV\nTeam: Kenai Central High School\nSite: Redington Sr Jr/Sr High School\nSubsite: Gym
URL:https://kpbsd.org/schools/kenai-central/event/boys-jv-basketball-redington-jr-sr-high-school-3/
LOCATION:10015 Redington School Dr.\, Wasilla\, AK\, United States
END:VEVENT
BEGIN:VEVENT
DTSTART;TZID=America/Anchorage:20270130T130000
DTEND;TZID=America/Anchorage:20270130T130000
DTSTAMP:20260419T111637
CREATED:20260221T194404Z
LAST-MODIFIED:20260418T030016Z
UID:15481-1801314000-1801314000@kpbsd.org
SUMMARY:Girls Varsity Basketball @ Redington Jr/Sr High School
DESCRIPTION:Sport: Basketball\nLevel: Girls Varsity\nTeam: Kenai Central High School\nSite: Redington Sr Jr/Sr High School\nSubsite: Gym
URL:https://kpbsd.org/schools/kenai-central/event/girls-varsity-basketball-redington-jr-sr-high-school-3/
LOCATION:10015 Redington School Dr.\, Wasilla\, AK\, United States
END:VEVENT
BEGIN:VEVENT
DTSTART;TZID=America/Anchorage:20270130T143000
DTEND;TZID=America/Anchorage:20270130T143000
DTSTAMP:20260419T111637
CREATED:20260221T194405Z
LAST-MODIFIED:20260418T030016Z
UID:15484-1801319400-1801319400@kpbsd.org
SUMMARY:Boys Varsity Basketball @ Redington Jr/Sr High School
DESCRIPTION:Sport: Basketball\nLevel: Boys Varsity\nTeam: Kenai Central High School\nSite: Redington Sr Jr/Sr High School\nSubsite: Gym
URL:https://kpbsd.org/schools/kenai-central/event/boys-varsity-basketball-redington-jr-sr-high-school-3/
LOCATION:10015 Redington School Dr.\, Wasilla\, AK\, United States
END:VEVENT
END:VCALENDAR