BEGIN:VCALENDAR
VERSION:2.0
PRODID:-//Kenai Central High School - ECPv6.8.2//NONSGML v1.0//EN
CALSCALE:GREGORIAN
METHOD:PUBLISH
X-ORIGINAL-URL:https://kpbsd.org/schools/kenai-central
X-WR-CALDESC:Events for Kenai Central High School
REFRESH-INTERVAL;VALUE=DURATION:PT1H
X-Robots-Tag:noindex
X-PUBLISHED-TTL:PT1H
BEGIN:VTIMEZONE
TZID:America/Anchorage
BEGIN:DAYLIGHT
TZOFFSETFROM:-0900
TZOFFSETTO:-0800
TZNAME:AKDT
DTSTART:20270314T110000
END:DAYLIGHT
BEGIN:STANDARD
TZOFFSETFROM:-0800
TZOFFSETTO:-0900
TZNAME:AKST
DTSTART:20271107T100000
END:STANDARD
END:VTIMEZONE
BEGIN:VEVENT
DTSTART;TZID=America/Anchorage:20270212T000100
DTEND;TZID=America/Anchorage:20270213T000100
DTSTAMP:20260420T120334
CREATED:20260207T193053Z
LAST-MODIFIED:20260418T030016Z
UID:15339-1802390460-1802476860@kpbsd.org
SUMMARY:Region 3 Nordic Ski Championship
DESCRIPTION:Games:\nSport: Ski\nLevel: Coed Varsity\nTeam: Kenai Central High School
URL:https://kpbsd.org/schools/kenai-central/event/region-3-nordic-ski-championship/
LOCATION:AK
END:VEVENT
BEGIN:VEVENT
DTSTART;TZID=America/Anchorage:20270212T163000
DTEND;TZID=America/Anchorage:20270212T180000
DTSTAMP:20260420T120334
CREATED:20260328T001458Z
LAST-MODIFIED:20260418T030017Z
UID:15850-1802449800-1802455200@kpbsd.org
SUMMARY:Girls JV Basketball @ Kodiak High School - 1
DESCRIPTION:Sport: Basketball\nLevel: Girls JV\nTeam: Kenai Central High School\nSite: Kodiak High School\nSubsite: Gym
URL:https://kpbsd.org/schools/kenai-central/event/girls-jv-basketball-kodiak-high-school-1/
LOCATION:722 Mill Bay Rd\, Kodiak\, AK\, United States
END:VEVENT
BEGIN:VEVENT
DTSTART;TZID=America/Anchorage:20270212T180000
DTEND;TZID=America/Anchorage:20270212T200000
DTSTAMP:20260420T120334
CREATED:20260328T001458Z
LAST-MODIFIED:20260418T030017Z
UID:15847-1802455200-1802462400@kpbsd.org
SUMMARY:Girls Varsity Basketball @ Kodiak High School
DESCRIPTION:Sport: Basketball\nLevel: Girls Varsity\nTeam: Kenai Central High School\nSite: Kodiak High School\nSubsite: Gym
URL:https://kpbsd.org/schools/kenai-central/event/girls-varsity-basketball-kodiak-high-school/
LOCATION:722 Mill Bay Rd\, Kodiak\, AK\, United States
END:VEVENT
END:VCALENDAR