BEGIN:VCALENDAR
VERSION:2.0
PRODID:-//Nikiski Middle &amp; High School - ECPv6.8.2//NONSGML v1.0//EN
CALSCALE:GREGORIAN
METHOD:PUBLISH
X-WR-CALNAME:Nikiski Middle &amp; High School
X-ORIGINAL-URL:https://kpbsd.org/schools/nikiski-middle-high
X-WR-CALDESC:Events for Nikiski Middle &amp; High School
REFRESH-INTERVAL;VALUE=DURATION:PT1H
X-Robots-Tag:noindex
X-PUBLISHED-TTL:PT1H
BEGIN:VTIMEZONE
TZID:UTC
BEGIN:STANDARD
TZOFFSETFROM:+0000
TZOFFSETTO:+0000
TZNAME:UTC
DTSTART:20230101T000000
END:STANDARD
END:VTIMEZONE
BEGIN:VEVENT
DTSTART;TZID=UTC:20230124T000000
DTEND;TZID=UTC:20230124T013000
DTSTAMP:20260421T203153
CREATED:20221215T000643Z
LAST-MODIFIED:20230123T035444Z
UID:5661-1674518400-1674523800@kpbsd.org
SUMMARY:Girls Freshman Basketball @ Kenai Central High School
DESCRIPTION:Sport: Basketball\nLevel: Girls Freshman\nTeam: Nikiski High School\nSite: Kenai Central High School\nSubsite: Gym
URL:https://kpbsd.org/schools/nikiski-middle-high/event/girls-freshman-basketball-kenai-central-high-school-2/
LOCATION:9583 Kenai Spur Hwy\, Kenai AK  99611-7898
END:VEVENT
BEGIN:VEVENT
DTSTART;TZID=UTC:20230124T013000
DTEND;TZID=UTC:20230124T030000
DTSTAMP:20260421T203153
CREATED:20221215T000643Z
LAST-MODIFIED:20230123T035444Z
UID:5660-1674523800-1674529200@kpbsd.org
SUMMARY:Boys Freshman Basketball @ Kenai Central High School
DESCRIPTION:Sport: Basketball\nLevel: Boys Freshman\nTeam: Nikiski High School\nSite: Kenai Central High School\nSubsite: Gym
URL:https://kpbsd.org/schools/nikiski-middle-high/event/boys-freshman-basketball-kenai-central-high-school/
LOCATION:9583 Kenai Spur Hwy\, Kenai AK  99611-7898
END:VEVENT
BEGIN:VEVENT
DTSTART;TZID=UTC:20230124T090100
DTEND;TZID=UTC:20230124T090100
DTSTAMP:20260421T203153
CREATED:20230112T020912Z
LAST-MODIFIED:20230124T040616Z
UID:5774-1674550860-1674550860@kpbsd.org
SUMMARY:Girls 7/8th Volleyball @ Cook Inlet Academy
DESCRIPTION:Sport: Volleyball\nLevel: Girls 7/8th\nTeam: Nikiski High School\nSite: Cook Inlet Academy\nSubsite: Gym
URL:https://kpbsd.org/schools/nikiski-middle-high/event/girls-7-8th-volleyball-cook-inlet-academy/
LOCATION:45872 K. Beach Road\, Soldotna Alaska  99669
END:VEVENT
END:VCALENDAR