BEGIN:VCALENDAR
VERSION:2.0
PRODID:-//Nikiski Middle &amp; High School - ECPv6.8.2//NONSGML v1.0//EN
CALSCALE:GREGORIAN
METHOD:PUBLISH
X-ORIGINAL-URL:https://kpbsd.org/schools/nikiski-middle-high
X-WR-CALDESC:Events for Nikiski Middle &amp; High School
REFRESH-INTERVAL;VALUE=DURATION:PT1H
X-Robots-Tag:noindex
X-PUBLISHED-TTL:PT1H
BEGIN:VTIMEZONE
TZID:UTC
BEGIN:STANDARD
TZOFFSETFROM:+0000
TZOFFSETTO:+0000
TZNAME:UTC
DTSTART:20230101T000000
END:STANDARD
END:VTIMEZONE
BEGIN:VEVENT
DTSTART;TZID=UTC:20230201T000000
DTEND;TZID=UTC:20230201T013000
DTSTAMP:20260421T085537
CREATED:20221116T211652Z
LAST-MODIFIED:20230131T052145Z
UID:5256-1675209600-1675215000@kpbsd.org
SUMMARY:Girls JV Basketball @ Kenai Central High School
DESCRIPTION:Sport: Basketball\nLevel: Girls JV\nTeam: Nikiski High School\nSite: Kenai Central High School\nSubsite: Gym
URL:https://kpbsd.org/schools/nikiski-middle-high/event/girls-jv-basketball-kenai-central-high-school-3/
LOCATION:9583 Kenai Spur Hwy\, Kenai AK  99611-7898
END:VEVENT
BEGIN:VEVENT
DTSTART;TZID=UTC:20230201T000000
DTEND;TZID=UTC:20230201T020000
DTSTAMP:20260421T085537
CREATED:20221116T211652Z
LAST-MODIFIED:20230131T052145Z
UID:5255-1675209600-1675216800@kpbsd.org
SUMMARY:Girls 7/8th Volleyball vs Seward Middle School
DESCRIPTION:Sport: Volleyball\nLevel: Girls 7/8th\nTeam: Nikiski High School\nSite: Nikiski High School\nSubsite: Gym
URL:https://kpbsd.org/schools/nikiski-middle-high/event/girls-7-8th-volleyball-vs-seward-middle-school-2/
LOCATION:52275 Education Drive\, Nikisiki Alaska  99611
END:VEVENT
BEGIN:VEVENT
DTSTART;TZID=UTC:20230201T013000
DTEND;TZID=UTC:20230201T030000
DTSTAMP:20260421T085537
CREATED:20221116T211651Z
LAST-MODIFIED:20230131T052146Z
UID:5254-1675215000-1675220400@kpbsd.org
SUMMARY:Boys JV Basketball @ Kenai Central High School
DESCRIPTION:Sport: Basketball\nLevel: Boys JV\nTeam: Nikiski High School\nSite: Kenai Central High School\nSubsite: Gym
URL:https://kpbsd.org/schools/nikiski-middle-high/event/boys-jv-basketball-kenai-central-high-school-3/
LOCATION:9583 Kenai Spur Hwy\, Kenai AK  99611-7898
END:VEVENT
BEGIN:VEVENT
DTSTART;TZID=UTC:20230201T030000
DTEND;TZID=UTC:20230201T043000
DTSTAMP:20260421T085537
CREATED:20221116T211652Z
LAST-MODIFIED:20230131T052146Z
UID:5258-1675220400-1675225800@kpbsd.org
SUMMARY:Girls Varsity Basketball @ Kenai Central High School
DESCRIPTION:Sport: Basketball\nLevel: Girls Varsity\nTeam: Nikiski High School\nSite: Kenai Central High School\nSubsite: Gym
URL:https://kpbsd.org/schools/nikiski-middle-high/event/girls-varsity-basketball-kenai-central-high-school-3/
LOCATION:9583 Kenai Spur Hwy\, Kenai AK  99611-7898
END:VEVENT
BEGIN:VEVENT
DTSTART;TZID=UTC:20230201T043000
DTEND;TZID=UTC:20230201T060000
DTSTAMP:20260421T085537
CREATED:20221116T211652Z
LAST-MODIFIED:20230201T052521Z
UID:5257-1675225800-1675231200@kpbsd.org
SUMMARY:Boys Varsity Basketball @ Kenai Central High School
DESCRIPTION:Sport: Basketball\nLevel: Boys Varsity\nTeam: Nikiski High School\nSite: Kenai Central High School\nSubsite: Gym
URL:https://kpbsd.org/schools/nikiski-middle-high/event/boys-varsity-basketball-kenai-central-high-school-3/
LOCATION:9583 Kenai Spur Hwy\, Kenai AK  99611-7898
END:VEVENT
END:VCALENDAR