BEGIN:VCALENDAR
VERSION:2.0
PRODID:-//Nikiski Middle &amp; High School - ECPv6.8.2//NONSGML v1.0//EN
CALSCALE:GREGORIAN
METHOD:PUBLISH
X-ORIGINAL-URL:https://kpbsd.org/schools/nikiski-middle-high
X-WR-CALDESC:Events for Nikiski Middle &amp; High School
REFRESH-INTERVAL;VALUE=DURATION:PT1H
X-Robots-Tag:noindex
X-PUBLISHED-TTL:PT1H
BEGIN:VTIMEZONE
TZID:UTC
BEGIN:STANDARD
TZOFFSETFROM:+0000
TZOFFSETTO:+0000
TZNAME:UTC
DTSTART:20230101T000000
END:STANDARD
END:VTIMEZONE
BEGIN:VEVENT
DTSTART;TZID=UTC:20230222T000000
DTEND;TZID=UTC:20230222T020000
DTSTAMP:20260422T020834
CREATED:20221116T211840Z
LAST-MODIFIED:20230221T075231Z
UID:5286-1677024000-1677031200@kpbsd.org
SUMMARY:Girls 7/8th Volleyball @ Skyview Middle School
DESCRIPTION:Sport: Volleyball\nLevel: Girls 7/8th\nTeam: Nikiski High School\nSite: Skyview Middle School
URL:https://kpbsd.org/schools/nikiski-middle-high/event/girls-7-8th-volleyball-skyview-middle-school-3/
LOCATION:46188 Sterling Hwy\, Saldotna AK  99669
END:VEVENT
BEGIN:VEVENT
DTSTART;TZID=UTC:20230222T013000
DTEND;TZID=UTC:20230222T020000
DTSTAMP:20260422T020834
CREATED:20221116T211840Z
LAST-MODIFIED:20230221T075231Z
UID:5287-1677029400-1677031200@kpbsd.org
SUMMARY:Girls JV Basketball vs Homer High School
DESCRIPTION:Sport: Basketball\nLevel: Girls JV\nTeam: Nikiski High School\nSite: Nikiski High School\nSubsite: Gym
URL:https://kpbsd.org/schools/nikiski-middle-high/event/girls-jv-basketball-vs-homer-high-school-3/
LOCATION:52275 Education Drive\, Nikisiki Alaska  99611
END:VEVENT
BEGIN:VEVENT
DTSTART;TZID=UTC:20230222T013000
DTEND;TZID=UTC:20230222T020000
DTSTAMP:20260422T020834
CREATED:20221116T211841Z
LAST-MODIFIED:20230206T053615Z
UID:5288-1677029400-1677031200@kpbsd.org
SUMMARY:Boys JV Basketball vs Homer High School
DESCRIPTION:Sport: Basketball\nLevel: Boys JV\nTeam: Nikiski High School\nSite: Nikiski High School\nSubsite: Gym
URL:https://kpbsd.org/schools/nikiski-middle-high/event/boys-jv-basketball-vs-homer-high-school-3/
LOCATION:52275 Education Drive\, Nikisiki Alaska  99611
END:VEVENT
BEGIN:VEVENT
DTSTART;TZID=UTC:20230222T030000
DTEND;TZID=UTC:20230222T033000
DTSTAMP:20260422T020834
CREATED:20221116T211841Z
LAST-MODIFIED:20230221T075231Z
UID:5290-1677034800-1677036600@kpbsd.org
SUMMARY:Boys Varsity Basketball vs Homer High School
DESCRIPTION:Sport: Basketball\nLevel: Boys Varsity\nTeam: Nikiski High School\nSite: Nikiski High School\nSubsite: Gym
URL:https://kpbsd.org/schools/nikiski-middle-high/event/boys-varsity-basketball-vs-homer-high-school-3/
LOCATION:52275 Education Drive\, Nikisiki Alaska  99611
END:VEVENT
BEGIN:VEVENT
DTSTART;TZID=UTC:20230222T043000
DTEND;TZID=UTC:20230222T050000
DTSTAMP:20260422T020834
CREATED:20221116T211841Z
LAST-MODIFIED:20230221T075231Z
UID:5289-1677040200-1677042000@kpbsd.org
SUMMARY:Girls Varsity Basketball vs Homer High School
DESCRIPTION:Sport: Basketball\nLevel: Girls Varsity\nTeam: Nikiski High School\nSite: Nikiski High School\nSubsite: Gym
URL:https://kpbsd.org/schools/nikiski-middle-high/event/girls-varsity-basketball-vs-homer-high-school-3/
LOCATION:52275 Education Drive\, Nikisiki Alaska  99611
END:VEVENT
END:VCALENDAR