BEGIN:VCALENDAR
VERSION:2.0
PRODID:-//Nikiski Middle &amp; High School - ECPv6.8.2//NONSGML v1.0//EN
CALSCALE:GREGORIAN
METHOD:PUBLISH
X-ORIGINAL-URL:https://kpbsd.org/schools/nikiski-middle-high
X-WR-CALDESC:Events for Nikiski Middle &amp; High School
REFRESH-INTERVAL;VALUE=DURATION:PT1H
X-Robots-Tag:noindex
X-PUBLISHED-TTL:PT1H
BEGIN:VTIMEZONE
TZID:UTC
BEGIN:STANDARD
TZOFFSETFROM:+0000
TZOFFSETTO:+0000
TZNAME:UTC
DTSTART:20230101T000000
END:STANDARD
END:VTIMEZONE
BEGIN:VEVENT
DTSTART;TZID=UTC:20230922T230000
DTEND;TZID=UTC:20230923T003000
DTSTAMP:20260421T183544
CREATED:20230523T042006Z
LAST-MODIFIED:20230922T050937Z
UID:7488-1695423600-1695429000@kpbsd.org
SUMMARY:Coed 6/7/8th Cross Country @ Homer Middle School
DESCRIPTION:Sport: Cross Country\nLevel: Coed 6/7/8th\nTeam: Nikiski High School\nSite: Homer Middle School
URL:https://kpbsd.org/schools/nikiski-middle-high/event/coed-6-7-8th-cross-country-homer-middle-school-3/
LOCATION:500 Sterling Hwy\, Homer AK  99603
END:VEVENT
BEGIN:VEVENT
DTSTART;TZID=UTC:20230922T233000
DTEND;TZID=UTC:20230923T003000
DTSTAMP:20260421T183544
CREATED:20230124T040650Z
LAST-MODIFIED:20230922T050937Z
UID:5839-1695425400-1695429000@kpbsd.org
SUMMARY:Girls JV Volleyball @ Seward High School
DESCRIPTION:Sport: Volleyball\nLevel: Girls JV\nTeam: Nikiski High School\nSite: Seward High School\nSubsite: Gym
URL:https://kpbsd.org/schools/nikiski-middle-high/event/girls-jv-volleyball-seward-high-school-2/
LOCATION:Po Box 1049\, Seward AK  99664-1049
END:VEVENT
BEGIN:VEVENT
DTSTART;TZID=UTC:20230923T013000
DTEND;TZID=UTC:20230923T030000
DTSTAMP:20260421T183544
CREATED:20230124T040650Z
LAST-MODIFIED:20230922T050937Z
UID:5841-1695432600-1695438000@kpbsd.org
SUMMARY:Girls Varsity Volleyball @ Seward High School
DESCRIPTION:Sport: Volleyball\nLevel: Girls Varsity\nTeam: Nikiski High School\nSite: Seward High School\nSubsite: Gym
URL:https://kpbsd.org/schools/nikiski-middle-high/event/girls-varsity-volleyball-seward-high-school-2/
LOCATION:Po Box 1049\, Seward AK  99664-1049
END:VEVENT
BEGIN:VEVENT
DTSTART;TZID=UTC:20230923T200000
DTEND;TZID=UTC:20230923T220000
DTSTAMP:20260421T183544
CREATED:20230523T042007Z
LAST-MODIFIED:20230923T050936Z
UID:7491-1695499200-1695506400@kpbsd.org
SUMMARY:Coed 6/7/8th Soccer vs Homer Middle School
DESCRIPTION:Sport: Soccer\nLevel: Coed 6/7/8th\nTeam: Nikiski High School\nSite: Nikiski High School\nSubsite: Practice Field
URL:https://kpbsd.org/schools/nikiski-middle-high/event/coed-6-7-8th-soccer-vs-homer-middle-school-2/
LOCATION:52275 Education Drive\, Nikisiki Alaska  99611
END:VEVENT
BEGIN:VEVENT
DTSTART;TZID=UTC:20230923T200000
DTEND;TZID=UTC:20230923T223000
DTSTAMP:20260421T183544
CREATED:20230723T085027Z
LAST-MODIFIED:20230923T050936Z
UID:7918-1695499200-1695508200@kpbsd.org
SUMMARY:Boys Varsity Football @ Valdez High School
DESCRIPTION:Sport: Football\nLevel: Boys Varsity\nTeam: Nikiski High School\nSite: Valdez High School\nSubsite: Football Field
URL:https://kpbsd.org/schools/nikiski-middle-high/event/boys-varsity-football-valdez-high-school/
LOCATION:PO Box 398\, Valdez Alaska  99686
END:VEVENT
END:VCALENDAR