BEGIN:VCALENDAR
VERSION:2.0
PRODID:-//Nikiski Middle &amp; High School - ECPv6.8.2//NONSGML v1.0//EN
CALSCALE:GREGORIAN
METHOD:PUBLISH
X-ORIGINAL-URL:https://kpbsd.org/schools/nikiski-middle-high
X-WR-CALDESC:Events for Nikiski Middle &amp; High School
REFRESH-INTERVAL;VALUE=DURATION:PT1H
X-Robots-Tag:noindex
X-PUBLISHED-TTL:PT1H
BEGIN:VTIMEZONE
TZID:UTC
BEGIN:STANDARD
TZOFFSETFROM:+0000
TZOFFSETTO:+0000
TZNAME:UTC
DTSTART:20240101T000000
END:STANDARD
END:VTIMEZONE
BEGIN:VEVENT
DTSTART;TZID=UTC:20240117T013000
DTEND;TZID=UTC:20240117T030000
DTSTAMP:20260419T165919
CREATED:20230124T040652Z
LAST-MODIFIED:20240116T100418Z
UID:5847-1705455000-1705460400@kpbsd.org
SUMMARY:Boys JV Basketball @ Seward High School
DESCRIPTION:Sport: Basketball\nLevel: Boys JV\nTeam: Nikiski High School\nSite: Seward High School\nSubsite: Gym
URL:https://kpbsd.org/schools/nikiski-middle-high/event/boys-jv-basketball-seward-high-school-4/
LOCATION:Po Box 1049\, Seward\, AK\, United States
END:VEVENT
BEGIN:VEVENT
DTSTART;TZID=UTC:20240117T030000
DTEND;TZID=UTC:20240117T043000
DTSTAMP:20260419T165919
CREATED:20230124T040652Z
LAST-MODIFIED:20240116T100418Z
UID:5846-1705460400-1705465800@kpbsd.org
SUMMARY:Girls Varsity Basketball @ Seward High School
DESCRIPTION:Sport: Basketball\nLevel: Girls Varsity\nTeam: Nikiski High School\nSite: Seward High School\nSubsite: Gym
URL:https://kpbsd.org/schools/nikiski-middle-high/event/girls-varsity-basketball-seward-high-school-4/
LOCATION:Po Box 1049\, Seward\, AK\, United States
END:VEVENT
BEGIN:VEVENT
DTSTART;TZID=UTC:20240117T043000
DTEND;TZID=UTC:20240117T060000
DTSTAMP:20260419T165919
CREATED:20230124T040651Z
LAST-MODIFIED:20240116T100418Z
UID:5845-1705465800-1705471200@kpbsd.org
SUMMARY:Boys Varsity Basketball @ Seward High School
DESCRIPTION:Sport: Basketball\nLevel: Boys Varsity\nTeam: Nikiski High School\nSite: Seward High School\nSubsite: Gym
URL:https://kpbsd.org/schools/nikiski-middle-high/event/boys-varsity-basketball-seward-high-school-4/
LOCATION:Po Box 1049\, Seward\, AK\, United States
END:VEVENT
END:VCALENDAR