BEGIN:VCALENDAR
VERSION:2.0
PRODID:-//Nikiski Middle &amp; High School - ECPv6.8.2//NONSGML v1.0//EN
CALSCALE:GREGORIAN
METHOD:PUBLISH
X-ORIGINAL-URL:https://kpbsd.org/schools/nikiski-middle-high
X-WR-CALDESC:Events for Nikiski Middle &amp; High School
REFRESH-INTERVAL;VALUE=DURATION:PT1H
X-Robots-Tag:noindex
X-PUBLISHED-TTL:PT1H
BEGIN:VTIMEZONE
TZID:UTC
BEGIN:STANDARD
TZOFFSETFROM:+0000
TZOFFSETTO:+0000
TZNAME:UTC
DTSTART:20240101T000000
END:STANDARD
END:VTIMEZONE
BEGIN:VEVENT
DTSTART;TZID=UTC:20240119T013000
DTEND;TZID=UTC:20240119T030000
DTSTAMP:20260421T005442
CREATED:20231212T225103Z
LAST-MODIFIED:20240118T111927Z
UID:9385-1705627800-1705633200@kpbsd.org
SUMMARY:Girls Freshman Basketball vs Soldotna High School
DESCRIPTION:Sport: Basketball\nLevel: Girls Freshman\nTeam: Nikiski High School\nSite: Nikiski High School\nSubsite: Gym
URL:https://kpbsd.org/schools/nikiski-middle-high/event/girls-freshman-basketball-vs-soldotna-high-school-3/
LOCATION:52275 Education Drive\, 52801 Nikiski Ave\, Kenai\, AK\, United States
END:VEVENT
BEGIN:VEVENT
DTSTART;TZID=UTC:20240119T030000
DTEND;TZID=UTC:20240119T043000
DTSTAMP:20260421T005442
CREATED:20231212T225103Z
LAST-MODIFIED:20240118T111927Z
UID:9388-1705633200-1705638600@kpbsd.org
SUMMARY:Boys Freshman Basketball vs Soldotna High School
DESCRIPTION:Sport: Basketball\nLevel: Boys Freshman\nTeam: Nikiski High School\nSite: Nikiski High School\nSubsite: Gym
URL:https://kpbsd.org/schools/nikiski-middle-high/event/boys-freshman-basketball-vs-soldotna-high-school/
LOCATION:52275 Education Drive\, 52801 Nikiski Ave\, Kenai\, AK\, United States
END:VEVENT
BEGIN:VEVENT
DTSTART;TZID=UTC:20240119T180000
DTEND;TZID=UTC:20240120T020000
DTSTAMP:20260421T005442
CREATED:20240106T062021Z
LAST-MODIFIED:20240119T121646Z
UID:9538-1705687200-1705716000@kpbsd.org
SUMMARY:DDF @ South
DESCRIPTION:Site: TBA\nSubsite: TBA
URL:https://kpbsd.org/schools/nikiski-middle-high/event/ddf-south/
LOCATION:(unknown) (unknown)\, (unknown) (unknown)  (unknown)
END:VEVENT
BEGIN:VEVENT
DTSTART;TZID=UTC:20240119T210000
DTEND;TZID=UTC:20240119T223000
DTSTAMP:20260421T005442
CREATED:20230225T083807Z
LAST-MODIFIED:20240119T121647Z
UID:6213-1705698000-1705703400@kpbsd.org
SUMMARY:Girls JV Basketball
DESCRIPTION:Sport: Basketball\nLevel: Girls JV\nTeam: Nikiski High School\nSite: TBA
URL:https://kpbsd.org/schools/nikiski-middle-high/event/girls-jv-basketball-kenai-central-high-school-4/
LOCATION:(unknown) (unknown)\, (unknown) (unknown)  (unknown)
END:VEVENT
END:VCALENDAR