BEGIN:VCALENDAR
VERSION:2.0
PRODID:-//Nikiski Middle &amp; High School - ECPv6.8.2//NONSGML v1.0//EN
CALSCALE:GREGORIAN
METHOD:PUBLISH
X-ORIGINAL-URL:https://kpbsd.org/schools/nikiski-middle-high
X-WR-CALDESC:Events for Nikiski Middle &amp; High School
REFRESH-INTERVAL;VALUE=DURATION:PT1H
X-Robots-Tag:noindex
X-PUBLISHED-TTL:PT1H
BEGIN:VTIMEZONE
TZID:UTC
BEGIN:STANDARD
TZOFFSETFROM:+0000
TZOFFSETTO:+0000
TZNAME:UTC
DTSTART:20240101T000000
END:STANDARD
END:VTIMEZONE
BEGIN:VEVENT
DTSTART;TZID=UTC:20240125T090100
DTEND;TZID=UTC:20240125T090100
DTSTAMP:20260420T214334
CREATED:20230429T022118Z
LAST-MODIFIED:20240124T143547Z
UID:6753-1706173260-1706173260@kpbsd.org
SUMMARY:Girls Varsity Basketball @ West Valley High School - Varsity G
DESCRIPTION:Sport: Basketball\nLevel: Girls Varsity\nTeam: Nikiski High School\nSite: West Valley HS\nSubsite: Gym
URL:https://kpbsd.org/schools/nikiski-middle-high/event/girls-varsity-basketball-west-valley-high-school/
LOCATION:3800 Geist Rd\, Fairbanks\, AK\, United States
END:VEVENT
END:VCALENDAR