BEGIN:VCALENDAR
VERSION:2.0
PRODID:-//Nikiski Middle &amp; High School - ECPv6.8.2//NONSGML v1.0//EN
CALSCALE:GREGORIAN
METHOD:PUBLISH
X-ORIGINAL-URL:https://kpbsd.org/schools/nikiski-middle-high
X-WR-CALDESC:Events for Nikiski Middle &amp; High School
REFRESH-INTERVAL;VALUE=DURATION:PT1H
X-Robots-Tag:noindex
X-PUBLISHED-TTL:PT1H
BEGIN:VTIMEZONE
TZID:UTC
BEGIN:STANDARD
TZOFFSETFROM:+0000
TZOFFSETTO:+0000
TZNAME:UTC
DTSTART:20240101T000000
END:STANDARD
END:VTIMEZONE
BEGIN:VEVENT
DTSTART;TZID=UTC:20240911T000000
DTEND;TZID=UTC:20240911T010000
DTSTAMP:20260419T084051
CREATED:20240216T231346Z
LAST-MODIFIED:20240910T235111Z
UID:10066-1726012800-1726016400@kpbsd.org
SUMMARY:Girls Freshman Volleyball @ Kenai Central High School
DESCRIPTION:Sport: Volleyball\nLevel: Girls Freshman\nTeam: Nikiski High School\nSite: Kenai Central High School\nSubsite: Gym
URL:https://kpbsd.org/schools/nikiski-middle-high/event/girls-freshman-volleyball-kenai-central-high-school-3/
LOCATION:9583 Kenai Spur Hwy\, Kenai\, AK\, United States
END:VEVENT
BEGIN:VEVENT
DTSTART;TZID=UTC:20240911T010000
DTEND;TZID=UTC:20240911T020000
DTSTAMP:20260419T084051
CREATED:20240216T231345Z
LAST-MODIFIED:20240910T235112Z
UID:10063-1726016400-1726020000@kpbsd.org
SUMMARY:Girls JV Volleyball @ Kenai Central High School
DESCRIPTION:Sport: Volleyball\nLevel: Girls JV\nTeam: Nikiski High School\nSite: Kenai Central High School\nSubsite: Gym
URL:https://kpbsd.org/schools/nikiski-middle-high/event/girls-jv-volleyball-kenai-central-high-school-5/
LOCATION:9583 Kenai Spur Hwy\, Kenai\, AK\, United States
END:VEVENT
BEGIN:VEVENT
DTSTART;TZID=UTC:20240911T020000
DTEND;TZID=UTC:20240911T040000
DTSTAMP:20260419T084051
CREATED:20240216T231346Z
LAST-MODIFIED:20240910T235112Z
UID:10069-1726020000-1726027200@kpbsd.org
SUMMARY:Girls Varsity Volleyball @ Kenai Central High School
DESCRIPTION:Sport: Volleyball\nLevel: Girls Varsity\nTeam: Nikiski High School\nSite: Kenai Central High School\nSubsite: Gym
URL:https://kpbsd.org/schools/nikiski-middle-high/event/girls-varsity-volleyball-kenai-central-high-school-3/
LOCATION:9583 Kenai Spur Hwy\, Kenai\, AK\, United States
END:VEVENT
BEGIN:VEVENT
DTSTART;TZID=UTC:20240911T200000
DTEND;TZID=UTC:20240911T203000
DTSTAMP:20260419T084051
CREATED:20240830T225253Z
LAST-MODIFIED:20240910T235112Z
UID:12271-1726084800-1726086600@kpbsd.org
SUMMARY:SOS Activity
DESCRIPTION:Site: Nikiski High School\nSubsite: Nikiski High School
URL:https://kpbsd.org/schools/nikiski-middle-high/event/sos-activity/
LOCATION:52275 Education Dr\, 52801 Nikiski Ave\, Kenai\, AK\, United States
END:VEVENT
END:VCALENDAR