BEGIN:VCALENDAR
VERSION:2.0
PRODID:-//Nikiski Middle &amp; High School - ECPv6.8.2//NONSGML v1.0//EN
CALSCALE:GREGORIAN
METHOD:PUBLISH
X-ORIGINAL-URL:https://kpbsd.org/schools/nikiski-middle-high
X-WR-CALDESC:Events for Nikiski Middle &amp; High School
REFRESH-INTERVAL;VALUE=DURATION:PT1H
X-Robots-Tag:noindex
X-PUBLISHED-TTL:PT1H
BEGIN:VTIMEZONE
TZID:UTC
BEGIN:STANDARD
TZOFFSETFROM:+0000
TZOFFSETTO:+0000
TZNAME:UTC
DTSTART:20240101T000000
END:STANDARD
END:VTIMEZONE
BEGIN:VEVENT
DTSTART;TZID=UTC:20240913T230000
DTEND;TZID=UTC:20240914T003000
DTSTAMP:20260422T024144
CREATED:20240514T190918Z
LAST-MODIFIED:20240914T002146Z
UID:11032-1726268400-1726273800@kpbsd.org
SUMMARY:Coed 6/7/8th Cross Country @ Seward Middle School
DESCRIPTION:Sport: Cross Country\nLevel: Coed 6/7/8th\nTeam: Nikiski High School\nSite: Seward Middle School
URL:https://kpbsd.org/schools/nikiski-middle-high/event/coed-6-7-8th-cross-country-seward-middle-school-4/
LOCATION:PO Box 1149\, Seward\, AK\, United States
END:VEVENT
BEGIN:VEVENT
DTSTART;TZID=UTC:20240913T230000
DTEND;TZID=UTC:20240914T040000
DTSTAMP:20260422T024144
CREATED:20240306T052752Z
LAST-MODIFIED:20240914T002146Z
UID:10262-1726268400-1726286400@kpbsd.org
SUMMARY:Cross country Region pre-view meet
DESCRIPTION:Games:\nSport: Cross Country\nLevel: Coed Varsity\nTeam: Nikiski High School
URL:https://kpbsd.org/schools/nikiski-middle-high/event/cross-country-region-pre-view-meet/
LOCATION:AK
END:VEVENT
BEGIN:VEVENT
DTSTART;TZID=UTC:20240914T000000
DTEND;TZID=UTC:20240914T010000
DTSTAMP:20260422T024144
CREATED:20240319T091631Z
LAST-MODIFIED:20240914T002146Z
UID:10316-1726272000-1726275600@kpbsd.org
SUMMARY:Girls Freshman Volleyball @ Mountain City Christian School
DESCRIPTION:Sport: Volleyball\nLevel: Girls Freshman\nTeam: Nikiski High School\nSite: Mountain City Christian Academy\nSubsite: MAIN GYM
URL:https://kpbsd.org/schools/nikiski-middle-high/event/girls-freshman-volleyball-mountain-city-christian-school/
LOCATION:6575 E. Northern Lights Blvd\, Anchorage\, AK\, United States
END:VEVENT
BEGIN:VEVENT
DTSTART;TZID=UTC:20240914T010000
DTEND;TZID=UTC:20240914T020000
DTSTAMP:20260422T024144
CREATED:20240319T091632Z
LAST-MODIFIED:20240914T002146Z
UID:10319-1726275600-1726279200@kpbsd.org
SUMMARY:Girls JV Volleyball @ Mountain City Christian School
DESCRIPTION:Sport: Volleyball\nLevel: Girls JV\nTeam: Nikiski High School\nSite: Mountain City Christian Academy\nSubsite: MAIN GYM
URL:https://kpbsd.org/schools/nikiski-middle-high/event/girls-jv-volleyball-mountain-city-christian-school/
LOCATION:6575 E. Northern Lights Blvd\, Anchorage\, AK\, United States
END:VEVENT
BEGIN:VEVENT
DTSTART;TZID=UTC:20240914T010000
DTEND;TZID=UTC:20240914T040000
DTSTAMP:20260422T024144
CREATED:20240508T182632Z
LAST-MODIFIED:20240914T002146Z
UID:10895-1726275600-1726286400@kpbsd.org
SUMMARY:Coed Varsity Football @ Seward High School
DESCRIPTION:Sport: Football\nLevel: Coed Varsity\nTeam: Nikiski High School\nSite: Seward High School\nSubsite: Football Field
URL:https://kpbsd.org/schools/nikiski-middle-high/event/coed-varsity-football-seward-high-school-3/
LOCATION:Po Box 1049\, Seward\, AK\, United States
END:VEVENT
BEGIN:VEVENT
DTSTART;TZID=UTC:20240914T023000
DTEND;TZID=UTC:20240914T034500
DTSTAMP:20260422T024144
CREATED:20240319T091632Z
LAST-MODIFIED:20240914T002146Z
UID:10322-1726281000-1726285500@kpbsd.org
SUMMARY:Girls Varsity Volleyball @ Mountain City Christian School
DESCRIPTION:Sport: Volleyball\nLevel: Girls Varsity\nTeam: Nikiski High School\nSite: Mountain City Christian Academy\nSubsite: MAIN GYM
URL:https://kpbsd.org/schools/nikiski-middle-high/event/girls-varsity-volleyball-mountain-city-christian-school/
LOCATION:6575 E. Northern Lights Blvd\, Anchorage\, AK\, United States
END:VEVENT
BEGIN:VEVENT
DTSTART;TZID=UTC:20240914T163000
DTEND;TZID=UTC:20240914T200000
DTSTAMP:20260422T024144
CREATED:20240829T182110Z
LAST-MODIFIED:20240914T002147Z
UID:12217-1726331400-1726344000@kpbsd.org
SUMMARY:Kids Cheer Camp
DESCRIPTION:Site: Nikiski High School\nSubsite: Gym
URL:https://kpbsd.org/schools/nikiski-middle-high/event/kids-cheer-camp/
LOCATION:52275 Education Drive\, 52801 Nikiski Ave\, Kenai\, AK\, United States
END:VEVENT
BEGIN:VEVENT
DTSTART;TZID=UTC:20240914T190000
DTEND;TZID=UTC:20240914T200000
DTSTAMP:20260422T024144
CREATED:20240522T192102Z
LAST-MODIFIED:20240914T002147Z
UID:11546-1726340400-1726344000@kpbsd.org
SUMMARY:Girls Freshman Volleyball @ Grace Christian High School
DESCRIPTION:Sport: Volleyball\nLevel: Girls Freshman\nTeam: Nikiski High School\nSite: Grace Christian High School\nSubsite: South Gym
URL:https://kpbsd.org/schools/nikiski-middle-high/event/girls-freshman-volleyball-grace-christian-high-school-2/
LOCATION:12407 Pintail St\, Anchorage\, AK\, United States
END:VEVENT
BEGIN:VEVENT
DTSTART;TZID=UTC:20240914T200000
DTEND;TZID=UTC:20240914T203000
DTSTAMP:20260422T024144
CREATED:20240522T192101Z
LAST-MODIFIED:20240914T002147Z
UID:11540-1726344000-1726345800@kpbsd.org
SUMMARY:Girls JV Volleyball @ Grace Christian High School
DESCRIPTION:Sport: Volleyball\nLevel: Girls JV\nTeam: Nikiski High School\nSite: Grace Christian High School\nSubsite: South Gym
URL:https://kpbsd.org/schools/nikiski-middle-high/event/girls-jv-volleyball-grace-christian-high-school-2/
LOCATION:12407 Pintail St\, Anchorage\, AK\, United States
END:VEVENT
BEGIN:VEVENT
DTSTART;TZID=UTC:20240914T200000
DTEND;TZID=UTC:20240914T203000
DTSTAMP:20260422T024144
CREATED:20240820T220539Z
LAST-MODIFIED:20240914T002147Z
UID:12141-1726344000-1726345800@kpbsd.org
SUMMARY:NNS Color Run
DESCRIPTION:Site: Nikiski High School\nSubsite: Football Field
URL:https://kpbsd.org/schools/nikiski-middle-high/event/nns-color-run/
LOCATION:52275 Education Drive\, 52801 Nikiski Ave\, Kenai\, AK\, United States
END:VEVENT
BEGIN:VEVENT
DTSTART;TZID=UTC:20240914T213000
DTEND;TZID=UTC:20240914T224500
DTSTAMP:20260422T024144
CREATED:20240522T192102Z
LAST-MODIFIED:20240914T002203Z
UID:11543-1726349400-1726353900@kpbsd.org
SUMMARY:Girls Varsity Volleyball @ Grace Christian High School
DESCRIPTION:Sport: Volleyball\nLevel: Girls Varsity\nTeam: Nikiski High School\nSite: Grace Christian High School\nSubsite: South Gym
URL:https://kpbsd.org/schools/nikiski-middle-high/event/girls-jv-volleyball-grace-christian-high-school-3/
LOCATION:12407 Pintail St\, Anchorage\, AK\, United States
END:VEVENT
END:VCALENDAR