BEGIN:VCALENDAR
VERSION:2.0
PRODID:-//Nikiski Middle &amp; High School - ECPv6.8.2//NONSGML v1.0//EN
CALSCALE:GREGORIAN
METHOD:PUBLISH
X-ORIGINAL-URL:https://kpbsd.org/schools/nikiski-middle-high
X-WR-CALDESC:Events for Nikiski Middle &amp; High School
REFRESH-INTERVAL;VALUE=DURATION:PT1H
X-Robots-Tag:noindex
X-PUBLISHED-TTL:PT1H
BEGIN:VTIMEZONE
TZID:UTC
BEGIN:STANDARD
TZOFFSETFROM:+0000
TZOFFSETTO:+0000
TZNAME:UTC
DTSTART:20240101T000000
END:STANDARD
END:VTIMEZONE
BEGIN:VEVENT
DTSTART;TZID=UTC:20240926T180000
DTEND;TZID=UTC:20240926T200000
DTSTAMP:20260420T033729
CREATED:20240829T225104Z
LAST-MODIFIED:20240926T190803Z
UID:12241-1727373600-1727380800@kpbsd.org
SUMMARY:UAA Representative at school
DESCRIPTION:Site: Nikiski High School\nSubsite: Commons
URL:https://kpbsd.org/schools/nikiski-middle-high/event/uaa-representative-at-school/
LOCATION:52275 Education Drive\, 52801 Nikiski Ave\, Kenai\, AK\, United States
END:VEVENT
BEGIN:VEVENT
DTSTART;TZID=UTC:20240926T230000
DTEND;TZID=UTC:20240927T010000
DTSTAMP:20260420T033729
CREATED:20240822T182112Z
LAST-MODIFIED:20240926T190803Z
UID:12163-1727391600-1727398800@kpbsd.org
SUMMARY:Coed 6/7/8th Soccer @ CHAPMAN SCHOOL
DESCRIPTION:Sport: Soccer\nLevel: Coed 6/7/8th\nTeam: Nikiski High School\nSite: CHAPMAN SCHOOL
URL:https://kpbsd.org/schools/nikiski-middle-high/event/coed-6-7-8th-soccer-chapman-school/
LOCATION:73286 School Ave\, Anchor Point\, AK\, United States
END:VEVENT
END:VCALENDAR