BEGIN:VCALENDAR
VERSION:2.0
PRODID:-//Nikiski Middle &amp; High School - ECPv6.8.2//NONSGML v1.0//EN
CALSCALE:GREGORIAN
METHOD:PUBLISH
X-ORIGINAL-URL:https://kpbsd.org/schools/nikiski-middle-high
X-WR-CALDESC:Events for Nikiski Middle &amp; High School
REFRESH-INTERVAL;VALUE=DURATION:PT1H
X-Robots-Tag:noindex
X-PUBLISHED-TTL:PT1H
BEGIN:VTIMEZONE
TZID:UTC
BEGIN:STANDARD
TZOFFSETFROM:+0000
TZOFFSETTO:+0000
TZNAME:UTC
DTSTART:20240101T000000
END:STANDARD
END:VTIMEZONE
BEGIN:VEVENT
DTSTART;TZID=UTC:20240929T050000
DTEND;TZID=UTC:20240929T140000
DTSTAMP:20260420T215542
CREATED:20240515T190750Z
LAST-MODIFIED:20240929T013641Z
UID:11257-1727586000-1727618400@kpbsd.org
SUMMARY:Girls Freshman Volleyball @ Colony High School
DESCRIPTION:Sport: Volleyball\nLevel: Girls Freshman\nTeam: Nikiski High School\nSite: Colony High School\nSubsite: Gym
URL:https://kpbsd.org/schools/nikiski-middle-high/event/girls-freshman-volleyball-colony-high-school-2/
LOCATION:9550 East Bogard Road\, Palmer\, AK\, United States
END:VEVENT
END:VCALENDAR