BEGIN:VCALENDAR
VERSION:2.0
PRODID:-//Nikiski Middle &amp; High School - ECPv6.8.2//NONSGML v1.0//EN
CALSCALE:GREGORIAN
METHOD:PUBLISH
X-ORIGINAL-URL:https://kpbsd.org/schools/nikiski-middle-high
X-WR-CALDESC:Events for Nikiski Middle &amp; High School
REFRESH-INTERVAL;VALUE=DURATION:PT1H
X-Robots-Tag:noindex
X-PUBLISHED-TTL:PT1H
BEGIN:VTIMEZONE
TZID:UTC
BEGIN:STANDARD
TZOFFSETFROM:+0000
TZOFFSETTO:+0000
TZNAME:UTC
DTSTART:20240101T000000
END:STANDARD
END:VTIMEZONE
BEGIN:VEVENT
DTSTART;TZID=UTC:20241001T020000
DTEND;TZID=UTC:20241001T033000
DTSTAMP:20260421T095539
CREATED:20240827T225110Z
LAST-MODIFIED:20241001T013810Z
UID:12201-1727748000-1727753400@kpbsd.org
SUMMARY:Awards Night/NHS Inductions
DESCRIPTION:Site: Nikiski High School\nSubsite: Auditorium
URL:https://kpbsd.org/schools/nikiski-middle-high/event/awards-night-nhs-inductions/
LOCATION:52275 Education Drive\, 52801 Nikiski Ave\, Kenai\, AK\, United States
END:VEVENT
BEGIN:VEVENT
DTSTART;TZID=UTC:20241001T180000
DTEND;TZID=UTC:20241001T200000
DTSTAMP:20260421T095539
CREATED:20240827T225111Z
LAST-MODIFIED:20241001T013810Z
UID:12204-1727805600-1727812800@kpbsd.org
SUMMARY:University of Alaska- South East
DESCRIPTION:Site: Nikiski High School\nSubsite: Commons
URL:https://kpbsd.org/schools/nikiski-middle-high/event/university-of-alaska-south-east/
LOCATION:52275 Education Drive\, 52801 Nikiski Ave\, Kenai\, AK\, United States
END:VEVENT
BEGIN:VEVENT
DTSTART;TZID=UTC:20241001T230000
DTEND;TZID=UTC:20241002T020000
DTSTAMP:20260421T095539
CREATED:20240514T190923Z
LAST-MODIFIED:20241002T015104Z
UID:11053-1727823600-1727834400@kpbsd.org
SUMMARY:Coed 6/7/8th Soccer vs Skyview Middle School
DESCRIPTION:Sport: Soccer\nLevel: Coed 6/7/8th\nTeam: Nikiski High School\nSite: Nikiski High School\nSubsite: Practice Field
URL:https://kpbsd.org/schools/nikiski-middle-high/event/coed-6-7-8th-soccer-vs-skyview-middle-school-3/
LOCATION:52275 Education Drive\, 52801 Nikiski Ave\, Kenai\, AK\, United States
END:VEVENT
END:VCALENDAR