BEGIN:VCALENDAR
VERSION:2.0
PRODID:-//Nikiski Middle &amp; High School - ECPv6.8.2//NONSGML v1.0//EN
CALSCALE:GREGORIAN
METHOD:PUBLISH
X-ORIGINAL-URL:https://kpbsd.org/schools/nikiski-middle-high
X-WR-CALDESC:Events for Nikiski Middle &amp; High School
REFRESH-INTERVAL;VALUE=DURATION:PT1H
X-Robots-Tag:noindex
X-PUBLISHED-TTL:PT1H
BEGIN:VTIMEZONE
TZID:UTC
BEGIN:STANDARD
TZOFFSETFROM:+0000
TZOFFSETTO:+0000
TZNAME:UTC
DTSTART:20240101T000000
END:STANDARD
END:VTIMEZONE
BEGIN:VEVENT
DTSTART;TZID=UTC:20241001T230000
DTEND;TZID=UTC:20241002T020000
DTSTAMP:20260420T144602
CREATED:20240514T190923Z
LAST-MODIFIED:20241002T015104Z
UID:11053-1727823600-1727834400@kpbsd.org
SUMMARY:Coed 6/7/8th Soccer vs Skyview Middle School
DESCRIPTION:Sport: Soccer\nLevel: Coed 6/7/8th\nTeam: Nikiski High School\nSite: Nikiski High School\nSubsite: Practice Field
URL:https://kpbsd.org/schools/nikiski-middle-high/event/coed-6-7-8th-soccer-vs-skyview-middle-school-3/
LOCATION:52275 Education Drive\, 52801 Nikiski Ave\, Kenai\, AK\, United States
END:VEVENT
BEGIN:VEVENT
DTSTART;TZID=UTC:20241002T000000
DTEND;TZID=UTC:20241002T010000
DTSTAMP:20260420T144602
CREATED:20240912T185114Z
LAST-MODIFIED:20241001T013811Z
UID:12406-1727827200-1727830800@kpbsd.org
SUMMARY:Girls Freshman Volleyball vs Cook Inlet Academy
DESCRIPTION:Sport: Volleyball\nLevel: Girls Freshman\nTeam: Nikiski High School\nSite: Nikiski High School\nSubsite: Nikiski High School
URL:https://kpbsd.org/schools/nikiski-middle-high/event/girls-freshman-volleyball-vs-cook-inlet-academy/
LOCATION:52275 Education Dr\, 52801 Nikiski Ave\, Kenai\, AK\, United States
END:VEVENT
BEGIN:VEVENT
DTSTART;TZID=UTC:20241002T010000
DTEND;TZID=UTC:20241002T023000
DTSTAMP:20260420T144602
CREATED:20240912T185114Z
LAST-MODIFIED:20241002T015104Z
UID:12403-1727830800-1727836200@kpbsd.org
SUMMARY:Girls JV Volleyball vs Cook Inlet Academy
DESCRIPTION:Sport: Volleyball\nLevel: Girls JV\nTeam: Nikiski High School\nSite: Nikiski High School\nSubsite: Nikiski High School
URL:https://kpbsd.org/schools/nikiski-middle-high/event/girls-jv-volleyball-vs-cook-inlet-academy/
LOCATION:52275 Education Dr\, 52801 Nikiski Ave\, Kenai\, AK\, United States
END:VEVENT
BEGIN:VEVENT
DTSTART;TZID=UTC:20241002T223000
DTEND;TZID=UTC:20241002T233000
DTSTAMP:20260420T144602
CREATED:20240514T190923Z
LAST-MODIFIED:20241002T015104Z
UID:11056-1727908200-1727911800@kpbsd.org
SUMMARY:First HS Wr estlingPractice
DESCRIPTION:Site: Nikiski High School\nSubsite: Commons
URL:https://kpbsd.org/schools/nikiski-middle-high/event/first-hs-wr-estlingpractice/
LOCATION:52275 Education Drive\, 52801 Nikiski Ave\, Kenai\, AK\, United States
END:VEVENT
END:VCALENDAR