BEGIN:VCALENDAR
VERSION:2.0
PRODID:-//Nikiski Middle &amp; High School - ECPv6.8.2//NONSGML v1.0//EN
CALSCALE:GREGORIAN
METHOD:PUBLISH
X-WR-CALNAME:Nikiski Middle &amp; High School
X-ORIGINAL-URL:https://kpbsd.org/schools/nikiski-middle-high
X-WR-CALDESC:Events for Nikiski Middle &amp; High School
REFRESH-INTERVAL;VALUE=DURATION:PT1H
X-Robots-Tag:noindex
X-PUBLISHED-TTL:PT1H
BEGIN:VTIMEZONE
TZID:UTC
BEGIN:STANDARD
TZOFFSETFROM:+0000
TZOFFSETTO:+0000
TZNAME:UTC
DTSTART:20240101T000000
END:STANDARD
END:VTIMEZONE
BEGIN:VEVENT
DTSTART;TZID=UTC:20241030T000000
DTEND;TZID=UTC:20241030T010000
DTSTAMP:20260424T093840
CREATED:20240523T043723Z
LAST-MODIFIED:20241029T033557Z
UID:11563-1730246400-1730250000@kpbsd.org
SUMMARY:Girls Freshman Volleyball @ Soldotna High School
DESCRIPTION:Sport: Volleyball\nLevel: Girls Freshman\nTeam: Nikiski High School\nSite: Soldotna High School\nSubsite: Gym
URL:https://kpbsd.org/schools/nikiski-middle-high/event/girls-freshman-volleyball-soldotna-high-school-3/
LOCATION:425 W Marydale Ave\, Soldotna\, AK\, United States
END:VEVENT
BEGIN:VEVENT
DTSTART;TZID=UTC:20241030T010000
DTEND;TZID=UTC:20241030T020000
DTSTAMP:20260424T093840
CREATED:20240523T043722Z
LAST-MODIFIED:20241029T033557Z
UID:11560-1730250000-1730253600@kpbsd.org
SUMMARY:Girls JV Volleyball @ Soldotna High School
DESCRIPTION:Sport: Volleyball\nLevel: Girls JV\nTeam: Nikiski High School\nSite: Soldotna High School\nSubsite: Gym
URL:https://kpbsd.org/schools/nikiski-middle-high/event/girls-jv-volleyball-soldotna-high-school-3/
LOCATION:425 W Marydale Ave\, Soldotna\, AK\, United States
END:VEVENT
BEGIN:VEVENT
DTSTART;TZID=UTC:20241030T023000
DTEND;TZID=UTC:20241030T033000
DTSTAMP:20260424T093840
CREATED:20240522T192030Z
LAST-MODIFIED:20241029T033557Z
UID:11538-1730255400-1730259000@kpbsd.org
SUMMARY:Girls Varsity Volleyball @ Soldotna High School
DESCRIPTION:Sport: Volleyball\nLevel: Girls Varsity\nTeam: Nikiski High School\nSite: Soldotna High School\nSubsite: Gym
URL:https://kpbsd.org/schools/nikiski-middle-high/event/girls-varsity-volleyball-soldotna-high-school-3/
LOCATION:425 W Marydale Ave\, Soldotna\, AK\, United States
END:VEVENT
END:VCALENDAR