BEGIN:VCALENDAR
VERSION:2.0
PRODID:-//Nikiski Middle &amp; High School - ECPv6.8.2//NONSGML v1.0//EN
CALSCALE:GREGORIAN
METHOD:PUBLISH
X-WR-CALNAME:Nikiski Middle &amp; High School
X-ORIGINAL-URL:https://kpbsd.org/schools/nikiski-middle-high
X-WR-CALDESC:Events for Nikiski Middle &amp; High School
REFRESH-INTERVAL;VALUE=DURATION:PT1H
X-Robots-Tag:noindex
X-PUBLISHED-TTL:PT1H
BEGIN:VTIMEZONE
TZID:UTC
BEGIN:STANDARD
TZOFFSETFROM:+0000
TZOFFSETTO:+0000
TZNAME:UTC
DTSTART:20240101T000000
END:STANDARD
END:VTIMEZONE
BEGIN:VEVENT
DTSTART;TZID=UTC:20241113T000000
DTEND;TZID=UTC:20241113T013000
DTSTAMP:20260421T110750
CREATED:20241016T022554Z
LAST-MODIFIED:20241112T030624Z
UID:12697-1731456000-1731461400@kpbsd.org
SUMMARY:Girls 7/8/9th Basketball vs Skyview Middle School
DESCRIPTION:Sport: Basketball\nLevel: Girls 7/8/9th\nTeam: Nikiski High School\nSite: Nikiski High School\nSubsite: Gym
URL:https://kpbsd.org/schools/nikiski-middle-high/event/girls-7-8-9th-basketball-vs-skyview-middle-school-2/
LOCATION:52275 Education Drive\, 52801 Nikiski Ave\, Kenai\, AK\, United States
END:VEVENT
BEGIN:VEVENT
DTSTART;TZID=UTC:20241113T000000
DTEND;TZID=UTC:20241113T030000
DTSTAMP:20260421T110750
CREATED:20240514T190929Z
LAST-MODIFIED:20241015T022329Z
UID:11074-1731456000-1731466800@kpbsd.org
SUMMARY:Coed 6/7/8th Basketball vs Skyview Middle School
DESCRIPTION:Sport: Basketball\nLevel: Coed 6/7/8th\nTeam: Nikiski High School\nSite: Nikiski High School\nSubsite: Gym
URL:https://kpbsd.org/schools/nikiski-middle-high/event/coed-6-7-8th-basketball-vs-skyview-middle-school-5/
LOCATION:52275 Education Drive\, 52801 Nikiski Ave\, Kenai\, AK\, United States
END:VEVENT
BEGIN:VEVENT
DTSTART;TZID=UTC:20241113T013000
DTEND;TZID=UTC:20241113T030000
DTSTAMP:20260421T110750
CREATED:20241016T022554Z
LAST-MODIFIED:20241112T030624Z
UID:12694-1731461400-1731466800@kpbsd.org
SUMMARY:Boys 7/8th Basketball vs Skyview Middle School
DESCRIPTION:Sport: Basketball\nLevel: Boys 7/8th\nTeam: Nikiski High School\nSite: Nikiski High School\nSubsite: Gym
URL:https://kpbsd.org/schools/nikiski-middle-high/event/boys-7-8th-basketball-vs-skyview-middle-school-2/
LOCATION:PO Box 7112\, Nikiski\, AK\, United States
END:VEVENT
END:VCALENDAR