BEGIN:VCALENDAR
VERSION:2.0
PRODID:-//Nikiski Middle &amp; High School - ECPv6.8.2//NONSGML v1.0//EN
CALSCALE:GREGORIAN
METHOD:PUBLISH
X-ORIGINAL-URL:https://kpbsd.org/schools/nikiski-middle-high
X-WR-CALDESC:Events for Nikiski Middle &amp; High School
REFRESH-INTERVAL;VALUE=DURATION:PT1H
X-Robots-Tag:noindex
X-PUBLISHED-TTL:PT1H
BEGIN:VTIMEZONE
TZID:UTC
BEGIN:STANDARD
TZOFFSETFROM:+0000
TZOFFSETTO:+0000
TZNAME:UTC
DTSTART:20240101T000000
END:STANDARD
END:VTIMEZONE
BEGIN:VEVENT
DTSTART;TZID=UTC:20241204T233000
DTEND;TZID=UTC:20241205T003000
DTSTAMP:20260421T103335
CREATED:20240514T190931Z
LAST-MODIFIED:20241204T081704Z
UID:11110-1733355000-1733358600@kpbsd.org
SUMMARY:First HS Basketball Practice
DESCRIPTION:Site: Nikiski High School\nSubsite: Gym
URL:https://kpbsd.org/schools/nikiski-middle-high/event/first-hs-basketball-practice/
LOCATION:52275 Education Drive\, 52801 Nikiski Ave\, Kenai\, AK\, United States
END:VEVENT
END:VCALENDAR