BEGIN:VCALENDAR
VERSION:2.0
PRODID:-//Nikiski Middle &amp; High School - ECPv6.8.2//NONSGML v1.0//EN
CALSCALE:GREGORIAN
METHOD:PUBLISH
X-ORIGINAL-URL:https://kpbsd.org/schools/nikiski-middle-high
X-WR-CALDESC:Events for Nikiski Middle &amp; High School
REFRESH-INTERVAL;VALUE=DURATION:PT1H
X-Robots-Tag:noindex
X-PUBLISHED-TTL:PT1H
BEGIN:VTIMEZONE
TZID:UTC
BEGIN:STANDARD
TZOFFSETFROM:+0000
TZOFFSETTO:+0000
TZNAME:UTC
DTSTART:20240101T000000
END:STANDARD
TZID:America/Anchorage
BEGIN:DAYLIGHT
TZOFFSETFROM:-0900
TZOFFSETTO:-0800
TZNAME:AKDT
DTSTART:20240310T110000
END:DAYLIGHT
BEGIN:STANDARD
TZOFFSETFROM:-0800
TZOFFSETTO:-0900
TZNAME:AKST
DTSTART:20241103T100000
END:STANDARD
END:VTIMEZONE
BEGIN:VEVENT
DTSTART;TZID=UTC:20241213T030000
DTEND;TZID=UTC:20241213T040000
DTSTAMP:20260421T041718
CREATED:20241114T030851Z
LAST-MODIFIED:20241204T081705Z
UID:13534-1734058800-1734062400@kpbsd.org
SUMMARY:FFA Parent/Student Meeting
DESCRIPTION:Site: Nikiski High School\nSubsite: Commons
URL:https://kpbsd.org/schools/nikiski-middle-high/event/ffa-parent-student-meeting/
LOCATION:52275 Education Drive\, 52801 Nikiski Ave\, Kenai\, AK\, United States
END:VEVENT
BEGIN:VEVENT
DTSTART;TZID=America/Anchorage:20241213T080000
DTEND;TZID=America/Anchorage:20241213T170000
DTSTAMP:20260421T041718
CREATED:20240516T131133Z
LAST-MODIFIED:20241213T160511Z
UID:11421-1734076800-1734109200@kpbsd.org
SUMMARY:Early Release
DESCRIPTION:
URL:https://kpbsd.org/schools/nikiski-middle-high/event/early-release-43/
LOCATION:AK
CATEGORIES:Districtwide Calendar
END:VEVENT
BEGIN:VEVENT
DTSTART;TZID=UTC:20241213T090100
DTEND;TZID=UTC:20241214T090100
DTSTAMP:20260421T041718
CREATED:20240228T015722Z
LAST-MODIFIED:20241204T081705Z
UID:10177-1734080460-1734166860@kpbsd.org
SUMMARY:Kachemak Conference Tournament
DESCRIPTION:Games:\nSport: Wrestling\nLevel: Coed Varsity\nTeam: Nikiski High School
URL:https://kpbsd.org/schools/nikiski-middle-high/event/kachemak-conference-tournament/
LOCATION:AK
END:VEVENT
BEGIN:VEVENT
DTSTART;TZID=UTC:20241213T214500
DTEND;TZID=UTC:20241213T231500
DTSTAMP:20260421T041718
CREATED:20240908T233624Z
LAST-MODIFIED:20241204T081705Z
UID:12356-1734126300-1734131700@kpbsd.org
SUMMARY:Early Release Day
DESCRIPTION:Site: Nikiski High School\nSubsite: Commons
URL:https://kpbsd.org/schools/nikiski-middle-high/event/early-release-day-4/
LOCATION:52275 Education Drive\, 52801 Nikiski Ave\, Kenai\, AK\, United States
END:VEVENT
END:VCALENDAR