BEGIN:VCALENDAR
VERSION:2.0
PRODID:-//Nikiski Middle &amp; High School - ECPv6.8.2//NONSGML v1.0//EN
CALSCALE:GREGORIAN
METHOD:PUBLISH
X-ORIGINAL-URL:https://kpbsd.org/schools/nikiski-middle-high
X-WR-CALDESC:Events for Nikiski Middle &amp; High School
REFRESH-INTERVAL;VALUE=DURATION:PT1H
X-Robots-Tag:noindex
X-PUBLISHED-TTL:PT1H
BEGIN:VTIMEZONE
TZID:UTC
BEGIN:STANDARD
TZOFFSETFROM:+0000
TZOFFSETTO:+0000
TZNAME:UTC
DTSTART:20240101T000000
END:STANDARD
END:VTIMEZONE
BEGIN:VEVENT
DTSTART;TZID=UTC:20241219T090100
DTEND;TZID=UTC:20241221T090100
DTSTAMP:20260420T160450
CREATED:20240308T055343Z
LAST-MODIFIED:20241220T194625Z
UID:10288-1734598860-1734771660@kpbsd.org
SUMMARY:Doc Larson Roundball Classic
DESCRIPTION:Games:\nSport: Basketball\nLevel: Girls Varsity\nTeam: Nikiski High School
URL:https://kpbsd.org/schools/nikiski-middle-high/event/doc-larson-roundball-classic/
LOCATION:AK
END:VEVENT
BEGIN:VEVENT
DTSTART;TZID=UTC:20241220T030000
DTEND;TZID=UTC:20241220T040000
DTSTAMP:20260420T160450
CREATED:20240918T003847Z
LAST-MODIFIED:20241219T193006Z
UID:12473-1734663600-1734667200@kpbsd.org
SUMMARY:NNS Concert
DESCRIPTION:Site: Nikiski High School\nSubsite: Auditorium
URL:https://kpbsd.org/schools/nikiski-middle-high/event/nns-concert-2/
LOCATION:52275 Education Drive\, 52801 Nikiski Ave\, Kenai\, AK\, United States
END:VEVENT
BEGIN:VEVENT
DTSTART;TZID=UTC:20241220T213500
DTEND;TZID=UTC:20241220T230500
DTSTAMP:20260420T160450
CREATED:20241218T190742Z
LAST-MODIFIED:20241220T194624Z
UID:13679-1734730500-1734735900@kpbsd.org
SUMMARY:MS Quarter Celebration
DESCRIPTION:Site: Nikiski High School\nSubsite: Auditorium
URL:https://kpbsd.org/schools/nikiski-middle-high/event/ms-quarter-celebration/
LOCATION:52275 Education Drive\, 52801 Nikiski Ave\, Kenai\, AK\, United States
END:VEVENT
END:VCALENDAR