BEGIN:VCALENDAR
VERSION:2.0
PRODID:-//Nikiski Middle &amp; High School - ECPv6.8.2//NONSGML v1.0//EN
CALSCALE:GREGORIAN
METHOD:PUBLISH
X-ORIGINAL-URL:https://kpbsd.org/schools/nikiski-middle-high
X-WR-CALDESC:Events for Nikiski Middle &amp; High School
REFRESH-INTERVAL;VALUE=DURATION:PT1H
X-Robots-Tag:noindex
X-PUBLISHED-TTL:PT1H
BEGIN:VTIMEZONE
TZID:UTC
BEGIN:STANDARD
TZOFFSETFROM:+0000
TZOFFSETTO:+0000
TZNAME:UTC
DTSTART:20250101T000000
END:STANDARD
END:VTIMEZONE
BEGIN:VEVENT
DTSTART;TZID=UTC:20250111T000000
DTEND;TZID=UTC:20250111T013000
DTSTAMP:20260419T230433
CREATED:20240229T021122Z
LAST-MODIFIED:20250110T013055Z
UID:10207-1736553600-1736559000@kpbsd.org
SUMMARY:Girls JV Basketball @ Seward High School
DESCRIPTION:Sport: Basketball\nLevel: Girls JV\nTeam: Nikiski High School\nSite: Seward High School\nSubsite: Gym
URL:https://kpbsd.org/schools/nikiski-middle-high/event/girls-jv-basketball-seward-high-school-5/
LOCATION:Po Box 1049\, Seward\, AK\, United States
END:VEVENT
BEGIN:VEVENT
DTSTART;TZID=UTC:20250111T013000
DTEND;TZID=UTC:20250111T030000
DTSTAMP:20260419T230433
CREATED:20240229T021122Z
LAST-MODIFIED:20250111T015157Z
UID:10210-1736559000-1736564400@kpbsd.org
SUMMARY:Boys JV Basketball @ Seward High School
DESCRIPTION:Sport: Basketball\nLevel: Boys JV\nTeam: Nikiski High School\nSite: Seward High School\nSubsite: Gym
URL:https://kpbsd.org/schools/nikiski-middle-high/event/boys-jv-basketball-seward-high-school-5/
LOCATION:Po Box 1049\, Seward\, AK\, United States
END:VEVENT
BEGIN:VEVENT
DTSTART;TZID=UTC:20250111T030000
DTEND;TZID=UTC:20250111T043000
DTSTAMP:20260419T230433
CREATED:20240229T021123Z
LAST-MODIFIED:20250111T015157Z
UID:10213-1736564400-1736569800@kpbsd.org
SUMMARY:Girls Varsity Basketball @ Seward High School
DESCRIPTION:Sport: Basketball\nLevel: Girls Varsity\nTeam: Nikiski High School\nSite: Seward High School\nSubsite: Gym
URL:https://kpbsd.org/schools/nikiski-middle-high/event/girls-varsity-basketball-seward-high-school-5/
LOCATION:Po Box 1049\, Seward\, AK\, United States
END:VEVENT
BEGIN:VEVENT
DTSTART;TZID=UTC:20250111T043000
DTEND;TZID=UTC:20250111T060000
DTSTAMP:20260419T230433
CREATED:20240229T021123Z
LAST-MODIFIED:20250111T015157Z
UID:10216-1736569800-1736575200@kpbsd.org
SUMMARY:Boys Varsity Basketball @ Seward High School
DESCRIPTION:Sport: Basketball\nLevel: Boys Varsity\nTeam: Nikiski High School\nSite: Seward High School\nSubsite: Gym
URL:https://kpbsd.org/schools/nikiski-middle-high/event/boys-varsity-basketball-seward-high-school-5/
LOCATION:Po Box 1049\, Seward\, AK\, United States
END:VEVENT
END:VCALENDAR